BEGIN:VCALENDAR
VERSION:2.0
PRODID:-//https://techplay.jp//JP
CALSCALE:GREGORIAN
METHOD:PUBLISH
X-WR-CALDESC:[セミナーのご案内] [5/24 開催] Akamai Primary School
  Lunaポータル基礎編
X-WR-CALNAME:[セミナーのご案内] [5/24 開催] Akamai Primary School
  Lunaポータル基礎編
X-WR-TIMEZONE:Asia/Tokyo
BEGIN:VTIMEZONE
TZID:Asia/Tokyo
BEGIN:STANDARD
DTSTART:19700101T000000
TZOFFSETFROM:+0900
TZOFFSETTO:+0900
TZNAME:JST
END:STANDARD
END:VTIMEZONE
BEGIN:VEVENT
UID:670670@techplay.jp
SUMMARY:[セミナーのご案内] [5/24 開催] Akamai Primary School Luna
 ポータル基礎編
DTSTART;TZID=Asia/Tokyo:20180524T170000
DTEND;TZID=Asia/Tokyo:20180524T183000
DTSTAMP:20260421T113016Z
CREATED:20180425T063511Z
DESCRIPTION:イベント詳細はこちら\nhttps://techplay.jp/event/67067
 0?utm_medium=referral&utm_source=ics&utm_campaign=ics\n\n[セミナーの
 ご案内] [5/24 開催] Akamai Primary School Lunaポータル基礎編\
 n\n\n\nお申し込みサイト\n\nhttps://content.akamai.com/jp-ja-ME107
 22-akamai-primary-school-luna.html\n\n概要\n\nAkamai Primary Schoolで
 は、アカマイが有するテクノロジーの基礎から応用ま
 でじっくりカバーするとともに、アカマイに関連する
 技術分野で旬な情報を提供し、弊社技術者と皆様との
 活発なコミュニケーションの促進を目指していきます
 。\n\n今回はAkamai のサービス / 製品 / プラットフォー
 ムに統合されたインターフェースである Luna Control Cente
 r をご案内いたします。\n\nLunaは、企業が最高のオンラ
 イン体験を提供するために必要とするアクセス / イン
 サイト、そして管理機能を提供します\n\nぜひご参加く
 ださい。\n\nプログラム\n\n「Lunaポータル基礎編 ～デモ
 によるご紹介〜」\n　・LUNA Control Center 概要\n　・サポ
 ートへのお問い合わせ方法\n　・各種トラフィックレ
 ポートの閲覧\n　・請求対象のトラフィックレポート 
 （請求センター）\n　・ユーザ及び権限の管理\n　・キ
 ャッシュ削除・無効化\n　・アラート設定\n\n開催概要\
 n\n日時：2018年5月24日（木）17:00-18:30 （受付開始16:30）\
 n会場：アカマイ東京オフィス\n　　　東京都中央区京
 橋2-1-3 京橋トラストタワー6F\n対象：アカマイ・ソリュ
 ーションにご興味のあるお客様\n　　　ご利用中のお
 客様\n　　　パートナー各社\n参加費：無料（要事前登
 録）\n\n\n※上記の内容は予告なく変更となる場合がご
 ざいますので予めご了承ください。\n\n当日はPCをご持
 参いただき、ご自身のアカウントでLunaポータルにログ
 インしていただいた上で操作していただきますと理解
 がより深まるかと存じます。\n\n※申し訳ございません
 が、Wi-FiとPCのご用意はございませんので、ご注意くだ
 さい。\n\nなお、配信設定に関する内容は含まれており
 ません。\n\nお申し込みサイト\n\nhttps://content.akamai.com/jp
 -ja-ME10722-akamai-primary-school-luna.html\n
LOCATION:
URL:https://techplay.jp/event/670670?utm_medium=referral&utm_source=ics&utm
 _campaign=ics
END:VEVENT
END:VCALENDAR
