BEGIN:VCALENDAR
VERSION:2.0
PRODID:-//https://techplay.jp//JP
CALSCALE:GREGORIAN
METHOD:PUBLISH
X-WR-CALDESC:【大阪開催】6/8（金）業種・職種の限定なし
 ！ビジネス交流会《ベンチャー企業によるプレゼン会
 も実施》
X-WR-CALNAME:【大阪開催】6/8（金）業種・職種の限定なし
 ！ビジネス交流会《ベンチャー企業によるプレゼン会
 も実施》
X-WR-TIMEZONE:Asia/Tokyo
BEGIN:VTIMEZONE
TZID:Asia/Tokyo
BEGIN:STANDARD
DTSTART:19700101T000000
TZOFFSETFROM:+0900
TZOFFSETTO:+0900
TZNAME:JST
END:STANDARD
END:VTIMEZONE
BEGIN:VEVENT
UID:672925@techplay.jp
SUMMARY:【大阪開催】6/8（金）業種・職種の限定なし！ビ
 ジネス交流会《ベンチャー企業によるプレゼン会も実
 施》
DTSTART;TZID=Asia/Tokyo:20180608T190000
DTEND;TZID=Asia/Tokyo:20180608T203000
DTSTAMP:20260421T065556Z
CREATED:20180509T055412Z
DESCRIPTION:イベント詳細はこちら\nhttps://techplay.jp/event/67292
 5?utm_medium=referral&utm_source=ics&utm_campaign=ics\n\n業種・職種
 の限定なし！ビジネス交流会＠大阪 ベンチャー企業に
 よるプレゼン会も実施\n\n概要\n\n６月８日(金)に、一般
 社団法人グローバル･ベンチャー協会の主催で、\n\nベ
 ンチャー企業ピッチプレゼン会＆ビジネス交流会を開
 催致します。\n\n上場企業のＩＴおよび経営企画部門担
 当者や資金調達(ＩＰＯ、ＩＣＯ)希望のベンチャー経
 営者、金融機関の方、ＶＣなど多数、ご参加予定です
 。\n\nぜひお気軽にご参加ください。\n\nタイムスケジ
 ュール\n\n１９：００～　大阪ビジネス交流会　≪参加
 費￥１\,０００円税込み≫\n\n　　　　　　　・グロー
 バルベンチャー協会ご挨拶\n\n　　　　　　　・ベンチ
 ャー企業プレゼン(３社予定)\n\n　　　　　　　　(企業
 紹介、商品サービス案内、資金調達希望など)\n\n　　
 　　　　　・協会のご案内\n\n　　　　　　　・名刺交
 換会\n　\n\n　　　　　　　　(上場企業とベンチャー企
 業のマッチング、名刺交換)\n\n２０：３０～　懇親会
 　≪実費≫\n\n　　　　　　　　(参加ご希望の皆様で
 、近隣の飲食店で交流会を実施します)　\n\n　　　　
 　　　　\n\n＊どちらかのイベントのみの参加、ビジネ
 ス交流会からの参加など途中参加・退場もOK\n\n※ 当日
 予告なく時間配分・内容が変更になる可能性がござい
 ます。\n\nビジネス交流会 参加費\n\n社会人の方\n\nおひ
 とり様１，０００円 （当日現金支払い/カード不可）\n
 \n定員\n\n４０名様（先着順）\n\n◇ご希望者には、１人
 1分間プレゼンの場が御座います！\n\n◇名刺をお持ち
 の方は受付で頂戴します\n\n主催者\n\n一般社団法人グ
 ローバル･ベンチャー協会\n\n注意事項\n\nリクルーテ
 ィング、勧誘、採用活動、人の話を聞かないなど、目
 的に沿わない行為につきまして、主催者が相応しくな
 いと判断した場合は即刻退出処分とします。\n\n全員が
 気持ちよく過ごすことが出来るよう、ご協力をお願い
 致します。\n
LOCATION:エル・おおさか南館　南７５会議室  大阪府大阪
 市中央区北浜東３－１４　エル・おおさか７F 
URL:https://techplay.jp/event/672925?utm_medium=referral&utm_source=ics&utm
 _campaign=ics
END:VEVENT
END:VCALENDAR
