BEGIN:VCALENDAR
VERSION:2.0
PRODID:-//https://techplay.jp//JP
CALSCALE:GREGORIAN
METHOD:PUBLISH
X-WR-CALDESC:【開講前最終】ディープラーニング協会認定
 プログラム6月開講！無料説明会@名古屋
X-WR-CALNAME:【開講前最終】ディープラーニング協会認定
 プログラム6月開講！無料説明会@名古屋
X-WR-TIMEZONE:Asia/Tokyo
BEGIN:VTIMEZONE
TZID:Asia/Tokyo
BEGIN:STANDARD
DTSTART:19700101T000000
TZOFFSETFROM:+0900
TZOFFSETTO:+0900
TZNAME:JST
END:STANDARD
END:VTIMEZONE
BEGIN:VEVENT
UID:673734@techplay.jp
SUMMARY:【開講前最終】ディープラーニング協会認定プロ
 グラム6月開講！無料説明会@名古屋
DTSTART;TZID=Asia/Tokyo:20180603T140000
DTEND;TZID=Asia/Tokyo:20180603T153000
DTSTAMP:20260420T043932Z
CREATED:20180513T195844Z
DESCRIPTION:イベント詳細はこちら\nhttps://techplay.jp/event/67373
 4?utm_medium=referral&utm_source=ics&utm_campaign=ics\n\n内容概要\n\n
 本イベントは、日本初のディープラーニング協会認定
 プログラム『現場で使えるディープラーニング基礎講
 座＠名古屋』の説明会です。普段は東京で開催してい
 ます。講座に関して、お話しいたします。\n\n更新情報
 はこちら をフォローいただければと思います。\n\nま
 た、各事項が決まり次第、随時更新いたします。\nhttps
 ://www.skillupai.com/deep-learning\n\nまた、5/12は、協会担当者
 が直接来場予定ですので、E資格（G検定）についても
 、直接ご質問いただける機会となっております。\nhttps
 ://skillupai-nagoya.connpass.com/event/86197/\n\n本講座の概要\n\n
 ​本講座は、ディープラーニングの基礎・原理を理解
 し、ディープラーニングを支える最先端の技術を実装
 レベルでマスターすることをゴールとした講座です。\
 n\n高度なDeep Learning（DL）技術者の証明であるディープ
 ラーニング協会のE資格（直近は8月実施予定）の受験
 に必要な、協会認定の講座プログラムに対応していま
 す。E検定を受験するためには、本プログラムの受講（
 一定回数以上の出席）と、講義最終日に実施する修了
 試験（不合格の場合は、有料にて再試験可能）に合格
 する必要があります。\n\n開講の背景と講座のゴール\n\
 n第3次AIブームを牽引してきたディープラーニング（深
 層学習）は、様々な産業での応用事例が喧伝され、デ
 ータ分析に関わる人以外も知る一般的な言葉となって
 きました。​\n\n近頃では数式を用いないで説明を試み
 る書籍の出版であったり、外部のライブラリに頼れば
 、原理を理解せずとも動くものが作れるなど、"ディー
 プラーニングの民主化"は加速しています。\n\nこうし
 た民主化の流れの中では、ディープラーニングについ
 て全く知らなくてよい利用者と、原理を理解し、実装
 力のあるスペシャリストの二極化が進むと考えられ、
 今ディープラーニングを学ぶのであれば、基礎から体
 系的に学び、スペシャリストを目指すことが、唯一の
 ゴールではないかと思います。\n\n上記理由から、本プ
 ログラムは、単なる資格合格のための講座ではなく、
 あくまで実務者としてのスキルアップを目指す講座と
 し、DLフレームワークの利用だけで終わらない構造的
 理解を目指すハンズオン重視の設計としています。\n\n
 実践的なハンズオンを中心とした演習、毎回の理解度
 チェック、講師のオンラインでの質問対応など、様々
 な角度からのスキルアップが可能です。\n\nカリキュラ
 ム\n\n・講座紹介\n・質疑応答\n\n対象者\n\n・受講をお
 考えの方\n\n会場へのアクセス方法\n\n直接会議室にお
 越しください。\n\n備考\n\n\n勉強会内容を撮影もしくは
 録音することは、ご遠慮ください\n個人ブログへの記
 述については、良識の範囲内でお願いいたします\n\n\n
 運営団体\n\nhttps://www.skillupai.com/\n
LOCATION:藤田ビル2階　第6会議室 愛知県名古屋市中区栄1-5
 -8　藤田ビル 2F 第５会議室
URL:https://techplay.jp/event/673734?utm_medium=referral&utm_source=ics&utm
 _campaign=ics
END:VEVENT
END:VCALENDAR
