BEGIN:VCALENDAR
VERSION:2.0
PRODID:-//https://techplay.jp//JP
CALSCALE:GREGORIAN
METHOD:PUBLISH
X-WR-CALDESC:React Native Meetup #8
X-WR-CALNAME:React Native Meetup #8
X-WR-TIMEZONE:Asia/Tokyo
BEGIN:VTIMEZONE
TZID:Asia/Tokyo
BEGIN:STANDARD
DTSTART:19700101T000000
TZOFFSETFROM:+0900
TZOFFSETTO:+0900
TZNAME:JST
END:STANDARD
END:VTIMEZONE
BEGIN:VEVENT
UID:673961@techplay.jp
SUMMARY:React Native Meetup #8
DTSTART;TZID=Asia/Tokyo:20180622T190000
DTEND;TZID=Asia/Tokyo:20180622T220000
DTSTAMP:20260425T025048Z
CREATED:20180514T140337Z
DESCRIPTION:イベント詳細はこちら\nhttps://techplay.jp/event/67396
 1?utm_medium=referral&utm_source=ics&utm_campaign=ics\n\nReact Native Mee
 tup #8\n第八回目の開催となります！！（前回）\nReact Nai
 tve触るきっかけが欲しいかたや、すでにバリバリ触っ
 ている方まで、React Naitveに興味がある人なら誰でもご
 参加ください！\nまだまだ知見が足りないのでここで
 横のつながりを作っていただき、情報交換をバンバン
 行なっていただけますと幸いです！\nみなさまのご参
 加心よりお待ちしております！！！\nグループ作りま
 した！！！\nもしよろしければお入りください！！\n情
 報共有や質問等をいただけますと幸いです。\nFB: https:/
 /www.facebook.com/groups/1722053778010342/\nslack: https://slackin-guqupv
 lbzk.now.sh/\nslackはメールアドレスを入力して頂き、「GET
  MY INVITE」をクリックすると招待メールが飛びますので
 メールに従ってjoinしてください。\n発表について\n発
 表者の方は必ずslackにジョインしてください。  \n発表
 に関する問い合わせ・連絡はslackにて行います！\nチャ
 ンネルは\n#react-native-meetup8\nとなっております！  \n発
 表申し込み方法はslackの#react-native-meetup8にて発表タイ
 トルと共に、お申し込みください。\nconnpassページの申
 し込みは人数を表示させるためのもので、発表の申し
 込みをするものではありませんのでご了承ください。\
 n開催場所\nfreee株式会社\n所在地\n東京都品川区西五反
 田2-8-1 (五反田ファーストビル 9F)\n発表時間\n\n発表：20
 分\nLT発表：10分\n\n上記を想定しています！\nあくまで
 目安ですので、ご要望がございましたら、お申し付け
 ください！\nまた一般発表、LT発表ともに\n\n発表時間
 終了の3分前に1回目\n発表時間終了の1分前に2回目\n発
 表時間終了時に3回目\n\nのベルを鳴らしますので、時
 間厳守にご協力いただけますと幸いです！\nタイムテ
 ーブル\n\n\n\n時間\nタイトル\n発表者\n\n\n\n\n19:00\n会場
 ＆受付開始\n\n\n\n19:30 - 19:35\nオープニング・会場説明\n
 @DotEarl\n\n\n19:35 - 19:55\nReactNative + Redux + NativeBaseでつくる
 サンプル実装をのぞく\n@fumiyasac\n\n\n19:55 - 20:05\n現状確
 認\n@janus_wel\n\n\n20:05 - 20:15\nTypeScriptでreact-native-i18nを型
 安全に扱う\n@hotchemi\n\n\n20:15 - 20:25\nexpo縛りで旅アプリ&
 ハッカソン出場していく\n@hiroga_cc\n\n\n20:25 - 20:35\nデザ
 インガイドラインを作るWebサービスを作っている話\n@s
 awa_zen\n\n\n20:35 - 20:40\nスポンサーLT（Togetter）\n\n\n\n20:40 
 - 20:45\nスポンサーLT（ファームノート）\n\n\n\n20:50 - 20:5
 5\nスポンサーLT（FACTBASE）\n\n\n\n20:55 - 21:00\nスポンサーL
 T（Forkwell）\n\n\n\n21:00 - 22:30\n懇親会\n\n\n\n\nスポンサー
 企業様\nトゥギャッター株式会社\nhttp://togetter.co.jp/\n\n
 ■採用情報\n\nhttps://bosyu.me/users/tg__dev/wants/1924\nhttps://www
 .wantedly.com/projects/218997\n\n株式会社ファームノート\nhttps
 ://farmnote.jp\n\n■採用情報\n\nhttps://www.wantedly.com/companies/s
 kyarc/projects\n\n株式会社FACTBASE\nhttps://fact-base.io\n\n■採用
 情報\n\nhttps://www.wantedly.com/projects/214632\n\nForkwell（株式
 会社grooves）\nhttps://forkwell.com\n\n■採用情報\n\nhttps://www.
 wantedly.com/projects/202141\nhttps://www.wantedly.com/projects/203097\n
LOCATION:freee株式会社 東京都品川区西五反田2-8-1 (五反田
 ファーストビル 9F)
URL:https://techplay.jp/event/673961?utm_medium=referral&utm_source=ics&utm
 _campaign=ics
END:VEVENT
END:VCALENDAR
