BEGIN:VCALENDAR
VERSION:2.0
PRODID:-//https://techplay.jp//JP
CALSCALE:GREGORIAN
METHOD:PUBLISH
X-WR-CALDESC:YOKOGUSHI　VOL.1　　～交通インフラ各社が仕掛け
 るオープンイノベーションを徹底討論！～
X-WR-CALNAME:YOKOGUSHI　VOL.1　　～交通インフラ各社が仕掛け
 るオープンイノベーションを徹底討論！～
X-WR-TIMEZONE:Asia/Tokyo
BEGIN:VTIMEZONE
TZID:Asia/Tokyo
BEGIN:STANDARD
DTSTART:19700101T000000
TZOFFSETFROM:+0900
TZOFFSETTO:+0900
TZNAME:JST
END:STANDARD
END:VTIMEZONE
BEGIN:VEVENT
UID:674288@techplay.jp
SUMMARY:YOKOGUSHI　VOL.1　　～交通インフラ各社が仕掛ける
 オープンイノベーションを徹底討論！～
DTSTART;TZID=Asia/Tokyo:20180621T190000
DTEND;TZID=Asia/Tokyo:20180621T210000
DTSTAMP:20260419T205233Z
CREATED:20180516T053742Z
DESCRIPTION:イベント詳細はこちら\nhttps://techplay.jp/event/67428
 8?utm_medium=referral&utm_source=ics&utm_campaign=ics\n\n\n\n◆概要\n\
 n「企業内部と外部のアイデア・技術を組み合わせるこ
 とで、革新的で新しい価値を創り出す」イノベーショ
 ン手法、オープンイノベーションが騒がれ始めた昨今
 。各界の雄たちが続々と動き始めている。\n『YOKOGUSHI
 』プロジェクトは、そんな同業界の雄が集い、それぞ
 れの仕掛けや狙いをディスカッション形式でお届けし
 ます。\n\n登壇企業との共創を希望するスタートアップ
 の皆さまや、テーマ業界にて事業を考えられている企
 業さま、是非ご参加ください。\n\n第一回目のテーマは
 、『交通インフラ』。\n\n\n【YOKOGUSHI　VOL.1　～交通イ
 ンフラ各社が仕掛けるオープンイノベーションを徹底
 討論！～】\n\n●日時：6月21日(木)19:00～（受付開始18:30
 ）\n\n●場所：SPACES\n\n●アクセス：大手町駅直結ビル
 　大手町ビル1階\n\n●参加費（飲食費　1500円）　※当
 日受付で頂戴致します。\n\n●お持ち物　\n\n名刺　　
 ※当日受付で頂戴致します。\n\n当日スケジュール\n\n18
 :30 　受付開始\n\n19:00-19:15   　各社紹介\n\n19:15-20:30　パ
 ネルディスカッション\n\n20:30-21:15 　ネットワーキング
 \n\n■登壇者紹介\n\n\n\n東京地下鉄株式会社　\n\n経営企
 画本部　企業価値創造部　\n\n課長補佐　中村友香氏\n\
 n2009年に東京地下鉄（東京メトロ）に入社。財務部に
 て資金調達や企業年金運用などの業務に約７年間携わ
 る。経営管理部に異動ののち、2016年に産休・育休を取
 得。2017年に復職後、現在の部署でアクセラレータープ
 ログラム事務局を担当。\nスタートアップの皆さんと
 の関わりの中で、「ザ・メトロ」であった自身の価値
 観が大きく変わる。若手時代に飲みニケーションで培
 った社内人脈をフル活用しながら、オープンイノベー
 ション文化を社内に浸透させるべく奮闘中。\n\n\n\n\n\nJ
 R 東日本スタートアップ株式会社\n\n営業推進部　\n\nマ
 ネージャー　阿久津智紀氏\n\n2017年からJR東日本グルー
 プのアクセラレーションプログラム「JR東日本スター
 トアッププログラム」を立ち上げ。\n2018年2月にJR東日
 本100％出資のコーポレートベンチャーキャピタル「JR
 東日本スタートアップ株式会社」の設立を担当し\n現
 在、出資業務とプログラムの運営を担当。\n経歴は、
 自動販売機ビジネス、青森での地域活性化、JRのグル
 ープ共通ポイント「JREポイント」の立ち上げ等、主に
 新規事業がメイン。\n\n\n\n\n\n京浜急行電鉄株式会社　\
 n\n新規事業企画室　\n\n主査　橋本 雄太氏\n\n大学卒業
 後、大手新聞社、外資系コンサルティングファームを
 経て、2017年4月より現職。\nオープンイノベーションに
 よる新規事業創出を目標に、「KEIKYUアクセラレーター
 」プログラムを立ち上げ、運営。\nその他、ベンチャ
 ー出資枠を新設するなど、同社におけるオープンイノ
 ベーションを推進している。\n\n\n\n■モデレーター紹
 介\n\n\n\n東京急行電鉄株式会社　\n\n事業開発室 プロジ
 ェクト推進部 イノベーション推進課　\n\n課長補佐　
 加藤 由将氏\n\n2004年入社。経理業務に携わった後、社
 内新規事業の立ち上げの際にチームにアサインされ、
 コンセプト作りから実施・運営まで一貫して携わり、
 イントレプレナーとしてスタートを切る。この間、MBA
 でイントレプレナーについて学び、理解を深めていく
 。その後、2015年に「東急アクセラレートプログラム」
 を始動させ、現在に至る。\n\n\n\n参加対象\n\n●テーマ
 業界で共創を検討しているスタートアップやパートナ
 ー企業\n\n●新規事業に関わるプロジェクトリーダー、
 メンバー\n\n●イノベーション部門の責任者、リーダー
 、メンバー\n\n主催\n\nオープンイノベーションプラッ
 トフォーム『eiicon』\n\n\n\neiiconへ☞\n\nロケーションス
 ポンサー\n\n日本リージャス\n\n詳細はコチラから\n\n
LOCATION:SPACES 〒100-0004　東京都千代田区大手町  1－6－1　
 大手町ビル１F
URL:https://techplay.jp/event/674288?utm_medium=referral&utm_source=ics&utm
 _campaign=ics
END:VEVENT
END:VCALENDAR
