BEGIN:VCALENDAR
VERSION:2.0
PRODID:-//https://techplay.jp//JP
CALSCALE:GREGORIAN
METHOD:PUBLISH
X-WR-CALDESC:オレシカナイト Data Competition 
X-WR-CALNAME:オレシカナイト Data Competition 
X-WR-TIMEZONE:Asia/Tokyo
BEGIN:VTIMEZONE
TZID:Asia/Tokyo
BEGIN:STANDARD
DTSTART:19700101T000000
TZOFFSETFROM:+0900
TZOFFSETTO:+0900
TZNAME:JST
END:STANDARD
END:VTIMEZONE
BEGIN:VEVENT
UID:674339@techplay.jp
SUMMARY:オレシカナイト Data Competition 
DTSTART;TZID=Asia/Tokyo:20180526T130000
DTEND;TZID=Asia/Tokyo:20180526T183000
DTSTAMP:20260423T025031Z
CREATED:20180516T080634Z
DESCRIPTION:イベント詳細はこちら\nhttps://techplay.jp/event/67433
 9?utm_medium=referral&utm_source=ics&utm_campaign=ics\n\n\nオレシカ
 ナイトとは\n「AbemaTV」や「Ameba」をはじめとしたサイ
 バーエージェントグループが運営するメディアのアド
 テクノロジー開発を行うエンジニアの横断組織「Cyberag
 ent Publisher adTechnology Associaion」が主催する技術者向けの
 勉強会です。プロダクト開発や運用の過程で蓄積した
 知見や、新規技術に挑戦するにあたって学んだことを
 共有しています。今回「オレシカナイト」の新たな取
 り組みとして、1dayデータ解析ハッカソン『オレシカナ
 イト Data Competition』 を開催いたします。今回のハッカ
 ソンで参加者に発表いただくアイディアは、実際にサ
 ービスに反映することも検討しています。腕試しをし
 たい方など、ぜひご参加ください！課題内容サイバー
 エージェントメディア及び株式会社AJAが扱う数万件の
 広告クリエイティブの実データ（テキストデータ）を
 分析いただき、掲載可否の審査結果を推定するモデル
 を作り上げてもらいます。 分析の目的設定・着眼点、
 実装到達度、予測精度など総合的な観点から採点を行
 い、最後に発表いたします。　※画像データはふくま
 ず、テキストデータのみが対象となります。参考：http
 s://www.cyberagent.co.jp/news/detail/id=21527評価基準・勝敗は最
 終的に審査委員への発表で決定します。・評価基準は
 、予測精度だけではなく、解析の着眼点やアプローチ
 などの総合的な評価で行います。参加要件・実務もし
 くは研究でデータ解析を行っている方、データサイエ
 ンティストとしての実務がある方\nタイムスケジュー
 ル\n\n    \n        \n            時間\n            内容\n        \n
         \n            12:40〜13:00\n            受付\n        \n      
   \n            13:00〜13:30\n            オリエンテーション\n 
        \n            13:30〜16:30\n            作業時間\n        \n 
        \n            16:30〜17:30成果発表・結果発表\n          
   \n        \n        \n            17:30〜18:30懇親会 ※軽食と
 飲み物をご用意しています。\n        \n        \n            
 18:30\n            解散\n        \n    \n\n※ 当日予告なく時間
 配分・内容が変更になる可能性がございます。分析環
 境・ご自身のPCを持参ください。また事前に、テキス
 トデータを用いた予測モデル作成が実施可能な環境の
 ご用意をお願いします。※ソフトウェアは問いません
 。募集人数・10名\n参加費\n・参加費は無料です申込み
 方法と参加の為の選考・事前選考がございます。・お
 申込みは以下フォームよりエントリーください。https:/
 /goo.gl/forms/B4IKAlio9MIfD3DM2※個人情報の取り扱いはサイバ
 ーエージェントのプライバシーポリシーに則って厳重
 に管理させて頂きます。 https://www.cyberagent.co.jp/privacy/
LOCATION:場所: 株式会社サイバーエージェント(精神とテク
 の部屋)  https://www.cyberagent.co.jp/corporate/access/detail/id=20724
  *エレベーターにて直接2Fまでおあがりください。 東
 京都渋谷区円山町28-1 渋谷道玄坂スカイビル2F
URL:https://techplay.jp/event/674339?utm_medium=referral&utm_source=ics&utm
 _campaign=ics
END:VEVENT
END:VCALENDAR
