BEGIN:VCALENDAR
VERSION:2.0
PRODID:-//https://techplay.jp//JP
CALSCALE:GREGORIAN
METHOD:PUBLISH
X-WR-CALDESC:IoTビジネス共創ラボ 第8回勉強会
X-WR-CALNAME:IoTビジネス共創ラボ 第8回勉強会
X-WR-TIMEZONE:Asia/Tokyo
BEGIN:VTIMEZONE
TZID:Asia/Tokyo
BEGIN:STANDARD
DTSTART:19700101T000000
TZOFFSETFROM:+0900
TZOFFSETTO:+0900
TZNAME:JST
END:STANDARD
END:VTIMEZONE
BEGIN:VEVENT
UID:674382@techplay.jp
SUMMARY:IoTビジネス共創ラボ 第8回勉強会
DTSTART;TZID=Asia/Tokyo:20180615T153000
DTEND;TZID=Asia/Tokyo:20180615T200000
DTSTAMP:20260425T232155Z
CREATED:20180516T100413Z
DESCRIPTION:イベント詳細はこちら\nhttps://techplay.jp/event/67438
 2?utm_medium=referral&utm_source=ics&utm_campaign=ics\n\n毎回ご好評
 を頂いておりますIoTビジネス共創ラボ勉強会の第8回を
 開催いたします。今回も IoT を活用した事例を中心に
 、実務に役立つ内容をご紹介してまいります。IoT に興
 味のある方はお気軽にご参加ください。尚、勉強会終
 了後、懇親会の場を設けております。ぜひミートアッ
 プの場としてもご活用ください。\n対象\n\nIoT にご関心
 のある事業企画、IT 管理部門の皆さま\nPepper や ドロー
 ン、xR(VR/AR/MR) にご関心のある事業企画、IT 管理部門の
 皆さま\nパートナー企業の皆さま（システム/デバイス
 パートナー、コネクティビティパートナー、アナリテ
 ィクス/プラットフォームパートナー、ソリューション
 /アプリケーションパートナー）\nMicrosoft Azure やマイク
 ロソフトとの IoT ビジネスにご関心のある事業企画の
 皆さま\nIoT ビジネス共創ラボご参加にご関心があるパ
 ートナービジネス担当の皆さま\nスタートアップ/デベ
 ロッパーの皆さま\n\n主催\n\nIoT ビジネス共創ラボ　コ
 ミッティ会社（14社）東京エレクトロン デバイス株式
 会社（幹事会社）、ユニアデックス株式会社（副幹事
 会社）、アクセンチュア株式会社/アバナード株式会社
 、ウイングアーク１ｓｔ株式会社、ソフトバンクロボ
 ティクス株式会社、テクノスデータサイエンス・エン
 ジニアリング株式会社、株式会社電通国際情報サービ
 ス、ドローンワークス株式会社、株式会社ナレッジコ
 ミュニケーション、株式会社ホロラボ、日本ユニシス
 株式会社、株式会社ブレインパッド\nIoT ビジネス共創
 ラボ事務局（日本マイクロソフト株式会社）\n\nご注意
 事項\n\n最終受付時間は17時00分とさせていただきます
 。最終受付時間を過ぎてご来場いただきました場合は
 、ご入館いただく事ができません。\nご参加目的が不
 明瞭な方、お名刺または受付票(受付番号)をご持参頂
 けない方は、当日受付にてご参加をお断りする場合が
 ございます。あらかじめご了承の程よろしくお願い致
 します。\n\nアジェンダ\n\n\n\n時間\nセッション\nスピー
 カー\n\n\n\n\n15:00-15:30\n開場・受付\n※connpass の受付票を
 印刷いただくか、受付番号をお控えの上、2階正面玄関
 裏手のセミナー受付にてお名刺と共にご提示をお願い
 いたします。\n\n\n15:30-15:35\nオープニング\n日本マイク
 ロソフト(株)パートナー事業本部新井 浩之\n\n\n15:35-15:4
 5\nご挨拶IoT ビジネス共創ラボの趣旨説明\n東京エレク
 トロンデバイス(株)IoT カンパニーバイスプレジデント
 福田 良平\n\n\n15:45-16:05\nPowerApps+Flow+Azureで作れるノンコ
 ーディングのIoTソリューション\nMicrosoft CorporationEmerging
  Solutions - Global Black Belt吉田 大貴\n\n\n16:05-17:05\nハノー
 バーメッセ、Build 2018最新情報、AzureSphere ご紹介\n日本
 マイクロソフト(株)コンシューマー & デバイス事業本
 部デバイスパートナー営業統括本部村林 智\n\n\n17:05-17:
 15\n休憩\n\n\n\n17:15-17:55\n経産省・NEDO電子レシート実証
 実験報告\n東芝テック(株)技術統括部　上席主幹三部雅
 法様\n\n\n17:55-18:15\nIoTで働き方改革 ～あなたに最適な
 働き方を教えます～\n㈱ARISE analyticsサイエンスディビ
 ジョン　兼コーポレートディビジョンディレクター佐
 々木彰コーポレートディビジョン中村裕介\n\n\n18:15-18:3
 5\n狭所点検用小型ドローンプロジェクト「LAPIS for Drones
 」\n㈱Liberaware小川祐司様\n\n\n18:35-18:55\n柏の葉IoTビジネ
 ス共創ラボ発足紹介\n柏の葉アーバンデザインセンタ
 ーディレクター後藤良子様\n\n\n18:55-19:05\n懇親会会場へ
 移動\n\n\n\n19:05-20:00\n懇親会\n以下のISV/スタートアップ
 様からのデモやサービス紹介などを予定しております
 。 ・Primesap ◆Trac　http://www.primesap.com/trac.html・㈱Liberawa
 re ◆狭所点検用小型ドローン「IBIS(アイビス)」　http://
 liberaware.co.jp・Vitanet ◆VitaNet Suite　https://www.vita.net/jp/pro
 duct/\n\n\n
LOCATION:日本マイクロソフト 品川本社 2F（受付裏手のセ
 ミナー受付までお越し下さい） 東京都港区港南 2-16-3 
 　（品川グランドセントラルタワー ）
URL:https://techplay.jp/event/674382?utm_medium=referral&utm_source=ics&utm
 _campaign=ics
END:VEVENT
END:VCALENDAR
