BEGIN:VCALENDAR
VERSION:2.0
PRODID:-//https://techplay.jp//JP
CALSCALE:GREGORIAN
METHOD:PUBLISH
X-WR-CALDESC:【開講前最終！】ディープラーニング協会認
 定プログラム！無料説明会#4
X-WR-CALNAME:【開講前最終！】ディープラーニング協会認
 定プログラム！無料説明会#4
X-WR-TIMEZONE:Asia/Tokyo
BEGIN:VTIMEZONE
TZID:Asia/Tokyo
BEGIN:STANDARD
DTSTART:19700101T000000
TZOFFSETFROM:+0900
TZOFFSETTO:+0900
TZNAME:JST
END:STANDARD
END:VTIMEZONE
BEGIN:VEVENT
UID:675434@techplay.jp
SUMMARY:【開講前最終！】ディープラーニング協会認定プ
 ログラム！無料説明会#4
DTSTART;TZID=Asia/Tokyo:20180616T140000
DTEND;TZID=Asia/Tokyo:20180616T153000
DTSTAMP:20260424T002544Z
CREATED:20180522T165352Z
DESCRIPTION:イベント詳細はこちら\nhttps://techplay.jp/event/67543
 4?utm_medium=referral&utm_source=ics&utm_campaign=ics\n\n内容概要\n\n
 本イベントは、日本初のディープラーニング協会認定
 プログラム『現場で使えるディープラーニング基礎講
 座＠関西』の説明会です。普段は東京で開催していま
 す。講座に関して、お話しいたします。\n\n更新情報は
 こちら をフォローいただければと思います。\n\nまた
 、各事項が決まり次第、随時更新いたします。\nhttps://
 www.skillupai.com/deep-learning\n\n本講座の概要\n\n​本講座は
 、ディープラーニングの基礎・原理を理解し、ディー
 プラーニングを支える最先端の技術を実装レベルでマ
 スターすることをゴールとした講座です。\n\n高度なDee
 p Learning（DL）技術者の証明であるディープラーニング
 協会のE資格（直近は8月実施予定）の受験に必要な、
 協会認定の講座プログラムに対応しています。E検定を
 受験するためには、本プログラムの受講（一定回数以
 上の出席）と、講義最終日に実施する修了試験（不合
 格の場合は、有料にて再試験可能）に合格する必要が
 あります。\n\nまた、資格のためならず、ディープラー
 ニングの基礎・原理を理解し、スキルを磨きたい方に
 も考慮した設計（価格設定含む）となっています。\n\n
 開講の背景と講座のゴール\n\n第3次AIブームを牽引して
 きたディープラーニング（深層学習）は、様々な産業
 での応用事例が喧伝され、データ分析に関わる人以外
 も知る一般的な言葉となってきました。​\n\n近頃では
 数式を用いないで説明を試みる書籍の出版であったり
 、外部のライブラリに頼れば、原理を理解せずとも動
 くものが作れるなど、"ディープラーニングの民主化"
 は加速しています。\n\nこうした民主化の流れの中では
 、ディープラーニングについて全く知らなくてよい利
 用者と、原理を理解し、実装力のあるスペシャリスト
 の二極化が進むと考えられ、今ディープラーニングを
 学ぶのであれば、基礎から体系的に学び、スペシャリ
 ストを目指すことが、唯一のゴールではないかと思い
 ます。\n\n上記理由から、本プログラムは、単なる資格
 合格のための講座ではなく、あくまで実務者としての
 スキルアップを目指す講座とし、DLフレームワークの
 利用だけで終わらない構造的理解を目指すハンズオン
 重視の設計としています。\n\n実践的なハンズオンを中
 心とした演習、毎回の理解度チェック、講師のオンラ
 インでの質問対応など、様々な角度からのスキルアッ
 プが可能です。\n\nカリキュラム\n\n・講座紹介\n・質疑
 応答\n\n対象者\n\n・受講をお考えの方\n\n会場へのアク
 セス方法\n\n直接会議室にご入室ください\n\n備考\n\n\n
 勉強会内容を撮影もしくは録音することは、ご遠慮く
 ださい\n個人ブログへの記述については、良識の範囲
 内でお願いいたします\n\n\n運営団体\n\nhttps://www.skillupai
 .com/\n
LOCATION:梅田センタービル　16階　B会議室 大阪府大阪市
 北区中崎西２丁目４−１２
URL:https://techplay.jp/event/675434?utm_medium=referral&utm_source=ics&utm
 _campaign=ics
END:VEVENT
END:VCALENDAR
