BEGIN:VCALENDAR
VERSION:2.0
PRODID:-//https://techplay.jp//JP
CALSCALE:GREGORIAN
METHOD:PUBLISH
X-WR-CALDESC:【初心者向け】実践形式で行うPython徹底演習
X-WR-CALNAME:【初心者向け】実践形式で行うPython徹底演習
X-WR-TIMEZONE:Asia/Tokyo
BEGIN:VTIMEZONE
TZID:Asia/Tokyo
BEGIN:STANDARD
DTSTART:19700101T000000
TZOFFSETFROM:+0900
TZOFFSETTO:+0900
TZNAME:JST
END:STANDARD
END:VTIMEZONE
BEGIN:VEVENT
UID:675562@techplay.jp
SUMMARY:【初心者向け】実践形式で行うPython徹底演習
DTSTART;TZID=Asia/Tokyo:20180610T103000
DTEND;TZID=Asia/Tokyo:20180610T134500
DTSTAMP:20260419T120804Z
CREATED:20180523T103934Z
DESCRIPTION:イベント詳細はこちら\nhttps://techplay.jp/event/67556
 2?utm_medium=referral&utm_source=ics&utm_campaign=ics\n\n【初心者向
 け】実践形式で行うPython徹底演習\n\n概要\n\n「基本的
 な文法(for文\,if文\,関数)に関する知識はある程度ある
 が、自分でプログラムを書こうとすると手が止まって
 しまう方」を対象とし、「解きたい問題に対して筋道
 立ててプログラムの設計を考え、調べながら実装でき
 るようになっていただくこと」をコンセプトとした講
 座です。\n\nPythonの文法に自信がない方は、【初心者歓
 迎】Python入門講座を受講後に当講座を受講いただけれ
 ばと思います。\n\n\n前半では基本事項の復習をしてい
 ただき、後半では、難しいプログラムに直面した際の
 筋道の立て方、プログラムの各機能の組み合わせ方を
 学びます。\n当日は実践形式で進めていきますので、Py
 thon3をインストールしたPCの持参をお願いいたします。
 \n\nこの講座で得られること\n\n・データや目的に応じ
 て適切に変数に値を格納することができるようになり
 ます。\n・for文\, if文\,関数を適切に使用することがで
 きるようになります。\n・エラーが出た際の対処方法
 を知ることができます。\n・複雑なプログラムを組む
 際にどのように開発を進めていいかが理解できます。\
 n\n内容\n\n・データの取り出し・格納方法に関する演習
 と解説\n・外部ファイルからのデータの取り出し・外
 部ファイルへのデータの書き出し方の紹介・演習と解
 説\n・for文・if文・関数を使った演習と解説\n・3~5題の
 応用問題の演習と解説\n\n前半で、基本的な文法に関す
 る問題を解いていただき、その全ての問題について丁
 寧に解説します。\n後半では応用問題を、ヒントを参
 考にしながら段階的に作成していただきます。\n\n\n※ 
 当日予告なく時間配分・内容が変更になる可能性がご
 ざいます。\n\n事前準備\n\nPython3のインストールをお願
 いいたします。\n\nPythonのインストール、パッケージの
 導入方法についてご不明点あれば、可能な範囲で対応
 いたしますので、info@to-kei.netまでご連絡ください。\n\n
 こんな人にオススメ\n\n・Pythonのfor文\,if文\,関数など基
 本的な文法を理解はしているが、うまく使いこなせな
 い方\n・自分のスキルと作成したいシステムの間に乖
 離があって何から手をつけていいかわからない方\n\n講
 師\n\n大川遥平\n全人類がわかる統計学の管理人。大学
 にて統計学を専攻。サイトでは確率分布の記事やサイ
 トデザインを中心に担当。現在は、Web制作やPythonを用
 いたSEO対策用Webアプリケーションを構築するなどの活
 動をしている。また筑波大学大学院にて、自然言語処
 理の研究にも従事。\n\n崔一鳴\n全人類がわかる統計学
 の管理人。大学にて統計学を専攻。サイトではR、Python
 、仮説検定、統計の基礎の記事を中心に担当。現在は
 、PythonやRを使い、都内の私立大学医学部で統計解析の
 助手やDSコンペへの参加などの活動をしている。また
 東京工業大学大学院にて自然言語処理の研究にも従事
 。\n\n\n持ち物\n\n・Python3の実行環境をインストール済
 みのPC(windows Mac)\n※インストールでお困りの方はinfo@to-
 kei.netまでご連絡いただければ、可能な範囲で対応致し
 ます。\n\n※講座では「jupyter notebook」を使います。同
 じ実行環境で受講したい方は、インストールをお勧め
 します。\n\n参加費\n\n前払い\n3500円\n\n※前払いの方で
 、やむを得ずキャンセルされる場合は、開催日の3日前
 までのご連絡に限り、払い戻し手数料を差し引いた金
 額を払い戻し致します。以降は払い戻しをできません
 のでご注意ください。\n\n当日現金払い\n4000円（受付時
 にお支払いください）\n\n二回目の参加の方\n無料\n\n※
 当講座は二回目のご参加に関しては無料で受け付けて
 おります。一回受けたが、途中参加だったために深い
 理解が出来なかった、もう一度受けて理解を深めたい
 という要望にお応えするためのものです。是非ご利用
 ください。\n\n領収書について\n\n前払いの方\n決済処理
 後にPaypalから送付されるメール内容、またはPaypalの取
 引履歴から該当項目を確認の上、「詳細」をご覧くだ
 さい。それらが領収書の代わりとなります。また、ク
 レジットカード会社発行の利用明細書も領収書として
 ご利用いただけます。（当社より重複しての領収書発
 行は行えません)\n\n当日払いの方\n講座後のアンケート
 にて、「領収書が必要」にチェックを入れるようにお
 願いいたします。領収書をメールにて送付させていた
 だきます。\n\n受付・入場時間\n\n開始の15分前から\n\n
 ※なるべく5分前までにお入りください。\n※途中参加
 も可能です。\n\nお問い合わせ\n\nイベントに関するお
 問い合わせはinfo@to-kei.netまでご連絡ください。\n\n注意
 事項\n\n・リクルーティング、勧誘、採用活動など、目
 的に沿わない行為につきまして、主催者が相応しくな
 いと判断した場合は即刻退出処分とします。全員が気
 持ちよく過ごすことが出来るよう、ご協力をお願い致
 します。\n・講座内で扱うコンテンツは全て「全人類
 がわかる統計学」に帰属しています。複製はご遠慮く
 ださい。\n・個人ブログへの講義コンテンツの掲載は
 ご遠慮ください。\n\n全人類がわかる統計学とは\n\n統
 計学の学習サイト、全人類がわかる統計学を運営、管
 理している団体です。統計学とその関連分野について
 、出来るだけわかりやすく多くの人々に届けるという
 ことを目指して活動しています。\n
LOCATION:渋谷駅徒歩5分 東京都渋谷区桜丘町29−25 渋谷パ
 ールホーム303
URL:https://techplay.jp/event/675562?utm_medium=referral&utm_source=ics&utm
 _campaign=ics
END:VEVENT
END:VCALENDAR
