BEGIN:VCALENDAR
VERSION:2.0
PRODID:-//https://techplay.jp//JP
CALSCALE:GREGORIAN
METHOD:PUBLISH
X-WR-CALDESC:Ruby 資格対策の会 #4
X-WR-CALNAME:Ruby 資格対策の会 #4
X-WR-TIMEZONE:Asia/Tokyo
BEGIN:VTIMEZONE
TZID:Asia/Tokyo
BEGIN:STANDARD
DTSTART:19700101T000000
TZOFFSETFROM:+0900
TZOFFSETTO:+0900
TZNAME:JST
END:STANDARD
END:VTIMEZONE
BEGIN:VEVENT
UID:676967@techplay.jp
SUMMARY:Ruby 資格対策の会 #4
DTSTART;TZID=Asia/Tokyo:20180822T190000
DTEND;TZID=Asia/Tokyo:20180822T203000
DTSTAMP:20260420T110610Z
CREATED:20180531T210332Z
DESCRIPTION:イベント詳細はこちら\nhttps://techplay.jp/event/67696
 7?utm_medium=referral&utm_source=ics&utm_campaign=ics\n\n概要\nhttps://
 rex.libertyfish.co.jp/ 等を用いつつ、Ruby技術者認定試験 Sil
 ver / Gold に合格できるような\nRuby 言語知識の向上を目
 的とした勉強会を開催します。\n対象\n\nRuby技術者認定
 試験 の Silver / Gold 資格が欲しい人\nRuby の言語知識を
 深めたい人\n資格対策に不要なレベルの知識について
 も質問を受け付けます 答えられるかは別として\n\n\nと
 りあえず Ruby から始めてみようかな、くらいの人\n初
 心者も無論歓迎です\n\n\n
LOCATION:リバティ・フィッシュ株式会社 大阪府大阪市 中
 央区南船場1丁目16番20号 ムラキビル4階
URL:https://techplay.jp/event/676967?utm_medium=referral&utm_source=ics&utm
 _campaign=ics
END:VEVENT
END:VCALENDAR
