BEGIN:VCALENDAR
VERSION:2.0
PRODID:-//https://techplay.jp//JP
CALSCALE:GREGORIAN
METHOD:PUBLISH
X-WR-CALDESC:PGX ユーザー勉強会 #9
X-WR-CALNAME:PGX ユーザー勉強会 #9
X-WR-TIMEZONE:Asia/Tokyo
BEGIN:VTIMEZONE
TZID:Asia/Tokyo
BEGIN:STANDARD
DTSTART:19700101T000000
TZOFFSETFROM:+0900
TZOFFSETTO:+0900
TZNAME:JST
END:STANDARD
END:VTIMEZONE
BEGIN:VEVENT
UID:676968@techplay.jp
SUMMARY:PGX ユーザー勉強会 #9
DTSTART;TZID=Asia/Tokyo:20180802T173000
DTEND;TZID=Asia/Tokyo:20180802T194500
DTSTAMP:20260421T145429Z
CREATED:20180531T210333Z
DESCRIPTION:イベント詳細はこちら\nhttps://techplay.jp/event/67696
 8?utm_medium=referral&utm_source=ics&utm_campaign=ics\n\n\n\n\n\n\n\n\n 
 概要 \n\nOracle Labs PGX（Parallel Graph AnalytiX）はグラフに対
 するクエリや分析のためのフレームワークです\nこの
 勉強会では、入門者向けの解説に加え、ユーザーの皆
 様に役立つ Tips やユースケースを情報交換します\nは
 じめて PGX に触れる方は こちらのスライド を参照して
 ください\n\n プログラム  \n\n17:30-18:00　トーク（日本語
  30分）\nグラフを用いた顧客 360° 分析【ryotas】\n\n\n18:0
 0-19:00　開発者トーク（英語 20分）x 3\nAnalyzing Blockchain a
 nd Bitcoin Transaction Data as Graph【開発者 1】\nIntegration of Mac
 hine Learning and Graph Technologies【開発者 2】\nGraph Query Langua
 ge? -- Introduction to PGQL 【開発者 3】\n\n\n19:00-19:20　ショ
 ート・トーク（日本語 5分+QA）x 2\n簡単にグラフデータ
 を作って PGX にロードする方法【matsusho】\nWindows の Dock
 er 上で PGX を動かす【hikarinm】\n\n\n19:20-19:40　ゲスト・
 トーク（英語 20分）\nIntroduction to HANA Graph\n\n\n20:00-　講
 演者懇親会（近くの居酒屋にて）\n\n 参加方法 \n\nオラ
 クル青山センターの 2F ロビーからエレベーターにて直
 接 22F のカフェまでお越しください\n受付票は不要です
 。カフェの受付にて登録時のお名前とご所属がわかる
 名刺をご提示ください\n22F エレベーター・ホールのド
 アが閉まっている場合には掲示されている電話番号に
 ご連絡ください\n
LOCATION:オラクル青山センター 13F S7 セミナー室 東京都港
 区北青山2-5-8
URL:https://techplay.jp/event/676968?utm_medium=referral&utm_source=ics&utm
 _campaign=ics
END:VEVENT
END:VCALENDAR
