BEGIN:VCALENDAR
VERSION:2.0
PRODID:-//https://techplay.jp//JP
CALSCALE:GREGORIAN
METHOD:PUBLISH
X-WR-CALDESC:【増席】RPA勉強＆LT会！RPALT vol3@ウイングアー
 ク1st
X-WR-CALNAME:【増席】RPA勉強＆LT会！RPALT vol3@ウイングアー
 ク1st
X-WR-TIMEZONE:Asia/Tokyo
BEGIN:VTIMEZONE
TZID:Asia/Tokyo
BEGIN:STANDARD
DTSTART:19700101T000000
TZOFFSETFROM:+0900
TZOFFSETTO:+0900
TZNAME:JST
END:STANDARD
END:VTIMEZONE
BEGIN:VEVENT
UID:677783@techplay.jp
SUMMARY:【増席】RPA勉強＆LT会！RPALT vol3@ウイングアーク1st
DTSTART;TZID=Asia/Tokyo:20180713T190000
DTEND;TZID=Asia/Tokyo:20180713T220000
DTSTAMP:20260421T175437Z
CREATED:20180604T100403Z
DESCRIPTION:イベント詳細はこちら\nhttps://techplay.jp/event/67778
 3?utm_medium=referral&utm_source=ics&utm_campaign=ics\n\n業界初の完
 全なユーザー主体のRPAコミュニティ「RPA Community」が主
 催するRPA勉強会＆LT会です！大好評を受けての第３回
 目！\n7/13追記\n本日受付場所：地下鉄 六本木一丁目か
 ら直結した1階ゲート前にイベント受付を設置し入館証
 をお渡しします。\n道路に面した車寄せのある場所で
 はなく地下鉄から直結のゲートです！\nまず最初に一
 言\nRPAユーザー同士でRPAを学び、情報を共有し、悩み
 を共有することで、\n各々が求めるRPAで目指す目標を
 実現させましょう！\nすでにRPAに取り組んでいる方、
 これから学ぼうとしている方、どんな方でも大歓迎で
 す。\n前半はセミナー形式でRPAを学ぶ。(※1)\n後半はRPA
 に関するネタや悩みや言いたい事を、狭くはRPAですが
 広くは自動化＜業務改善＜働き方改革に繋がるネタをL
 T(※2)で楽しむ。\nという２本立てで進めます。\n※1 セ
 ミナーで使用するRPAツールについては今回UiPath等を対
 象としております。\n※2 LTとは「Lightning Talk(s)」の頭
 文字を取ったもので5分間程度の短い時間で行われる発
 表を連続して続けていく形式のプレゼンテーション。\
 n参加メリット\nユーザー主体イベントならでは。営業
 トークも宣伝トークもありません。RPAに関する情報を
 得ながら、拡くは業務改善・働き方改革に至る様々な
 情報を参加者同士で楽しく交換し合えるイベントです\
 n参考 前回オープニング資料\n参考 前回実施／リアル
 タイムアンケート結果\n参考 前回ツイートまとめ\n参
 考 前回web記事\n開催前後の交流ためのFBグループもあ
 ります！\nhttps://www.facebook.com/groups/129896620983650/ \n是非
 ご参加下さい！\n会場は新オフィスへ移転したばかり
 。素敵なオフィスウイングアーク１ｓｔさん\nアクセ
 ス\n◆場所：東京都港区六本木三丁目2-1 (六本木グラン
 ドタワー36F)\n◆最寄駅\n　東京メトロ南北線「 六本木
 一丁目」直結（西改札口）\n　東京メトロ日比谷線・
 都営大江戸線 「六本木」駅5番出口より徒歩5分\n入館
 方法\n地下鉄 六本木一丁目から直結した1階ゲート前に
 イベント受付を設置し入館証をお渡しします。\n【注
 意】道路に面した車寄せのある場所ではなく地下鉄か
 ら直結のゲートです。\nタイムテーブル\n\n\n\n時間\n内
 容\n発表タイトル\n\n\n\n\n19:00\n開場（受付開始）\n\n\n\n1
 9:30\nオープニング： Mitz\n趣旨説明\n\n\n\nＬＴ：会場ス
 ポンサー：ウイングアーク1st様\n\n\n\n19:40\nセミナー: 
 一戸氏\n10分間 RPA概論~導入・開発編～\n\n\n19:50\nセミナ
 ー: 青野氏\n<デモ>ロボ部長メール（社長給与計算編）\
 n\n\n20:10\n休憩\n\n\n\n20:15\n後半ＬＴ開始\n\n\n\n\nＬＴ: 懇
 親会スポンサー：難波@forkwell\n\n\n\n\nＬＴ: miyaichi @Busine
 ss Architects\nReFrameworkをイジリ倒す。\n\n\n\nＬＴ: 高松@KSK
 \n簡単！100人のRPA技術者を産む方法\n\n\n\nＬＴ: Hisa Nitta
 @くぬぎ山ファミリークリニック\n全部で１トンあった
 カルテの重さを500gに軽量化した話\n\n\n\nＬＴ: Oka Hideaki
  @Tutorial\nディベロッパー向けRPAを制作したらこうなり
 ました\n\n\n\nＬＴ: Kunii Ren @Arinos\nロボリリース後の改
 修要望3選!!　～RPAエンジニアに必要なスキルの考察～\
 n\n\n\nＬＴ: 井手拓人@RPA Community\nしゃべらない(しゃべ
 らないとは言ってない)\n\n\n\nＬＴ: のびすけ at dotstudio\
 , inc\n\n\n\n20:55\nクロージング： 呉\n総括\n\n\n21:05\n集合
 写真→懇親会\n\n\n\n21:55\n締め\n\n\n\n22:00\n撤収\n\n\n\n\n参
 加費\n500円（セミナー講師、会場スポンサーは除く）\n
 主催\n呉\nRPACommunityファウンダー。RPAをはじめとした業
 務効率化マニア。\nRPAの教育プログラムを展開してい
 ます。\nMitz\n社内（私個人の作業）のRPA推進に精進中
 。IoT界隈ではチャラい見た目でちょっとだけ有名？ら
 しい。\n様々なコミュニティ・イベントの主催・運営
 から雑用まで何でもこなしてます。\nこのイベントに
 申し込まれたりご興味のある方はお気軽に友達申請ど
 うぞ。\n諸注意\n\nイベント内容は一部変更になる可能
 性がございます。\nイベント当日の様子は後日何らか
 の媒体にて公開させていただくことがございます。\n
 お申込後運営都合によりご参加をキャンセルさせて頂
 く場合がございます。予めご了承頂けますようお願い
 いたします。\n
LOCATION:ウイングアーク1st 東京都港区六本木三丁目2-1 (六
 本木グランドタワー36F)
URL:https://techplay.jp/event/677783?utm_medium=referral&utm_source=ics&utm
 _campaign=ics
END:VEVENT
END:VCALENDAR
