BEGIN:VCALENDAR
VERSION:2.0
PRODID:-//https://techplay.jp//JP
CALSCALE:GREGORIAN
METHOD:PUBLISH
X-WR-CALDESC:LUMION 勉強会 ベーシック編 
X-WR-CALNAME:LUMION 勉強会 ベーシック編 
X-WR-TIMEZONE:Asia/Tokyo
BEGIN:VTIMEZONE
TZID:Asia/Tokyo
BEGIN:STANDARD
DTSTART:19700101T000000
TZOFFSETFROM:+0900
TZOFFSETTO:+0900
TZNAME:JST
END:STANDARD
END:VTIMEZONE
BEGIN:VEVENT
UID:678868@techplay.jp
SUMMARY:LUMION 勉強会 ベーシック編 
DTSTART;TZID=Asia/Tokyo:20180622T170000
DTEND;TZID=Asia/Tokyo:20180622T190000
DTSTAMP:20260419T221033Z
CREATED:20180609T150549Z
DESCRIPTION:イベント詳細はこちら\nhttps://techplay.jp/event/67886
 8?utm_medium=referral&utm_source=ics&utm_campaign=ics\n\nLUMION 勉強会
  ベーシック編　\n\n概要\n\n今回、Lumion を使い始めたば
 かりの方や導入したのはいいけど、あまり操作をした
 事がないといった方々を対象にLumion 勉強会を開催いた
 します。\n\nモデルのインポートから動画の作成、ホッ
 トキー(ショートカットキー)の使い方など、実際にス
 クリーンを見ながらLumion を操作し、操作方法を覚えて
 頂きます。もちろんリアルタイムな質問にもお答えし
 ます!!\n\n担当：リビングCG 岡部、中村\n\n※ Lumion はオ
 ランダの元ゲーム会社であるACT-3D社により開発された3
 Dレンダリング・ソフトです。去年11月に発売された Lum
 ion8 からは、より実写に近い美しい世界を創り上げる
 ことができるようになりました。（最新版：Lumion8.5）\
 n\nスケジュール\n\n\n開  催  日　2018年6月22日（金） 17:0
 0 〜 19:00　\n場　　所　ビジョンセンター東京　※ 開
 場 16:45\n講座内容　Lumionのベーシックな操作方法、ホ
 ットキー、よく使われるエフェクトなど\n\n\n参加対象\
 n\nLumionを使い始めたばかりの方\n\nLumionの操作に困って
 る方 \n\n※ 参加希望の方はホームページを通して、事
 前にライセンスを発行ください。\n\n※ 人数がオーバ
 ーした場合、参加者の決定は抽選を通して行う予定で
 す。\n\n※ 欠席される場合は、お手数ですが速やかに
 キャンセル処理をお願い致します。\n\n持ち物\n\nLumion 
 がインストールされたPC\n\n筆記用具\n\n学生証または名
 刺2枚　※ 受付時にお渡し下さい。\n\n※ 会社でのみラ
 イセンス保有の方はトライアル版を発行いたしますの
 で、お申し込みの際にお申し出ください。\n\n※ 学生
 や教員の場合、現在ライセンス無料発行中ですので、
 ホームページにて事前にお申し込みください。\n\n\n※ 
 Lumion プロモーション･ビデオ　https://youtu.be/N5TLwzDAaf4\n
 \n※ PCのスペックの参照　http://lumion3d.jp/product/index-spec.
 php\n\n※ Lumion 公式ホームページ　http://lumion3d.jp/\n
LOCATION:ビジョンセンター東京 東京都中央区八重洲２丁
 目７ 八重洲2-7-12 ヒューリック京橋ビル7F
URL:https://techplay.jp/event/678868?utm_medium=referral&utm_source=ics&utm
 _campaign=ics
END:VEVENT
END:VCALENDAR
