BEGIN:VCALENDAR
VERSION:2.0
PRODID:-//https://techplay.jp//JP
CALSCALE:GREGORIAN
METHOD:PUBLISH
X-WR-CALDESC:第69回 HTML5とか勉強会「UIフレームワーク最前
 線」
X-WR-CALNAME:第69回 HTML5とか勉強会「UIフレームワーク最前
 線」
X-WR-TIMEZONE:Asia/Tokyo
BEGIN:VTIMEZONE
TZID:Asia/Tokyo
BEGIN:STANDARD
DTSTART:19700101T000000
TZOFFSETFROM:+0900
TZOFFSETTO:+0900
TZNAME:JST
END:STANDARD
END:VTIMEZONE
BEGIN:VEVENT
UID:679056@techplay.jp
SUMMARY:第69回 HTML5とか勉強会「UIフレームワーク最前線」
DTSTART;TZID=Asia/Tokyo:20180619T193000
DTEND;TZID=Asia/Tokyo:20180619T223000
DTSTAMP:20260420T070827Z
CREATED:20180611T060407Z
DESCRIPTION:イベント詳細はこちら\nhttps://techplay.jp/event/67905
 6?utm_medium=referral&utm_source=ics&utm_campaign=ics\n\nみなさんお
 久しぶりです。長らく開催していませんでしたが、新
 たなスタッフとして @1000ch と @furoshiki が加わり、気持
 ちを新たに各月で開催していこうかと思います。フロ
 ントエンドの技術の細分化が進む中、HTML5とか勉強会
 はWebの技術の全体を俯瞰できる、そんな会を目指した
 いと思います！\n第69回となる「HTML5とか勉強会」では
 、フロントエンドのUIフレームワークの最前線を追っ
 てみようかと思います。\nタイムテーブル\n\n\n\n開始時
 刻\n講演内容\n\n\n\n\n\n19:30 ~ 19:35\nオープニング\n\n\n\n19:
 35 ~ 19:50\nAngular Ivyとその先\n@laco2net\n\n\n19:50 ~ 20:05\nVue CL
 I v3\n@kazu_pon\n\n\n20:05 ~ 20:20\nSuspense\n@koba04\n\n\n20:20 ~ 20:30\
 n休憩\n\n\n\n20:30 ~ 21:00\nパネルディスカッション\n@laco2ne
 t\, @kazu_pon\, @koba04\n\n\n21:00 ~ 22:00\n懇親会\n\n\n\n\n※会場
 のセキュリティの関係上20時以降は入場できませんの
 でご了承ください。\n会場・受付\nピクシブ株式会社 
 〒151-0051 東京都渋谷区千駄ヶ谷4丁目23-5 JPR千駄ヶ谷ビ
 ル\n受付は当日19時頃より開始します。1Fロビーの担当
 者に受付票またはスマートフォンで受付票画面をお見
 せください。 受付票をご提示いただけない場合、セキ
 ュリティの観点から受付時に、お名刺をいただけます
 ようお願いします。\n注意事項\n\nWifiあります。 混線
 を防ぐため各自でのアクセスポイントの設置はご遠慮
 ください\n遅れて来た場合や、その他何かありました
 らTwitterのハッシュタグ #html5j でツイートをお願い致し
 ます\n
LOCATION:ピクシブ株式会社 151-0051 東京都渋谷区千駄ヶ谷4-
 23-5 JPR千駄ヶ谷ビル2F
URL:https://techplay.jp/event/679056?utm_medium=referral&utm_source=ics&utm
 _campaign=ics
END:VEVENT
END:VCALENDAR
