BEGIN:VCALENDAR
VERSION:2.0
PRODID:-//https://techplay.jp//JP
CALSCALE:GREGORIAN
METHOD:PUBLISH
X-WR-CALDESC:UXトライアウト・2時間で学ぶヒューリスティ
 ック評価【7/20渋谷】ブログ書く枠募集
X-WR-CALNAME:UXトライアウト・2時間で学ぶヒューリスティ
 ック評価【7/20渋谷】ブログ書く枠募集
X-WR-TIMEZONE:Asia/Tokyo
BEGIN:VTIMEZONE
TZID:Asia/Tokyo
BEGIN:STANDARD
DTSTART:19700101T000000
TZOFFSETFROM:+0900
TZOFFSETTO:+0900
TZNAME:JST
END:STANDARD
END:VTIMEZONE
BEGIN:VEVENT
UID:680076@techplay.jp
SUMMARY:UXトライアウト・2時間で学ぶヒューリスティック
 評価【7/20渋谷】ブログ書く枠募集
DTSTART;TZID=Asia/Tokyo:20180720T190000
DTEND;TZID=Asia/Tokyo:20180720T210000
DTSTAMP:20260420T201436Z
CREATED:20180617T085218Z
DESCRIPTION:イベント詳細はこちら\nhttps://techplay.jp/event/68007
 6?utm_medium=referral&utm_source=ics&utm_campaign=ics\n\n\n\n\n  ブロ
 グ書く枠募集！\n\n\n\n\n  このページでは「ブログ書く
 枠」として本講座のイベントレポートをブログに書い
 ていただける方を募集しています。一般枠で参加され
 る方は以下URLよりお申し込みください。 https://peatix.com
 /event/395438\n\n\n\n\n【この講座について】\n\n「UX（ユー
 ザーエクスペリエンス）」という言葉は、昨今はIT業
 界以外でも耳にするようになり、関連書籍も数多く出
 されるようになりました。しかし実際のものづくりの
 現場でのUXデザイン実践の具体的なイメージをつかめ
 ず、実践に踏み切れないケースも散在しています。\n\n
 「UXトライアウト」は、UXデザイン手法をワークショッ
 プ形式で学ぶ体験型講座です。実際に手法を使って成
 果物を完成させることで、具体的なイメージをつかみ
 、実際のものづくりの現場で実践していただくことを
 目的にしています。\n\n今回は、UX品質を評価する手法
 「エキスパートレビュー」のうち、比較的習熟の容易
 な（専任の評価担当者でない技術者でも実施可能な）
 評価手法である「ヒューリスティック評価」を学びま
 す。\n\n本講座はUXについて体系的に学ぶ機会の少ないI
 T系中小企業・フリーランス・学生の方を主に想定して
 います。初心者の方も改めて学び直したいとお考えの
 方も、ぜひ本講座にご参加下さい。\n\n【ヒューリステ
 ィック評価とは】\n\n専門家のヒューリスティック（経
 験則に基づく指針）に基づいて使いやすさに関わる改
 善案について指摘を行なう評価手法です。顧客の協力
 を得て行う評価手法「ユーザーテスト」と比べ、比較
 的短納期・低コストで実施することができます。\n\n\n\
 n【UXデザインとは】\n\nUXデザインとは、商品やサービ
 スはお客様に心地よさを提供する手段であるという認
 識のもと、計画的に心地よさを作り出し、かつ心地よ
 さを品質として管理するものづくりの方法論です。UX (
 User Experience) の正確な定義は国際規格ISO9241-210:2010によ
 って規格化されています。\n\n\n\n\n\n\n\n\n\n【当日の流
 れとタイムスケジュール】\n\n当日はワークショップ形
 式で一連の課題を行っていただきます。ワークは4人程
 度のグループに別れ、個人作業と相互発表で理解度を
 深めていきます（全2時間）。\n\n\n講義：ヒューリステ
 ィック評価について\nワーク：ヒューリスティック評
 価\nまとめと質疑応答\n\n\n【こんな方を対象としてい
 ます】\n\n\nユーザー本位の設計を行いたいプログラマ
 ー・UIデザイナー\n本質的な改善を行いたいWebディレク
 ター・マネージャー\nスキルアップしたいがUXについて
 学ぶ場の少ないフリーランス、学生\n今まさにWebサイ
 トリニューアル中の担当者の方\n\n\n【期待できる成果
 】\n\n\nUXとはなにかを理解できる\nこれまで気づかなか
 った商品やサービスの課題に気づくことができる\n設
 計上の要注意事項としてヒューリスティック評価の知
 識を用いることで、*\nユーザー本位の設計を行うこと
 ができるようになる\nユーザー本位の改善を行うこと
 で商品やサービスの満足度が上がる\n\n\n【参加当日の
 ご注意】\n\n\n筆記用具だけお持ちください。教材は当
 日無料配布します。\n最少催行人数は３人です。最少
 催行人数に満たない場合、講座は中止となります。中
 止の際は事前にご連絡します。\nプログラムは予告な
 く変更される場合があります。\nイベント当日は、参
 加者の皆様を撮影し、開催報告としてWebサイト等に掲
 載させていただきます。\n\n\n【講師紹介】\n\n\n\n森山 
 明宏（ユーリカ株式会社代表、UXデザイナー）\n\n\n大
 手電機メーカーにて商品企画、リサーチ、ユーザビリ
 ティを担当し、2012年に独立してユーリカ株式会社を設
 立。経歴を生かし、宣伝からアフターサービスまでを
 含めた総体としての商品がお客様に提供する心地よい
 体験「UX」をデザインする「UXデザイナー」として活躍
 。主にWebサイトおよびスマートフォンアプリの新規開
 発や改善に参加。また岩崎学園情報科学専門学校でUX
 デザインの非常勤講師として教鞭をとる。最近の興味
 対象は「UX手法による共感のデザイン」。\n\n\n【支払
 に関するご注意】\n\n参加費：お一人様4\,000円（税込）
 \n\n\n場所代・配布資料代等すべて込みの価格です。\n
 支払方法として銀行ATM支払、コンビニ支払、およびク
 レジットカード支払が可能です。決済にはPeatix様の決
 済サービスを使用しております。\n弊社よりの領収証
 発行はありません。領収証の必要な方はPeatix様の領収
 証発行機能をご利用ください。\nキャンセル受付の期
 限はチケット販売期限と同一です。チケット販売期限
 終了後は、参加の如何によらず参加費用の全額を請求
 いたします。キャンセルされる場合は、Peatix様の定め
 る所定の手続きに従ってください。また、キャンセル
 される場合はPeatix様の定めるキャンセル手数料をお支
 払いください。\n\n\n【ブログ書く枠募集！】\n\n本講座
 のイベントレポートをブログに書いていただける方を
 募集します。\n\n条件：\n\n以下の３つの条件すべてを
 満たす方\n\n\n自分のブログを運営している方（Facebook
 やGoogle+などの個人アカウントでも可）\n過去に自分の
 ブログにIT勉強会やセミナーのイベントレポートを投
 稿したことがある方\n本講座のイベントレポートをブ
 ログに書いていただける方（イベントについての率直
 なご意見をブログとしてお書きください。好評・悪評
 は問いません。ただし事実に反する内容はNGです）\n\n\
 n特典：\n\n参加費無料\n\n募集数：\n\n全１名（抽選制）
 \n\n申込方法：\n\n画面の「イベントに参加する」ボタ
 ンをクリックし、フォームに必要事項を記入の上、お
 申込み下さい。\n\n備考：\n\n一般枠での参加について
 はPeatixにて募集しております。以下URLより申し込みを
 お願いします。\n\n【開催概要】\n\n\n講座名称：UXトラ
 イアウト・2時間で学ぶヒューリスティック評価【7/20
 渋谷】\n日　　時：2018年7月20日（金曜）受付開始18:30 
 開催19:00～21:00\n場　　所：渋谷区文化総合センター大
 和田 2F 区民学習センター 学習室7\n住　　所：東京都
 渋谷区桜丘町23-21\n最寄り駅：JR渋谷駅（西口徒歩5分)\n
 司会進行：森山 明宏 (ユーリカ株式会社代表、UXデザ
 イナー)　\n定員人数：16名 (先着順)\n対　　象：社会人
 および学生のUXデザイン初心者\n申込方法：申し込みは
 以下ページ内専用フォームよりお願いします。https://pe
 atix.com/event/395438\n参加費用：4\,000円\n\n\n\n\n\n\n\n
LOCATION:渋谷区文化総合センター大和田 2F 区民学習セン
 ター 学習室7 東京都渋谷区桜丘町23-21
URL:https://techplay.jp/event/680076?utm_medium=referral&utm_source=ics&utm
 _campaign=ics
END:VEVENT
END:VCALENDAR
