BEGIN:VCALENDAR
VERSION:2.0
PRODID:-//https://techplay.jp//JP
CALSCALE:GREGORIAN
METHOD:PUBLISH
X-WR-CALDESC:Drupal Meetup 羽田 #12
X-WR-CALNAME:Drupal Meetup 羽田 #12
X-WR-TIMEZONE:Asia/Tokyo
BEGIN:VTIMEZONE
TZID:Asia/Tokyo
BEGIN:STANDARD
DTSTART:19700101T000000
TZOFFSETFROM:+0900
TZOFFSETTO:+0900
TZNAME:JST
END:STANDARD
END:VTIMEZONE
BEGIN:VEVENT
UID:680151@techplay.jp
SUMMARY:Drupal Meetup 羽田 #12
DTSTART;TZID=Asia/Tokyo:20180817T190000
DTEND;TZID=Asia/Tokyo:20180817T210000
DTSTAMP:20260425T154431Z
CREATED:20180617T210442Z
DESCRIPTION:イベント詳細はこちら\nhttps://techplay.jp/event/68015
 1?utm_medium=referral&utm_source=ics&utm_campaign=ics\n\n概要\nDrupal M
 eetup 羽田は、オープンソースCMS（コンテンツ管理シス
 テム）であるDrupalに興味がある羽田界隈の人達を中心
 としたグループです。\nさらにDrupal（ドルーパル）普
 及を目的とした交流の場所です。Drupal（ドルーパル）
 は、CX（カスタマーエクスペリエンス）・DX（デジタル
 エクスペリエンス）のプラットフォームとして、多く
 のグローバル企業や機関に採用されています。API志向
 のアーキテクチャで、IOTやAI（人工知能）といったシ
 ステムとの連携事例も出てきています。またAngularやREA
 CT等のJavaScriptフレームワークを使ってスマホアプリを
 開発し、バックエンドのプラットフォームとして、Drup
 al（ドルーパル）を利用する事も可能です。\nDrupal（ド
 ルーパル）技術者の方、デジタルマーケティング運用
 担当の方、また、Drupal（ドルーパル）にご興味がある
 方のご参加をお待ちしております。\nDrupal（ドルーパ
 ル）技術動向に関する発表や意見交換を行います。\n
 ご要望があれば、ハンズオンの練習みたいのもやりた
 いです。\n技術動向は知りたいけれど、技術者でない
 という方も、是非、気軽にご参加ください。\n主催\nDru
 pal Meetup 羽田\n場所\n大田区産業プラザPiO  2Fビズビーチ
 \n東京都大田区南蒲田1丁目20-20\nご準備いただくもの\n
 特にありません。手ぶらでお越しください。\nプログ
 ラム\n\n\n\nタイムテーブル\nタイトル\n登壇者\n\n\n\n\n19
 ：00 ～ 19：10\nドテカン(Drupal定点観測）\nアウトソーシ
 ングテクノロジー 西尾 正博\n\n\n19：10 ～ 19：25\nコン
 テナ、ドッカー、クーバネテスって何　Drupalユーザー
 も知っておくといい、かも\n日本テラデータ㈱ 小薗井 
 康志\n\n\n19：25 ～ 19：40\nDrupalセキュリティ情報とその
 背景\nコネクト（株）佐藤栄一\n\n\n19：40 ～ 19：55\nDrupa
 lサイトの管理を楽にしてくれる？Multisite機能について
 \nジョンソンエンドジョンソン 岸 俊兵\n\n\n20：00 ～ 21
 ：00\n懇親会＆質疑応答＆Drupal Meetup 羽田について意見
 交換\n\n\n\n\n※プログラムは予告なく変更する場合があ
 ります。\n※プログラムは決まり次第、順次掲載しま
 す。\n※軽食、ドリンクのご用意しております。\n※一
 般公開するレポートもしくは記事等を制作のために写
 真撮影をする場合があります。写真に写るのがNGな方
 は、イベント当日に運営スタッフまでお申し出くださ
 い。\nDrupalとは？\nDrupalは、オープンソースCMS（コンテ
 ンツ管理システム）で、数多くの企業や政府、自治体
 等に採用されています。最新版のDrupal8は、エンドユー
 ザーにも使い勝手が良くなっており、また、他システ
 ムと連携等、数多くの機能が向上しています。\nhttps://
 www.drupal.org/\n協力\nbiz BEACH CoWorking\n公益財団法人大田区
 産業振興協会\n[株式会社メタ・インフォ]\nジェネロ株
 式会社\n関連情報\n◆その他の場所で開催されているDru
 pal Meetup\n大阪・梅田でMeetupが開催されています。\n→ D
 rupal Meetup 梅田\n名古屋・豊田でMeetupが開催されていま
 す。\n→ Drupal Meetup 豊田\n◆同会場で行われているWeb関
 係の勉強会\nWordPressの勉強会は、羽田でも開催されて
 います。\n→ WordBench 羽田\n諸注意\n・プログラム内容
 は予告なく変更する可能性があります。\n・開催中の
 事故・天災・その他の事象によってもたらされたすべ
 ての不利益に関して、当勉強会、および会場提供者は
 その責任を負いかねます。\n・本イベントは全ての参
 加者が楽しんでいただくことを主旨としております。
 そのため、以下のような行動を取られた方は、退室し
 ていただく場合がございます。また次回以降の参加も
 お断りさせていただく場合がございますので了承下さ
 い。過去に以下のような行動を取られた方からのお申
 込についてもお断りさせていただく場合がございます
 。\n1）イベントの妨害と見られる言動\n2）講師および
 参加者に対して一方的な批判また攻撃的な言動\n3）人
 材紹介、転職、マルチ商法、宗教など、本勉強会とは
 関係のない勧誘
LOCATION:大田区産業プラザPiO 2Fビズビーチ 東京都大田区
 南蒲田1丁目20-20
URL:https://techplay.jp/event/680151?utm_medium=referral&utm_source=ics&utm
 _campaign=ics
END:VEVENT
END:VCALENDAR
