BEGIN:VCALENDAR
VERSION:2.0
PRODID:-//https://techplay.jp//JP
CALSCALE:GREGORIAN
METHOD:PUBLISH
X-WR-CALDESC:【学生限定】Kubernetes勉強会@さくらインターネ
 ット OthloEvent#34
X-WR-CALNAME:【学生限定】Kubernetes勉強会@さくらインターネ
 ット OthloEvent#34
X-WR-TIMEZONE:Asia/Tokyo
BEGIN:VTIMEZONE
TZID:Asia/Tokyo
BEGIN:STANDARD
DTSTART:19700101T000000
TZOFFSETFROM:+0900
TZOFFSETTO:+0900
TZNAME:JST
END:STANDARD
END:VTIMEZONE
BEGIN:VEVENT
UID:680785@techplay.jp
SUMMARY:【学生限定】Kubernetes勉強会@さくらインターネッ
 ト OthloEvent#34
DTSTART;TZID=Asia/Tokyo:20180901T130000
DTEND;TZID=Asia/Tokyo:20180901T180000
DTSTAMP:20260424T093122Z
CREATED:20180621T060441Z
DESCRIPTION:イベント詳細はこちら\nhttps://techplay.jp/event/68078
 5?utm_medium=referral&utm_source=ics&utm_campaign=ics\n\nはじめに\nOt
 hloTechでは、東海圏の学生エンジニア／デザイナーが集
 まり、情報の共有や学生同士の繋がりを広げるために
 月1回のペースで勉強会「OthloEvent」を開催しています
 。\n学生であれば大学・専門学校・高校は問いません
 。どなたでも参加いただけます。\n※ 学生限定のイベ
 ントです。社会人の方は参加できません。\n※ 16歳未
 満の方のイベント参加には、保護者の同意が必要です
 。\nイベント内容\nDockerの日本語ドキュメントも作成し
 ている前佛 雅人様を講師としてお呼びしてコンテナオ
 ーケストレーションツールであるKubernetesについての勉
 強会およびハンズオンを行います。具体的には下記の
 内容が学べます。なお、ハンズオンではRancher 2.0を利
 用します。\n勉強会\n\nKubernetesってなに？\nKubernetesの基
 本的な動作\nKubernetesってどんな時に使うと便利？\n\nハ
 ンズオン\n\nKubernetesクラスタの作り方\nkubectlを利用し
 てKubernetesを操作する\nKubernetesを利用したアプリケーシ
 ョンのスケーリング\nKubernetes上でpod(コンテナ)が停止
 した場合にどのように復旧するのか\n\nこんな人におす
 すめです\n\nコンテナ技術に興味がある\n大規模でコン
 テナを運用するためにどのようなツールを利用するの
 か知りたい\nインフラエンジニアに興味がある\n\n※あ
 る程度Dockerの基本コマンドが使えると好ましいです。\
 n資料:https://www.slideshare.net/zembutsu/docker-container-image-comman
 d-introduction-2017-03\nKubernetesとは\nKubernetesはコンテナのオ
 ーケストレーションツール(配備/設定/管理の自動化ツ
 ール)のデファクトスタンダードと言われており、Google
 が開発したBorgというソフトウェアを元にして開発され
 たオープンソースソフトウェアです。(k8sと呼ばれるこ
 ともあります。)GoogleではDockerがオープンソース化され
 るよりもかなり前からコンテナ技術を利用しており現
 在では毎週20億を超えるコンテナが立ち上がっている
 ようです。Kubernetesはその知見を活かして開発が行われ
 ており、大規模開発において必要な機能を備えていま
 す。\n参考:\n\nKubernetes\nkubernetesによるDockerコンテナ管
 理入門\n\n続・KubernetesによるDockerコンテナ管理入門\n\n
 タイムスケジュール\n\n\n\n時間\n内容\n\n\n\n\n12:45\n開場\
 n\n\n13:00\nイベント開始\n\n\n13:10\n会社説明(さくらイン
 ターネット様)\n\n\n13:20\n会社説明(スタメン様)\n\n\n13:30\
 nKubernetesについての概要説明\n\n\n14:30\nKubernetesのクラス
 タを作成する\n\n\n15:30\n休憩\n\n\n15:45\nkubectlを使ってKube
 rnetesを操作する\n\n\n16:30\nハンズオン終了・懇親会準備
 \n\n\n17:00\n懇親会\n\n\n18:00\n撤収\n\n\n\n会場\n会場：株式
 会社スタメン\n住所 : 愛知県名古屋市中村区 井深町1-1\
 n持ち物\n\nPC (WSL環境のあるWindows\, Mac\, Linux)  事前にdock
 erのインストールをお願いします。\nhttps://qiita.com/Arunek
 o/items/c79810b0b015bebf30bb\n充電器\n\n備考\n\nWi-Fi: あり\n電
 源: あり(人数分はございません。譲り合ってご利用い
 ただければ幸いです。)\n\nOthloTechについて\n私たちは、
 名古屋でクリエイティブな学生のコミュニティを作る
 ために「OthloTech」を結成しました。専門技術を持った
 学生が集まり、勉強会や交流会を通して学校では学べ
 ない知識を共有しましょう。学生同士の横の繋がりを
 広げて、新しいサービスが生まれるきっかけを作りた
 いと思っています。\n▼OthloTechのHP・SNS\nOthloTechホーム
 ページ\nFacebookページ\nTwitterアカウント @OthloTech\nさく
 らインターネット株式会社について\nさくらインター
 ネットは国内の自社運営データセンターでレンタルサ
 ーバーや\n専用サーバー、VPS、クラウドなどのインタ
 ーネットインフラサービスを幅広\nく提供しています
 。\nまた、IoT分野において通信モジュールとセキュア
 なプラットフォームを統合\nした「sakura.io」や、人工
 知能やディープラーニングの研究などに必要とな\nる
 大量の演算リソースに特化した「高火力コンピューテ
 ィング」など、インター\nネット環境の変化とともに
 ユーザーのニーズに応じた多様なサービスを開発し、\
 nビジネスを支援しています。\n会社情報：https://www.saku
 ra.ad.jp/
LOCATION:株式会社スタメン 愛知県名古屋市中村区 井深町1
 -1
URL:https://techplay.jp/event/680785?utm_medium=referral&utm_source=ics&utm
 _campaign=ics
END:VEVENT
END:VCALENDAR
