BEGIN:VCALENDAR
VERSION:2.0
PRODID:-//https://techplay.jp//JP
CALSCALE:GREGORIAN
METHOD:PUBLISH
X-WR-CALDESC:第8回 Center CLR 勉強会
X-WR-CALNAME:第8回 Center CLR 勉強会
X-WR-TIMEZONE:Asia/Tokyo
BEGIN:VTIMEZONE
TZID:Asia/Tokyo
BEGIN:STANDARD
DTSTART:19700101T000000
TZOFFSETFROM:+0900
TZOFFSETTO:+0900
TZNAME:JST
END:STANDARD
END:VTIMEZONE
BEGIN:VEVENT
UID:681371@techplay.jp
SUMMARY:第8回 Center CLR 勉強会
DTSTART;TZID=Asia/Tokyo:20180811T130000
DTEND;TZID=Asia/Tokyo:20180811T170000
DTSTAMP:20260425T202026Z
CREATED:20180625T020508Z
DESCRIPTION:イベント詳細はこちら\nhttps://techplay.jp/event/68137
 1?utm_medium=referral&utm_source=ics&utm_campaign=ics\n\nCenter CLRとは
 \nCenter CLRは、2014年10月設立した、中部圏の開発者によ
 る.NET\,　C#\,　F#\,　ASP.NET\,　IoT\,　Microsoft Azureなどマイ
 クロソフト系技術の知見を共有して各自のレベルアッ
 プを目指す技術者コミュニティです。\n協力\nアイレッ
 ト株式会社　：　会場提供\nSeeed株式会社　：　プレゼ
 ント提供\nタイムスケジュール（予定）\n\n\n\n時刻\n時
 間[分]\n内容\n登壇者\n\n\n\n\n12:30\n30\n開場、受付開始\n\n
 \n\n13:00\n5\nオープニング\n\n\n\n13:05\n15\nスポンサープレ
 ゼン\nアイレット\n\n\n13:20\n15\nスポンサープレゼン\nSeee
 d\n\n\n13:35\n30\nHoloLensを使った授業の開発・実践結果\n植
 田達郎\n\n\n14:05\n30\nシークレットセッション\nKouji Matsui
 \n\n\n14:35\n30\nクイズの時間\nKazuki.Kachi\n\n\n15:05\n10\n休憩\
 n\n\n\n15:15\n30\n5分プレゼン x3\n\n\n\n15:45\n30\nAzure Cosmos DB B
 ulk Executor Library ことはじめ\nhsakoh\n\n\n16:15\n30\nあれから
 １年。ユーザから見たWannaCry祭り\n加藤 哲司（テツジ
 ん）\n\n\n16:45\n15\nプレゼント抽選発表\n\n\n\n17:00\n\n閉場
 \n\n\n\n\nシークレットセッション (Kouji Matsui)\n\nテーマ
 はありますが、今回は、来て頂いた方だけで共有しま
 す。ディスカッション形式です。\n\n注意事項\n\n当日
 は大名古屋ビルヂングのオフィス棟はセキュリティキ
 ーを持っていないと自動ドアが開きません。\n12:30から
 13:00の間、大名古屋ビルヂング1Fのオフィス入口（☆印
 の箇所）にイベントスタッフがいるので、声をかけて
 自動ドアを開けてもらってください。\n13:00以降の入場
 は不可です。遅れないようにご注意ください。\n\n登壇
 希望の方へ\n内容は「CLR」に限らず、マイクロソフト
 系技術であれば何でもOKです。
LOCATION:アイレット株式会社 名古屋オフィス 愛知県名古
 屋市中村区名駅3-28-12 大名古屋ビルヂング18F
URL:https://techplay.jp/event/681371?utm_medium=referral&utm_source=ics&utm
 _campaign=ics
END:VEVENT
END:VCALENDAR
