BEGIN:VCALENDAR
VERSION:2.0
PRODID:-//https://techplay.jp//JP
CALSCALE:GREGORIAN
METHOD:PUBLISH
X-WR-CALDESC:統計学を体系的に学べるセミナー（統計検定2
 級合格レベル）初級
X-WR-CALNAME:統計学を体系的に学べるセミナー（統計検定2
 級合格レベル）初級
X-WR-TIMEZONE:Asia/Tokyo
BEGIN:VTIMEZONE
TZID:Asia/Tokyo
BEGIN:STANDARD
DTSTART:19700101T000000
TZOFFSETFROM:+0900
TZOFFSETTO:+0900
TZNAME:JST
END:STANDARD
END:VTIMEZONE
BEGIN:VEVENT
UID:681519@techplay.jp
SUMMARY:統計学を体系的に学べるセミナー（統計検定2級合
 格レベル）初級
DTSTART;TZID=Asia/Tokyo:20180716T140000
DTEND;TZID=Asia/Tokyo:20180716T190000
DTSTAMP:20260421T142155Z
CREATED:20180625T111937Z
DESCRIPTION:イベント詳細はこちら\nhttps://techplay.jp/event/68151
 9?utm_medium=referral&utm_source=ics&utm_campaign=ics\n\n統計学を体
 系的に学べるセミナー（統計検定2級合格レベル）初級
 \n\n概要\n\n基礎から統計学を体系的に学べる講座を開
 講いたします！本講座のゴールは統計検定2級合格レベ
 ルへの到達です。\n\n他にもレベル別に統計学セミナー
 を開講しますので、下記カリキュラムを確認の上、参
 加日をご決定ください。\n\n・統計学をゼロから学び直
 せるセミナー（統計検定3級合格レベル）超基礎編\n・
 統計学を体系的に学べるセミナー（統計検定2級合格レ
 ベル）初級\n・統計学を体系的に学べるセミナー（統
 計検定2級合格レベル）中級1\n・統計学を体系的に学べ
 るセミナー（統計検定2級合格レベル）中級2\n\n※初級
 は超基礎編、中級は初級までの知識を前提とします。\
 n※中級1と中級2は対象とする分野が異なるだけで、レ
 ベル差はありません。\n\nカリキュラム\n\n統計学を体
 系的に学べるセミナー（統計検定2級合格レベル）初級
 \n\n\n統計検定３級レベル用語まとめ(確認程度)\n\n平均
 、分散、標準偏差\n変動係数、中央値、最頻値\n四分位
 数、範囲、四分位範囲、箱ひげ図\n共分散、相関係数\n
 \n\n\n統計検定３級レベルから統計検定２級へ\n\n記述統
 計から推測統計へ\n母集団とは？\n\n\n\n統計検定２級レ
 ベル基礎用語まとめ\n\n確率の表し方\n確率変数とは？\
 n変数の種類\n期待値とは？\n\n\n\n確率分布\n\n連続型（
 正規分布、指数分布、一様分布）\n離散型（ベルヌー
 イ分布、二項分布、ポアソン分布、幾何分布）\n中心
 極限定理\n二変量正規分布\n\n\n\n\n\n※それぞれの項目
 に演習問題を最低2題用意しておりますので、理解度を
 確認しながら受講できます。\n※内容は一部変更にな
 ることがございます。\n\n講座を通じて得られること\n\
 n・統計スキルを統計検定2級合格レベルまで高められ
 る\n・大学基礎レベルまでの統計学を一通り学べる\n・
 基本的な統計解析に関して、理論を理解し、世界が広
 がる\n\nこんな人にオススメ\n\n・統計検定2級の合格を
 目指している方\n・統計学を体系的に基礎から学びた
 い方\n・データ分析を行なっているが、理論をより深
 く理解した上で機械学習や統計解析の実装をしたいと
 考えている方\n\n講師\n\n崔 一鳴\n全人類がわかる統計
 学の管理人。大学にて統計学を専攻。サイトではPython
 、R、仮説検定、統計の基礎の記事を中心に担当。現在
 は、PythonやRを使い、都内の私立大学医学部で統計解析
 の助手やDSコンペへの参加などの活動をしている。ま
 た東京工業大学大学院にて自然言語処理の研究にも従
 事。\n\n高田 昌紀\n全人類がわかる統計学のアプリの開
 発・運営を担当。大学院にて数理統計学を専攻。専門
 はベイズ統計と分割表解析で、多次元対称モデルの幾
 何平均に着眼した新たな尺度を提案するための研究に
 従事している。\n\n\n持ち物\n\n・pdfの資料を閲覧するた
 めのデバイス（ノートPC、タブレットなど）\n・ルート
 の計算ができるデバイス（ノートPC、スマホ、電卓な
 ど）\n・筆記用具（演習問題をたくさん用意しており
 ます。）\n\n※資料をお手元でも確認できるよう、当日
 は資料をデータとして配布いたします。\n\n参加費\n\n
 前払い\n9000円\n\n※前払いの方でキャンセルされる場合
 は、開催日の3日前までのご連絡に限り、払い戻し手数
 料を差し引いた金額を返金いたします。それ以降は返
 金には応じ兼ねますのでご了承ください。\n\n当日現金
 払い\n10000円（受付時にお支払いください）\n\n領収書
 について\n\n前払いの方\n決済処理後にPaypalから送付さ
 れるメール内容、またはPaypalの取引履歴から該当項目
 を確認の上、「詳細」をご覧ください。それらが領収
 書の代わりとなります。また、クレジットカード会社
 発行の利用明細書も領収書としてご利用いただけます
 。（当社より重複しての領収書発行は行えません)\n\n
 当日払いの方\n講座後のアンケートにて、「領収書が
 必要」にチェックを入れるようにお願いいたします。
 領収書をメールにて送付させていただきます。\n\n受付
 ・入場時間\n\n開始の15分前から\n\n※なるべく5分前ま
 でにお入りください。\n※途中参加も可能です。\n\nお
 問い合わせ\n\nイベントに関するお問い合わせはinfo@to-k
 ei.netまでご連絡ください。\n\n注意事項\n\n・リクルー
 ティング、勧誘、採用活動など、目的に沿わない行為
 につきまして、主催者が相応しくないと判断した場合
 は即刻退出処分とします。全員が気持ちよく過ごすこ
 とが出来るよう、ご協力をお願い致します。\n・講座
 内で扱うコンテンツは全て「全人類がわかる統計学」
 に帰属しています。複製はご遠慮ください。\n・個人
 ブログへの講義コンテンツの掲載はご遠慮ください。\
 n・統計検定2級の全範囲を網羅しているわけではござ
 いません。より効率よく合格を目指すために、出る確
 率が低い分野（過去問題から独自に判断）、理解が難
 しい割には得られる恩恵があまり大きくない分野は、
 カリキュラムから除外しています。\n\n全人類がわかる
 統計学とは\n\n統計学の学習サイト、全人類がわかる統
 計学を運営、管理している団体です。統計学とその関
 連分野について、出来るだけわかりやすく多くの人々
 に届けるということを目指して活動しています。\n
LOCATION:渋谷駅徒歩5分（みんなの会議室2-2　渋谷宮益坂
 ）  東京都渋谷区渋谷１-８-３ TOC第１ビル2階
URL:https://techplay.jp/event/681519?utm_medium=referral&utm_source=ics&utm
 _campaign=ics
END:VEVENT
END:VCALENDAR
