BEGIN:VCALENDAR
VERSION:2.0
PRODID:-//https://techplay.jp//JP
CALSCALE:GREGORIAN
METHOD:PUBLISH
X-WR-CALDESC:自分でサービスサイトを作りたい大学生必見
 ！ ただのサイト制作で終わるな。ビジネス自走力強化
 イベント
X-WR-CALNAME:自分でサービスサイトを作りたい大学生必見
 ！ ただのサイト制作で終わるな。ビジネス自走力強化
 イベント
X-WR-TIMEZONE:Asia/Tokyo
BEGIN:VTIMEZONE
TZID:Asia/Tokyo
BEGIN:STANDARD
DTSTART:19700101T000000
TZOFFSETFROM:+0900
TZOFFSETTO:+0900
TZNAME:JST
END:STANDARD
END:VTIMEZONE
BEGIN:VEVENT
UID:681609@techplay.jp
SUMMARY:自分でサービスサイトを作りたい大学生必見！ た
 だのサイト制作で終わるな。ビジネス自走力強化イベ
 ント
DTSTART;TZID=Asia/Tokyo:20180705T133000
DTEND;TZID=Asia/Tokyo:20180705T170000
DTSTAMP:20260422T055400Z
CREATED:20180626T032159Z
DESCRIPTION:イベント詳細はこちら\nhttps://techplay.jp/event/68160
 9?utm_medium=referral&utm_source=ics&utm_campaign=ics\n\n【学生向け
 】採用に直結！エンジニア思考実践イベント\n\n概要\n\
 nただ作るだけがエンジニアではない！ビジネス成果の
 実現に向けて“自走力”を高めるイベント\n\nクインテ
 ットのエンジニアは現在12人。100以上のサイトの開発
 ・運用保守を行っており、その8~9割が自社サイトの開
 発です。 受託開発の場合は企画担当者からの依頼をそ
 のまま作ることもありますが、\n自社サイト開発の場
 合、依頼されたことを具体的にどう設計・実装してい
 くかはエンジニアが考え、企画担当者と相談しながら
 進めていきます。 社内サービスなのでサービスや機能
 の改善に向けた施策の提案や実行を自ら行えるという
 点でやりがいがありますが、そのような現場では常に
 自ら考え、実行する「自走力」が必要です。\n\n今回の
 イベントでは、自社メディア『美容医療の口コミ広場
 』に実装されている開発技術の解説、そして“自走”
 の土台となる思考力を磨くワークを行います。\n\n◎日
 本最大級の口コミサイト『美容医療の口コミ広場』。
 その開発現場を4つの視点で解説！\n\nいまや月間180万
 人ものユーザーが利用し、4\,000近くのクライアントを
 持つWebサービス『美容医療の口コミ広場』。 これほど
 大規模で強固なセキュリティを持つサイトを作り上げ
 るにあたって、クインテットのエンジニアはどのよう
 な設計・実装を行ってきたのでしょうか。 Webアプリケ
 ーション、インフラ、フロント、不正検知という4つの
 視点で、実際にその分野を担当する社員がサービス開
 発を語ります。\n※上記内容は変更する場合がござい
 ますので予めご了承ください。\n\n◎エンジニア入社試
 験の過去問を体験！思考力を磨くワークショップ\n\n今
 回のワークショップは「コミュニケーションコストを
 最小化する」という課題のもと、現状のコミュニケー
 ションコストデータをもとに最適な座席配置を導き出
 すワークです。 クインテットが実際に入社試験として
 導入していたワークの過去問を使います。 グループ対
 抗戦で、課題に対してどのグループがより正解に近い
 アウトプットを出せるかを競っていただきます。\n\nタ
 イムスケジュール\n\n\n\n\n  時間\n  内容\n\n\n\n\n  13:30〜\
 n  受付開始\n\n\n  14:00〜14:50\n  第一部 《 講演 》\n\n\n  1
 4:50〜15:00\n  質疑応答＆休憩\n\n\n  15:00〜16:00\n  第2部《 
 グループワーク 》\n\n\n  16:00〜16:30\n  グループ発表＆
 フィードバック\n\n\n  16:30〜17:00\n  交流会(飲み物、軽
 食あり)\n\n\n  17:00\n  懇親会\n\n\n\n\n※ 当日予告なく時
 間配分・内容が変更になる可能性がございます。\n\n参
 加対象\n\nプログラミングのコードを書いた経験がある
 （言語不問）\n\n持ち物\n\nなし\n\n服装\n\n特に指定はあ
 りません。\n\n参加費\n\n無料\n
LOCATION:株式会社クインテット　東京オフィス 東京都新
 宿区市谷本村町2-10ストリーム市ヶ谷2階
URL:https://techplay.jp/event/681609?utm_medium=referral&utm_source=ics&utm
 _campaign=ics
END:VEVENT
END:VCALENDAR
