BEGIN:VCALENDAR
VERSION:2.0
PRODID:-//https://techplay.jp//JP
CALSCALE:GREGORIAN
METHOD:PUBLISH
X-WR-CALDESC:【学生向け】採用に直結！Webコンサル実践イ
 ベント開催情報
X-WR-CALNAME:【学生向け】採用に直結！Webコンサル実践イ
 ベント開催情報
X-WR-TIMEZONE:Asia/Tokyo
BEGIN:VTIMEZONE
TZID:Asia/Tokyo
BEGIN:STANDARD
DTSTART:19700101T000000
TZOFFSETFROM:+0900
TZOFFSETTO:+0900
TZNAME:JST
END:STANDARD
END:VTIMEZONE
BEGIN:VEVENT
UID:681610@techplay.jp
SUMMARY:【学生向け】採用に直結！Webコンサル実践イベン
 ト開催情報
DTSTART;TZID=Asia/Tokyo:20180629T133000
DTEND;TZID=Asia/Tokyo:20180629T173000
DTSTAMP:20260422T090743Z
CREATED:20180626T034041Z
DESCRIPTION:イベント詳細はこちら\nhttps://techplay.jp/event/68161
 0?utm_medium=referral&utm_source=ics&utm_campaign=ics\n\n【学生向け
 】採用に直結！Webコンサル実践イベント開催情報\n\n概
 要\n\n成果貢献をだし続けるWeb集客支援コンサルティン
 グを体感！\n\n永続的なクライアントへの成果貢献が私
 たちのミッションです。\nクライアントへもたらす中
 長期的な成果貢献を常に意識し、その実現のために必
 要とされる業務をチームで実施します。\nクライアン
 トとの相互利益をもたらす関係性を構築することで、
 中長期的なWeb戦略の立案と実行が可能となり、場当た
 り的な対策を排除しクライアントへの永続的な成果を
 もたらします。\n\n今回は、参加いただく学生の方々に
 実際にコンサルタントとして一部の業務をチームで考
 え、答を導く参加型の実践ワークイベントです。\n集
 客はどの分野でも大変需要な役割となりますので、ご
 自身のスキルアップや就職に繋がる企業ノウハウとし
 て是非ともご参加いただければと思います。\n\n◎成果
 報酬型コンサルティングを"知る"\n\nクインテットのWeb
 集客支援コンサルティングでは、クライアント様の最
 終目標に貢献できなければ報酬を頂かない「成果報酬
 型契約」を結んでいます。自社だけが楽に儲かるやり
 方ではなく、双方に長期的な利益をもたらす仕組みを
 学ぶ重要なセッションです。\n\n◎コンサルの基礎「タ
 ーゲット心理」を徹底的に"考える"\n\n実践ワークイベ
 ントでは、「ターゲットはどう思うか？」「ターゲッ
 トはどう行動するか？」「ターゲットはなぜそれを選
 ぶか？」を考え、Web集客支援コンサルティングに必要
 な思考を形にする体験が行えます。\n\n◎コンサルタン
 ト歴約20年。集客支援のプロから"学ぶ"\n\n担当講師は
 、かつてソフトバンクグループで医療系Webサービス新
 規立ち上げを担当し、クインテット社を含め約20年の
 経験を持つ小林直樹が務めます。\n※担当講師は日に
 よって変わる可能性がございます※\n\n小林 直樹\n元 
 コンサルティング戦略企画部 部長\n現 ビジネスプラッ
 トフォーム事業運営本部 本部長\n\n～講師からのメッ
 セージ～\n\n見栄えだけ綺麗なサイトを制作し、お客様
 の売上や成果にプラスにならなくてもコンサルティン
 グ料だけは徴収する。 そのようなコンサルティングの
 やり方に、私は常々疑問を抱いています。\n\nWebマーケ
 ティングにおいて、また、1人の社会人として、私たち
 が目指すべき価値とは一体なんでしょうか？\n\nクイン
 テットが目指しているのは、お客様と私たちが、長期
 的に価値を生み出し合う関係を築いていくことです。
 正解のない難問に挑み、コンサルタントとして価値を
 創造するために必要な思考に触れることで、学生から
 、社会人への一歩が踏み出せるかもしれません。\n\n▼
 参加者からの声\n\n●特にイベントで学びになったとこ
 ろはどんなところですか？\n\n大学4年　女性\n「日々見
 てるサイトがどのように働いているか理解できた」\n\n
 大学4年　男性\n「事業についてのリアルな数字、課題
 など大学で学んでいる内容が現場でどう活用されてい
 るか理解できました。」\n\n大学3年　女性\n「マーケテ
 ィングは大学でも学んだことないから不安でしたが分
 かりやすくワークも楽しく勉強になりました。」\n\nタ
 イムスケジュール\n\n\n\n\n  時間\n  内容\n\n\n\n\n  13:30〜\
 n  受付開始\n\n\n  14:00〜14:50\n  第一部 《 講演 》\n\n\n  1
 5:00〜15:25\n  質疑応答＆休憩\n\n\n  15:25〜16:15\n  第2部《 
 グループワーク 》\n\n\n  16:15〜17:00\n  グループ発表＆
 フィードバック\n\n\n  17:00〜17:30\n  交流会(飲み物、軽
 食あり)\n\n\n  17:30\n  閉場\n\n\n\n\n※ 当日予告なく時間
 配分・内容が変更になる可能性がございます。\n\n持ち
 物\n\nなし\n\n服装\n\n特に指定はありません。\n\n参加費
 \n\n無料\n
LOCATION:株式会社クインテット　東京オフィス 東京都新
 宿区市谷本村町2-10ストリーム市ヶ谷2階
URL:https://techplay.jp/event/681610?utm_medium=referral&utm_source=ics&utm
 _campaign=ics
END:VEVENT
END:VCALENDAR
