BEGIN:VCALENDAR
VERSION:2.0
PRODID:-//https://techplay.jp//JP
CALSCALE:GREGORIAN
METHOD:PUBLISH
X-WR-CALDESC:Mercari Meetup for Microservices Platform
X-WR-CALNAME:Mercari Meetup for Microservices Platform
X-WR-TIMEZONE:Asia/Tokyo
BEGIN:VTIMEZONE
TZID:Asia/Tokyo
BEGIN:STANDARD
DTSTART:19700101T000000
TZOFFSETFROM:+0900
TZOFFSETTO:+0900
TZNAME:JST
END:STANDARD
END:VTIMEZONE
BEGIN:VEVENT
UID:681772@techplay.jp
SUMMARY:Mercari Meetup for Microservices Platform
DTSTART;TZID=Asia/Tokyo:20180719T193000
DTEND;TZID=Asia/Tokyo:20180719T220000
DTSTAMP:20260420T110820Z
CREATED:20180627T020522Z
DESCRIPTION:イベント詳細はこちら\nhttps://techplay.jp/event/68177
 2?utm_medium=referral&utm_source=ics&utm_campaign=ics\n\nイベント概
 要\nMercariではサービスと組織の拡大に合わせてMonolith
 アーキテクチャからMicroservicesアーキテクチャへの移行
 を進めています．Microservices Platform TeamはこのMicroservices
 のためのPlatformの構築を行っています．開発者のDevelope
 r Productivityを最大限に高め各チームがオーナーシップ
 を持ち独立して高速にサービス開発を行えるようなPlat
 formを目指しています．\n本イベントではMicroservices Platf
 orm Teamが現在どのようなことに取り組んでいるのかに
 ついて紹介をします．\n申込方法\nconnpassよりお申し込
 みお願いします\n※抽選結果 は 抽選通過の方に限り順
 次メッセージにてご案内させていただいております。\
 nタイムテーブル\n\n\n\n開始\n終了\nスケジュール内容\n\
 n\n\n\n19:00\n19:30\n受付開始\n\n\n19:30\n19:40\nIntroduction of micr
 oservices platform team @deeeeeeeet\n\n\n19:40\n20:00\nTerraform for Micr
 oservices @babarot\n\n\n20:00\n20:20\nKubernetes RBAC @spesnova\n\n\n20:2
 0\n20:25\n休憩\n\n\n20:25\n20:35\nKubernetes cluster upgrade @dtan4\n\n
 \n20:35\n20:50\nCustom k8s controller to create PR based dev environment.
  @vishal\n\n\n20:50\n21:50\n懇親会\n\n\n21:50\n22:00\nクロージン
 グ\n\n\n\n登壇者紹介\n@deeeeeeeet\nTech lead at microservices platf
 orm team. A Gopher. \nBlog deeeet.com\n@b4b4r07\nSRE @ Mercari\, Inc. Mic
 roservices Platform Team\nBlog tellme.tokyo\n@spesnova\nspesnova is a sof
 tware engineer at Mercari microservices platform team.\n@dtan4\nSRE @ Mer
 cari\, Inc. Microservices Platform Team\n@vbanthia_\nVishal is Software E
 ngineer in Test at Mercari and currently working with Microservices Platf
 orm Team to improve Development and QA experience. In past\, he has worke
 d extensively on mobile test infrastructure and automation. OpenSTF's Cor
 e Member and "Selenium実践入門" Co-Author\nGithub: @vbanthia\nTwitter
 : https://twitter.com/vbanthia_\n会場\n株式会社メルカリ ( 東
 京都港区六本木6-10-1 六本木ヒルズ森タワー18F )\n19:00開
 場、19:30 開始の予定です。\n六本木ヒルズ森タワーのLL
 階にある 専用受付カウンター にて、受付票のご提示
 をお願いします。入館証を発行させていただきますの
 で、お持ちになって18Fイベント会場までお越しくださ
 い。\n19時30分以降の受付につきましては、六本木ヒル
 ズ森タワーの受付カウンターにて、弊社社名と後ほど
 参加確定の方にメッセージでお送りいたします入館予
 約番号をお伝えいただき、発行される入館許可証をお
 持ちになって、Bホールのエレベーターより18Fまでお越
 しください。なお、お帰りの際に入館許可証に弊社担
 当社員のサインが必要となっております。\nオフィス
 棟の受付が20時までです。もし受付ができずに入れな
 い場合は、TwitterのDMにて @deeeeetまでご連絡ください。\
 nその他の注意事項\n\nゲスト用の Wi-Fi があります。\n
 入館・退館のやり方はよく目を通しておいてください
 。\n会場設備の関係上、イベント終了後は速やかに撤
 収となります。\nブログ・ツイッター等での発信は積
 極的にしていただけるとありがたいです。\n都合が悪
 くなった場合は早めのキャンセル処理をお願いします
 。\n
LOCATION:株式会社メルカリ 東京都港区六本木6-10-1(六本木
 ヒルズ森タワー18F)
URL:https://techplay.jp/event/681772?utm_medium=referral&utm_source=ics&utm
 _campaign=ics
END:VEVENT
END:VCALENDAR
