BEGIN:VCALENDAR
VERSION:2.0
PRODID:-//https://techplay.jp//JP
CALSCALE:GREGORIAN
METHOD:PUBLISH
X-WR-CALDESC:Kyoto.LT 第21回 (KRP-WEEK開催)
X-WR-CALNAME:Kyoto.LT 第21回 (KRP-WEEK開催)
X-WR-TIMEZONE:Asia/Tokyo
BEGIN:VTIMEZONE
TZID:Asia/Tokyo
BEGIN:STANDARD
DTSTART:19700101T000000
TZOFFSETFROM:+0900
TZOFFSETTO:+0900
TZNAME:JST
END:STANDARD
END:VTIMEZONE
BEGIN:VEVENT
UID:682236@techplay.jp
SUMMARY:Kyoto.LT 第21回 (KRP-WEEK開催)
DTSTART;TZID=Asia/Tokyo:20180803T183000
DTEND;TZID=Asia/Tokyo:20180803T203000
DTSTAMP:20260420T062156Z
CREATED:20180629T060555Z
DESCRIPTION:イベント詳細はこちら\nhttps://techplay.jp/event/68223
 6?utm_medium=referral&utm_source=ics&utm_campaign=ics\n\n京都の平日
 夜に開催している、気軽に参加、発表できることを目
 的としたライトニングトーク形式の勉強会です。  \n会
 場はKISTIC 2階、螺旋階段を上った先の、イノベーショ
 ンルームABになります。\n場所が分からない場合は以下
 サイトにてご確認ください。\nhttp://www.krp.co.jp/access/map.
 html\nhttp://www.krp.co.jp/access/room.html  \n※定員人数は調整
 する場合があります。\nテーマ\n今回は自由です。ご自
 身が興味あることを存分に発表してください。\nタイ
 ムテーブル\n\n\n\n時間\n\n\n\n\n\n18:20～18:30\n開場\n\n\n18:30
 ～18:40\nオープニング\n\n\n18:40～20:30\nライトニングトー
 ク\n\n\n20:30～\n後片付けのち懇親会（別会場）\n\n\n\n\n
 時間は多少前後することがあります。\n\nライトニング
 トーク\n\n発表は希望者のみ行います。（発表をしない
 方の参加もOKです。)\n1人あたりの制限時間は10分間で
 す。制限時間を過ぎると途中でも終了となります。\n5
 分間など制限時間より短い時間の発表もOKです。\n発表
 後質問タイムを設けています。\n発表内容はWeb\,スマー
 トフォンなどIT関連であればOKです。\nライトニングト
 ーク終了後懇親会となりますが、ライトニングトーク
 のみの参加もOKです。\n\nライトニングトーク発表者(敬
 称略)\n\n\n\n発表者\nタイトル\n\n\n\n\nmitsuharu_e\n自然言語
 と機械学習\n\n\nyagi2\nおうちにAPIを生やす\n\n\nTanakaMidnig
 ht\nモバイルプラットフォームのFirebaseだけどモバイル
 向けでもないWebサイトを構築する\n\n\nhiroya_akita\nびっ
 くり!? JavaScript\n\n\ngeckour\nRPN(逆ポーランド記法)入門し
 てみた\n\n\nmkashima\nOculus Go\n\n\nshose\n非エンジニアがエ
 ンジニアを分析してまとめてみた\n\n\n\nライトニング
 トークで発表したい方へ\n\nライトニングトークで発表
 したい方は申込みフォーム内の「ライトニングトーク
 で発表する」にチェックを入れてください。\n申込み
 時に発表タイトルが未定でも問題ありませんが、開催
 前にはご連絡ください。\n\n懇親会\n\nライトニングト
 ーク終了後、近くの居酒屋に移動して懇親会を行いま
 す。\n直前の申込の場合、お店の席数の都合で参加で
 きない場合があります（管理者へご相談ください）。\
 n\nその他\n\n入場時にチケットは不要です、受付時にお
 名前を確認させて頂きます。\n\nご注意\n\n他の方が不
 快に感じるような行為、公序良俗を逸脱した行為をさ
 れる場合、参加をお断りすることがございます。\n\n問
 い合わせ先\n本イベントに関するご質問等はページコ
 メントまたは下記にてお願い致します。\nmail: kyotolightn
 ingtalks@gmail.com\nTwitter: @KyotoLT
LOCATION:KISTICイノベーションルームAB 京都市下京区中堂寺
 南町134
URL:https://techplay.jp/event/682236?utm_medium=referral&utm_source=ics&utm
 _campaign=ics
END:VEVENT
END:VCALENDAR
