BEGIN:VCALENDAR
VERSION:2.0
PRODID:-//https://techplay.jp//JP
CALSCALE:GREGORIAN
METHOD:PUBLISH
X-WR-CALDESC:第71回R勉強会@東京（#TokyoR）
X-WR-CALNAME:第71回R勉強会@東京（#TokyoR）
X-WR-TIMEZONE:Asia/Tokyo
BEGIN:VTIMEZONE
TZID:Asia/Tokyo
BEGIN:STANDARD
DTSTART:19700101T000000
TZOFFSETFROM:+0900
TZOFFSETTO:+0900
TZNAME:JST
END:STANDARD
END:VTIMEZONE
BEGIN:VEVENT
UID:682470@techplay.jp
SUMMARY:第71回R勉強会@東京（#TokyoR）
DTSTART;TZID=Asia/Tokyo:20180715T143000
DTEND;TZID=Asia/Tokyo:20180715T203000
DTSTAMP:20260421T100349Z
CREATED:20180630T140523Z
DESCRIPTION:イベント詳細はこちら\nhttps://techplay.jp/event/68247
 0?utm_medium=referral&utm_source=ics&utm_campaign=ics\n\n第71回R勉強
 会＠東京（#TokyoR）を開催します！\n連絡のため、Google
 グループへの参加をお願いします。\n\nhttp://groups.google.
 com/group/r-study-tokyo\n\n入館方法 (受付番号が必要です)\n
 早めに到着された方は、2Fの黒いソファー前で待機く
 ださい。(上のフロアに上がらないでください。)\n受付
 にてconnpassのIDをご提示いただきます。ご用意をお願い
 します！\n最寄り駅は\n\n東京メトロ半蔵門線/有楽町線
 /南北線 永田町駅\n東京メトロ丸ノ内線/銀座線 赤坂見
 附駅\n\nです。\n永田町駅から来場の場合 (Nagatacho station
 \, Exit 9a or 9b)\n2F入口から入り、受付ブースにてcompassID
 を確認後、入館に使うQRコードとVISITORカードを受け取
 り、\nエレベーターで18階へ。その後階段で17階に降り
 会場へ。\n赤坂見附駅から来場の場合 (underpass to Nagatach
 o station Exit 9a/9b)\n1F入口から入り、右手エレベーターで
 2Fへ。左に曲がり受付へお願いします。\nその後のフロ
 ーは永田町から来場の場合と同様です。\n会場までの
 来場フローが若干複雑なので、スタッフの指示に従っ
 ていただきますよう、ご協力お願いいたします。\n受
 付時間 Reception opening time\n13:00〜14:30 (Floor 2\, Tokyo Garden T
 errace Kioicho)\n受付は2階で行います。\n受付開始前に到
 着された方は、2階にある黒い椅子付近で待機をお願い
 いたします。\n※時間厳守でお願いいたします。(原則
 として時間外のピックアップはありません)\n※警備員
 さんに声をかけられた場合、「17階のイベント参加者
 です」とだけ伝えてください。\nAGENDA\n※順番や内容は
 当日変わる可能性があります。\n※発表は全て英語で
 行われます。\nOpening remark\n\n\n\nTIME\nSPEAKER\n\n\n\n\n14:30 - 
 14:35\n@TokyoRCommunity\n\n\n\nAppetizeR session\n\n\n\nTIME\nSPEAKER\nTI
 TLE\n\n\n\n\n\n14:35 - 14:45\n@kilometer00\nLandscape with R -- the Japan
 ese R community\nslide\n\n\n14:45 - 15:00\n@tomkXY\nMy research journey w
 ith R\nslide\n\n\n15:00 - 15:15\n@heavywatal\nWriting an R package interf
 ace to C++ libraries with Rcpp\nslide\n\n\n\nCordon Bleu session I\n\n\n\
 nTIME\nSPEAKER\nTITLE\n\n\n\n\n\n15:30 - 16:00\n@RStudioJoe\nIntroduction
  to working with TensorFlow from R\ngithub\n\n\n\nA la caRte session\n\n\
 n\nTIME\nSPEAKER\nTITLE\n\n\n\n\n\n16:15 - 16:30\n@y__mattu\nEasy Writing
  for Bayesian Optimization in Machine Learning\nslide\n\n\n16:30 - 16:45\
 n@u_ribo\nA guide to spatial data analysis with the tidyverse\nslide\, gi
 thub\n\n\n16:45 - 17:00\n@R_by_Ryo\nVisualizing the World Cup with R!\nsl
 ide\n\n\n17:00 - 17:15\nKohei\nQuantitative Analysis of Textual Data with
  R\nslide\n\n\n17:15 - 17:30\n@airspace_nobo\nHow to predict the wind dir
 ection of tomorrow\nslide\n\n\n\nCordon Bleu session II\n\n\n\nTIME\nSPEA
 KER\nTITLE\n\n\n\n\n17:45 - 18:15\n@hadleywickham\nWhat is a data frame?\
 n\n\n\nDesseRt session (LT)\n18:30 - 19:00\n\n\n\nSPEAKER\nTITLE\n\n\n\n\
 n\n@gepuro\nAnalyse the community of Tokyo.R\nslide\n\n\n@Med_KU\n2018 FI
 FA World Cup Russia\nslide\n\n\n@kazutan\nYou do not have to wait until p
 rocessing is complete - Introduction of RStudio's "Jobs" Pane\nslide\n\n\
 n@f_nisihara\nCreating a hex map\nslide\n\n\n@yutannihilation\nIntroducti
 on to gghighlight\nslide\n\n\n@coldstart_p\nHow to combine machine models
  via linear regression\n\n\n\n\n懇親会\n同じ会場で立食パーテ
 ィー\nDrink & Discussion ~20:00\nCode of conduct\n健全な運営のた
 め、下記に関してご理解・ご協力のほどよろしくお願
 い致します。\nThank you for your understanding and cooperation.\nAn
 ti-harassment policy\nTokyo.Rでは、全ての参加者がナレッジ
 の共有に集中できるよう、ハラスメント行為を許容し
 ません。\nハラスメント行為とは、性差、性同一性、
 性的嗜好、障がい、外見や身体的特徴、人権、宗教に
 対する攻撃的な言動および表現、公共の場での性的な
 画像や類する表現、脅迫、ストーカ、不適切な接触、
 望まない写真撮影や録音・録画を含みます。\n全ての
 参加者は、Tokyo.R運営チームからハラスメント行為を止
 めるように求められた場合、直ちに従わなければなり
 ません。従わない場合、運営チームは、適切と思われ
 る範囲で警告・強制的な退席・コミュニティからの追
 放などの手段を行使します。会場内での言動だけでな
 く、Tokyo.Rの内容や状況についてブログやSNSなどで公開
 、コメントなどいただく際にも、これらハラスメント
 行為がないようご留意ください。\nハラスメント行為
 を見聞きした・被害にあわれた方は、下記の窓口もし
 くは会場の運営スタッフまでご連絡ください。\n・Tokyo
 .R運営チーム：tokyor2017@gmail.com\nTokyo.R is dedicated to providi
 ng a harassment-free conference experience for everyone\, regardless of g
 ender\, gender identity and expression\, sexual orientation\, disability\
 , physical appearance\, body size\, race\, age or religion. We do not tol
 erate harassment of conference participants in any form. Sexual language 
 and imagery is not appropriate for any conference venue\, including talks
 . Conference participants violating these rules may be sanctioned or expe
 lled from the conference at the discretion of the conference organizers.\
 nPlease contact us if you need anything\; tokyor2017@gmail.com. \nR commu
 nity code of conduct\nTokyo.Rは、R Consortiumが公開しているR com
 munity code of conductを尊守しています。\nWe expect all members 
 to follow the community code of conduct published on the R Consortium web
 site.\nProhibitions\n会場内における商品の売買は、固くお
 断りしております。  \nDo NOT make sales on the event space.\nAck
 nowledgements\nTokyo.RはRC RUGS 2018プログラムから支援をいた
 だいております。\nTokyo.R is a member of the R Community supporte
 d by RC RUGS 2018\, the R Consortium's R User Group and Small Conference 
 Support Program. .\n
LOCATION:ヤフー株式会社 東京都千代田区紀尾井町1-3 (東京
 ガーデンテラス紀尾井町 紀尾井タワー)
URL:https://techplay.jp/event/682470?utm_medium=referral&utm_source=ics&utm
 _campaign=ics
END:VEVENT
END:VCALENDAR
