BEGIN:VCALENDAR
VERSION:2.0
PRODID:-//https://techplay.jp//JP
CALSCALE:GREGORIAN
METHOD:PUBLISH
X-WR-CALDESC:Sketch基礎編 part2
X-WR-CALNAME:Sketch基礎編 part2
X-WR-TIMEZONE:Asia/Tokyo
BEGIN:VTIMEZONE
TZID:Asia/Tokyo
BEGIN:STANDARD
DTSTART:19700101T000000
TZOFFSETFROM:+0900
TZOFFSETTO:+0900
TZNAME:JST
END:STANDARD
END:VTIMEZONE
BEGIN:VEVENT
UID:683248@techplay.jp
SUMMARY:Sketch基礎編 part2
DTSTART;TZID=Asia/Tokyo:20180730T190000
DTEND;TZID=Asia/Tokyo:20180730T223000
DTSTAMP:20260421T035606Z
CREATED:20180703T140417Z
DESCRIPTION:イベント詳細はこちら\nhttps://techplay.jp/event/68324
 8?utm_medium=referral&utm_source=ics&utm_campaign=ics\n\n\n\n\n\nこん
 な人にオススメです！\n\n「UI/UXの勉強をしてみたい！
 」\n「Sketchとかいう神UIデザインツールを触ってみたい
 けど何もわからない・・・」\n「イメージした通りの
 スマホアプリの画面を自分で作りたい！」\nというよ
 うな方！運命です！是非ご参加ください！\n※講師はSk
 etchの回し者ではありません\n\nセミナー詳細\nQ.具体的
 には何をするんですか？\nA\,某激ナウマジエモアプリ
 ケーションの画面デザインを、sketch上で思うままに再
 現しちゃうハンズオンセミナーです！\n\nQ.某激ナウマ
 ジエモアプリケーションとは何ですか？\nA\,P●nterestで
 す！\n\nQ.全く隠れていませんが大丈夫ですか？\nA\,見
 せてるんです。言わせないでください。\n\nQ.イケてま
 すね\nA\,ほんまそれやで\n※講師はP●nterestの回し者で
 はありません\n\n\nタイムテーブル\n１９：００　開場
 ＆受付 \n１９：３０　開始\n　　｜　　　ハンズオン
 タイム①\n２１：００　休憩\n２１：１５　ハンズオン
 タイム②\n２２：００　懇親会（レクリエーションタ
 イム！）\n\n２２：３０　解散\n\n\n\n\n\n\n\n\n\n\n\n\nこれ
 はバジリスクタイム\n※講師はバジリスクタイムの回
 し者ではありません\n\n\n当セミナーでは、本編開始前
 に講師より参加者の皆様にプロフィールに関して簡潔
 なインタビューさせて頂き、\nセミナーオープニング
 時に講師から皆様にご紹介させて頂く『他己紹介』を
 実施しております。\nユニークなプロフィールをご用
 意して頂けると幸いです。\nMHTのセミナーを学びだけ
 ではなく、人を繋ぐきっかけの場としてご活用下さい
 ！\n\n\n参加前にご確認ください\nお持ちいただくもの\n
 \n\n必須！！\n＿人人人人人人人人人人人人＿\n＞ Macの
 ノートPC＆充電器 ＜\n￣Y^Y^Y^Y^Y^Y^Y^Y^Y^Y￣\n　　　　　
 　+\n講師の絶え間ないボケにツッコミを入れる芸人魂\
 n※二つ目は必須ではありません\n\n事前に準備してい
 ただくこと\n\n\n必須！！\n１、Sketchのインストール\n→
 Sketch最新版のインストールはこちら\n※ご注意\n・会場
 のWi-fi環境ではDLに時間がかかりますので、セミナーの
 開始までに間に合わなくなります。\n・インターネッ
 ト回線が早いご自宅などで事前にインストールを完了
 頂けますようお願い致します。\n\n２、本セミナーで使
 用するデータのダウンロード\n本セミナーで使用する
 データのご用意が出来ました。\nご参加の皆様にはこ
 ちらのデータを事前にダウンロードお願い致します。\
 nDL\n\n\n受講対象者\n\n・中学生以上！\n・Macを持ってい
 る方\n\nこんな方に特にオススメ！\nSketchでどんなこと
 ができるか知りたい方！\n「UIデザインをやってみたい
 ！」「講師のサポートを受けながら学びたい！」「Sket
 chはあまり触れたことがないから簡単な作業から始め
 たい！」などなど。気さくな講師陣が懇切丁寧にサポ
 ートします！\n\n\n会場\n〒150-0043\n東京都渋谷区道玄坂1
 丁目22-12 和孝渋谷ビル 10F\nアクアミーティングスペー
 ス渋谷\n今回の会場はJR渋谷駅から徒歩3分の好立地！\n
 行きも帰りもラクラクです♪\n\n\n講師(?)MHTのゆかいな
 仲間たち紹介\n\n本セミナーは主任講師１名、補助講師
 ４名で行います！\n\n【主任講師】げんさん\n\nデザイ
 ナー。気付いたら色んな技術に手を出してる。\n最近
 は3DソフトとかAfterEffectsとか弄ってる。\n Twitter：@MHTcod
 e_gen\n\n\n【補助講師】\n＼現役バリバリのイケイケデザ
 イナー４名がサポート！／\nエルモ\n生ハム専属ダイソ
 ン兼デザイナー\nUIデザインはSketchメインで一年ぽちぽ
 ちやってきました\nTwitter：@MHTcode_elmo \n\n\nみちこ\nデザ
 イン事業部の若きディレクターおかまよ♡\nTwitter：@MHT
 code_Mitsuo \n \n\nきゅうすけ\n新米デザイナー！イケメン
 をかじってます♡ﾃﾞｭﾌ♡♡\nTwitter：@MHTcode_kyusim\n\n
 \nカラリパヤット\n最近ゲイバーデビューしました！\nT
 witter：@@MHTcode_paya  \n\n\nおまけ♡\n Twitter：@MHTcodeVictoria 
 \n\n\n\n注意\n欠席の場合は必ずご連絡ください！\nお申
 込み後のキャンセルはconnpassのページ内よりステータ
 スのご変更をお願いします。\nまた、当日急遽欠席と
 なる場合は、必ずセミナー開始前までにご連絡くださ
 い。\nご連絡は以下のTwitterアカウントへのリプライ・D
 Mにて受付しております。\n Twitter：@MHTcode_Mitsuo \nキャ
 ンセルのご連絡がなくセミナーを欠席された場合、\n
 次回以降、MHT主催セミナーへの参加をお断りさせて頂
 きます。\n何らかのご事情でキャンセルのご連絡がで
 きなかった場合、\n後日その旨をご連絡を頂ければ次
 回以降のMHT主催セミナーへの\n参加に際してお断りす
 ることはございませんのでご安心下さい。\n繰り返し
 になりますが、本セミナーへの参加ができなくなった
 場合には\n必ず、ご連絡をお願い致します。\n\n\nお問
 い合わせ\n上記以外にもご不明点などがあれば、こち
 らのTwitterアカウントにてお気軽にお声かけください！
 \n \n Twitter：@MHTcode_Mitsuo \n\n \n過去のセミナー風景\n\n
LOCATION:アクアミーティングスペース渋谷 東京都渋谷区
 道玄坂1丁目22-12（和孝渋谷ビル 10F）
URL:https://techplay.jp/event/683248?utm_medium=referral&utm_source=ics&utm
 _campaign=ics
END:VEVENT
END:VCALENDAR
