BEGIN:VCALENDAR
VERSION:2.0
PRODID:-//https://techplay.jp//JP
CALSCALE:GREGORIAN
METHOD:PUBLISH
X-WR-CALDESC:Rust LT #2 〜いま使う！Rust〜懇親会
X-WR-CALNAME:Rust LT #2 〜いま使う！Rust〜懇親会
X-WR-TIMEZONE:Asia/Tokyo
BEGIN:VTIMEZONE
TZID:Asia/Tokyo
BEGIN:STANDARD
DTSTART:19700101T000000
TZOFFSETFROM:+0900
TZOFFSETTO:+0900
TZNAME:JST
END:STANDARD
END:VTIMEZONE
BEGIN:VEVENT
UID:683249@techplay.jp
SUMMARY:Rust LT #2 〜いま使う！Rust〜懇親会
DTSTART;TZID=Asia/Tokyo:20180801T211500
DTEND;TZID=Asia/Tokyo:20180801T220000
DTSTAMP:20260423T073723Z
CREATED:20180703T140425Z
DESCRIPTION:イベント詳細はこちら\nhttps://techplay.jp/event/68324
 9?utm_medium=referral&utm_source=ics&utm_campaign=ics\n\n開催概要\nRu
 st LT #2 〜いま使う！Rust〜参加者向けの懇親会となりま
 す。\n日時\n\n8月1日(水) 21:15-22:00\n\n参加費\n\n¥500\n\n会
 場\n\n株式会社ナビタイムジャパン\n\n※参加に関する
 注意事項\n以下に該当される方は参加をお断りいたし
 ます。\n\n採用・飲食のみを目的とした方\n同時間帯に
 複数のイベントに申し込まれている方\n過去にイベン
 ト進行に関しての問題を起こした方\n\n上記に該当する
 と判断させていただいた方は、キャンセル処理を行わ
 せていただく場合があります。
LOCATION:株式会社ナビタイムジャパン 東京都港区南青山3-
 8-38　南青山東急ビル
URL:https://techplay.jp/event/683249?utm_medium=referral&utm_source=ics&utm
 _campaign=ics
END:VEVENT
END:VCALENDAR
