BEGIN:VCALENDAR
VERSION:2.0
PRODID:-//https://techplay.jp//JP
CALSCALE:GREGORIAN
METHOD:PUBLISH
X-WR-CALDESC:IoTとブロックチェーン！Azure Blockchain入門+IoT応
 用勉強会@Microsoft
X-WR-CALNAME:IoTとブロックチェーン！Azure Blockchain入門+IoT応
 用勉強会@Microsoft
X-WR-TIMEZONE:Asia/Tokyo
BEGIN:VTIMEZONE
TZID:Asia/Tokyo
BEGIN:STANDARD
DTSTART:19700101T000000
TZOFFSETFROM:+0900
TZOFFSETTO:+0900
TZNAME:JST
END:STANDARD
END:VTIMEZONE
BEGIN:VEVENT
UID:683527@techplay.jp
SUMMARY:IoTとブロックチェーン！Azure Blockchain入門+IoT応用
 勉強会@Microsoft
DTSTART;TZID=Asia/Tokyo:20180829T190000
DTEND;TZID=Asia/Tokyo:20180829T220000
DTSTAMP:20260420T005913Z
CREATED:20180704T210427Z
DESCRIPTION:イベント詳細はこちら\nhttps://techplay.jp/event/68352
 7?utm_medium=referral&utm_source=ics&utm_campaign=ics\n\n\n【増枠し
 ました】【お陰様で229/110人と、ダブルスコアの大人気
 となったため、9/28に同内容を再演することが決定しま
 した。補欠のかたはこちらをキャンセルしそちらへご
 登録ください。（2018.7.25 update） 】\n\nAzure Blockchain入門
 +IoT応用勉強会@Microsoft　\nAzure Blockchainの基礎と、ブロ
 ックチェーン＋IoTの応用事例を中の人が熱く語る！\n
 ブロックチェーンが注目されています。\n中でも、Micro
 softのAzure Blockchainは注目すべき技術の一つとして３大
 クラウドサービスの中でも一歩抜きん出ています。\n
 いっぽう、ブロックチェーン技術は仮想通貨だけでな
 く、宅配ボックスの「鍵」として活用されるなどIoTで
 も応用事例が広がっています。\nIoT ALGYANとしては、是
 非とも注目したい分野です。\n\n今回は、Microsoft社の専
 門家である、デプロイ王子こと廣瀬一海さんをお招き
 しました。\n知られざるブロックチェーン技術＋IoTの
 世界を垣間見てみましょう！\n\nあなたの知的好奇心が
 強く刺激されるに違いありません！！！！！\n\nALGYANが
 初めての方も大歓迎です。\nこれを機にみんなで集合
 知を結集しながら、一緒にIoT技術の「今」と「未来」
 に熱い思いを馳せましょう！\n\nぼーっと生きてんじゃ
 ねえよ！\n\nIoT ALGYAN（あるじゃん）理事長　小暮敦彦\n
 \n【参加条件】\n・当コミュニティやイベントの趣旨を
 理解し、運営ボランティアメンバーや協賛企業様の貢
 献を温かく応援してくださるあなたなら、どなたでも
 ご参加出来ます！\n→ALGYANのイベントへのご参加は、co
 nnpassグループのメンバーになることが最低条件です。\
 n　connpassグループ　（必須）→ https://algyan.connpass.com \n
 　ALGYAN本会FBグループ（強い推奨）→　https://www.facebook
 .com/groups/ioytjp/ \n（ALGYANグループのメンバーには、固定
 会費負担や何らかの義務負担などは一切ありませんの
 でご安心ください）\n\n\n\n【参加費】\n・無料\n　→ア
 ルコール飲料・簡単なおつまみを出します（ソフトド
 リンクもあります）。　\n　　（フード＆ドリンクス
 ポンサー：moffers by CodeIQ様　ご提供）\n　→懇親会も含
 めて無料です。\n【必要な持ち物について】\n　今回は
 ハンズオンでは無いので特に何も入りません。\n　・
 一緒に楽しむ優しい気持ち。\n　・熱い情熱。\n　会場
 にはwifiがあり電源もあり自由に使えます。\n\n\n\n\n\n【
 開催場所】\n場所：日本マイクロソフト株式会社 品川
 本社　31F セミナールームA\n→時間厳守にご協力くださ
 い。Microsoft品川本社２階ロビーで「ALGYAN」の紙を持っ
 たボランティアから入館証を受け取り、来館者用エレ
 ベーターで31階に上がってください。31階「セミナール
 ームA」前で記帳受付して下さい（記帳はビルの入館規
 則のためです。ALGYANでは利用しません）。\n受付は18:55
 で打ち切ります。遅刻者は#ALGYANでTweetしてください。
 迎えに行くかもしれません。ただし、ビルの入館規則
 により19:50以降はどうしても入館出来ませんまた、人
 数が多い場合は立ち見になる可能性もございますから
 、お早めにお越しください。\n\n\n\n\n\n時　　刻\n進行
 内容( 2018年8月29日 ) 敬称略\n\n\n\n\n18:30〜18:55 受付\n→
 時間厳守にご協力ください。入館方法は前記\n\n\n19:00
 〜開始\n開演ご挨拶 IoT ALGYAN理事長　小暮懇親会スポン
 サーLT:moffers by CodeIQ様\n\n\n19:10〜\n講演（100分間）「目
 が離せない！ブロックチェーン技術の可能性：Azure Bloc
 kchain＋IoT」　　        日本マイクロソフト株式会社　Az
 ure Tech Solutions Professional　廣瀬一海（デプロイ王子） 
 【概要】デプロイ王子こと廣瀬一海氏が、ブロックチ
 ェーン技術の概要、構成する技術、最新動向からIoT分
 野への応用まで、Azure Blockchainを軸として分かりやすく
 解説します。・ブロックチェーンとは？・ブロックチ
 ェーンの利用用途、最新動向・ブロックチェーンを構
 成する技術・Azure Blockchainとは？・IoT分野への応用：Azu
 re Blockchain＋Azure IoT Hub・ブロックチェーン技術の将来
 性・質疑応答（途中で10分間ほど休憩を挟みます）(敬
 称略)\n\n\n21:00  〜\n懇親会\n\n\n\nアルコール投入開始！
 乾杯用のビールと簡単なおつまみを無料ご提供（ソフ
 トドリンクはドリンクコーナーから取ってください）
 。会場のレイアウト変更など進行にご協力ください。\
 n\n\n22:00  　終了予定\nレイアウトの原状回復とゴミの
 分別にご協力ください。\n\n\n\n\n【注意事項】\n※日本
 マイクロソフト株式会社様に会場をご厚意でお借りし
 ています。ご迷惑をおかけしないよう、また設備など
 の扱いについて、細心の注意を払ってください。\n※
 運営スタッフは全員ボランティアです。速やかな進行
 にご協力ください。\n※メディアの取材記事や当コミ
 ュニティのFacebookグループページや告知ページ、Twitter
 ツイート、ご参加者のブログなどに顔等が写りこんで
 しまう可能性があります。あらかじめご了承ください
 。\n※イベントで知り合った人や懇親会スポンサー様
 の紹介するサービスについては、コミュニティの責任
 範疇外です。関わりを持たれる際は、自己責任で行っ
 てください。\n\n【個人情報の扱いについて】\n個人情
 報は関係法令に従って管理いたします。他の用途では
 使いません。\n受付時に記帳頂きますが、ビルの入館
 規則によるもので、コミュニティーは情報に一切関与
 しません。\n懇親会スポンサー様の紹介するサービス
 に登録なさる際は、自己責任で行ってください。\n\n主
 催 IoT ALGYAN(あるじゃん)運営委員会\n協賛・協力\n　日
 本マイクロソフト株式会社様\n　moffers by CodeIQ様\n　全
 国あるじゃん有志の皆さん\n　当日参加者してくださ
 る、あ・な・た！　
LOCATION:Microsoft品川本社 東京都港区港南 2-16-3 品川グラン
 ドセントラルタワー
URL:https://techplay.jp/event/683527?utm_medium=referral&utm_source=ics&utm
 _campaign=ics
END:VEVENT
END:VCALENDAR
