BEGIN:VCALENDAR
VERSION:2.0
PRODID:-//https://techplay.jp//JP
CALSCALE:GREGORIAN
METHOD:PUBLISH
X-WR-CALDESC:【増枠】GYOMU Hackers Night vol.9 GYOMU Hack 自慢大会
X-WR-CALNAME:【増枠】GYOMU Hackers Night vol.9 GYOMU Hack 自慢大会
X-WR-TIMEZONE:Asia/Tokyo
BEGIN:VTIMEZONE
TZID:Asia/Tokyo
BEGIN:STANDARD
DTSTART:19700101T000000
TZOFFSETFROM:+0900
TZOFFSETTO:+0900
TZNAME:JST
END:STANDARD
END:VTIMEZONE
BEGIN:VEVENT
UID:683585@techplay.jp
SUMMARY:【増枠】GYOMU Hackers Night vol.9 GYOMU Hack 自慢大会
DTSTART;TZID=Asia/Tokyo:20180816T193000
DTEND;TZID=Asia/Tokyo:20180816T210000
DTSTAMP:20260422T093627Z
CREATED:20180705T060432Z
DESCRIPTION:イベント詳細はこちら\nhttps://techplay.jp/event/68358
 5?utm_medium=referral&utm_source=ics&utm_campaign=ics\n\nGYOMU Hackers Ni
 ght vol.9 GYOMU Hack 自慢大会\n〜ビジネスチームを支える
 立役者・業務効率UPの仕組みづくりをするGYOMUハックエ
 ンジニアのつどい〜\nテーマ\n今回は趣向を変えてGYOMU 
 Hack 自慢大会を行います！\n自社で行っている業務改善
 事例を、みんなの前で自慢してみませんか？\nエンジ
 ニアリングを駆使している、各種クラウドサービスを
 活用している、などいろんなHackを、進め方・使ってい
 る技術・苦労した点・学びなどの観点で教えてくださ
 い！\nイベント概要\n日々裏方として全社の事業運営や
 業務効率化を推進するみなさま。エンジニアのイベン
 トに参加しても技術の話がメインで運用の悩みを相談
 できないといったことありませんか？　なかなか同じ
 ような業務をする人と会うことがなく、ナレッジや悩
 みを共有/相談する機会が少ないのではないでしょうか
 ？\n私たちはそんなみなさまとナレッジ共有したいと
 思っています。\nLT\n有志による自社の事例共有です。
 ぜひ参考にしてみてください。\nお悩み相談室\n日頃の
 業務でなやんでいること、どうしてもアイデアがほし
 いことを共有してください。\nその場にいるエキスパ
 ートが解決案を一緒に考えてくれます。\nテーブルト
 ーク\n近くに座っている人たちで、日々の業務につい
 てお話をします。意外とみんな同じような悩みを抱え
 ていて、毎回盛り上がります。\n以下のような悩みご
 ざいませんか？\n\n複数の部署から依頼が来るが、案件
 ごとの優先度判断が難しい\nビジネスサイドとのコミ
 ュニケーションに苦労している\nビジネスサイドのス
 ピードを落とさずに開発効率を担保する手法が見つか
 らない\n自分たちの成果の測り方(アピールの仕方)に四
 苦八苦している\n\n当日は皆様と上記について意見交換
 したいと考えています。お互い普段は言えない悩み/愚
 痴をざっくばらんに言い合ってみませんか?\nこんな人
 に来て欲しい\nITをつかって業務改善プロジェクトをし
 ている/ビジネスチームとやりとりをすることが多い\n\
 nエンジニア\nITコンサル\n社内SE\n\nBPRを推進している\n\
 nPM/ディレクター/企画職\nエンジニア\n\nこんなことに
 ピンとくる方大歓迎\n\n目の前の困っている人を助けた
 い\n面倒なことは全部自動的にやってもらいたいと思
 う\n世の中の既存の仕組みに疑問を持つことが多い\n常
 に新しいことに挑戦していたい\n課題解決が得意\nSalesf
 orceをよく触っている\n業務改善に興味がある\nビジネ
 スサイドの仕事に興味がある\n\nキーワード\nSalesforce / 
 Marketo / Pardot / Zuora / Google Apps Script / Ruby on Rails / JAVA / ja
 vascript / VBA / SQL / Bot / AI / RPA\nGYOMU Hackers Guild\n\nFacebook Gr
 oup\ntwitter\n#gyomuhack\n\nタイムスケジュール（順次UPDATEし
 ます）\n\n\n\n時間\n\n\n\n\n\n19:00~19:30\n受付\n\n\n19:30~19:40\n
 あいさつ・会場説明\n\n\n19:40~20:40\nLT\n\n\n20:40~21:00\n歓談
 タイム\n\n\n21:00~\n一回しめます。話し足りなかったら
 続けてもOK\n\n\n\n※食べ物・飲み物（お酒含む）の持ち
 込みOKです。\nお腹が空きそうだな、という方はご用意
 をお願いします。\nLT発表者（順次UPDATEします）\nTBA\n
 会場情報\nfreee株式会社 https://corp.freee.co.jp/company/\n東京
 都品川区西五反田2-8-1 五反田ファーストビル 9F\n五反
 田駅より徒歩 3 分\n注意事項\n\n当日は正面玄関が閉ま
 っているため、\n向かって右手にあるセブンイレブン
 脇の通用口からお入りください。\n当日は受付でお名
 刺を一枚ご提示ください。\n\n主催者\n\nMiry Hirono GYOMUハ
 ック at freee株式会社 @mirygoaround\n
LOCATION:freee株式会社 東京都品川区西五反田2-8-1 (五反田
 ファーストビル 9F)
URL:https://techplay.jp/event/683585?utm_medium=referral&utm_source=ics&utm
 _campaign=ics
END:VEVENT
END:VCALENDAR
