BEGIN:VCALENDAR
VERSION:2.0
PRODID:-//https://techplay.jp//JP
CALSCALE:GREGORIAN
METHOD:PUBLISH
X-WR-CALDESC:OSSハッカソン第3回 オンライン回 & オンライン
 懇親会
X-WR-CALNAME:OSSハッカソン第3回 オンライン回 & オンライン
 懇親会
X-WR-TIMEZONE:Asia/Tokyo
BEGIN:VTIMEZONE
TZID:Asia/Tokyo
BEGIN:STANDARD
DTSTART:19700101T000000
TZOFFSETFROM:+0900
TZOFFSETTO:+0900
TZNAME:JST
END:STANDARD
END:VTIMEZONE
BEGIN:VEVENT
UID:683979@techplay.jp
SUMMARY:OSSハッカソン第3回 オンライン回 & オンライン懇
 親会
DTSTART;TZID=Asia/Tokyo:20180728T140000
DTEND;TZID=Asia/Tokyo:20180728T180000
DTSTAMP:20260424T041957Z
CREATED:20180707T140402Z
DESCRIPTION:イベント詳細はこちら\nhttps://techplay.jp/event/68397
 9?utm_medium=referral&utm_source=ics&utm_campaign=ics\n\nOSSハッカソ
 ン第3回です。\n注意事項\n\n第3回はオンライン参加枠
 のみです。\nオンライン開催なので必ずこちらのリン
 クからSlackに参加してください\nハッカソン後「オンラ
 イン懇親会」という野心的な試みをするつもりです(笑
 )\n\nオンライン懇親会については、Yokohama Scala管理人で
 あり、OSSハッカソン第1回と第2回に参加していただい
 たSatoooooooooooo氏から「画面越しに参加者がひたすら飲
 んだくれる」という素晴らしいアイデアの紹介をいた
 だいたことがきっかけです。是非OSSハッカソンでもや
 ってみたいと思います！\n概要\nOSSハッカソンではOSSに
 コントリビュートしたい方を集めて、みんなでわいわ
 いもくもくハッカソンを行っています。\n\nOSSコントリ
 ビュータを目指す方\nOSS活動をすでに始めていて継続
 するモチベーションを保ちたい方\nあるいはそういっ
 た方々をサポートしてくださるチュータ役やOSSメンテ
 ナの方\n\n皆様のご応募をお待ちしております！楽しく
 OSSにコントリビュートしましょう。\nどんなOSSプロジ
 ェクトを希望する方でもご参加いただけます。チュー
 タやOSSメンテナが参加しないプロジェクトを希望する
 方でも、ハッカソンに参加していただくことはできま
 す。その場合はヘルプの提供は難しいですが、質問に
 依っては参加者の中に分かる人がいるかもしれません
 。事前に下記のSlackに登録して、どの程度ハッカソン
 でヘルプが得られそうか確かめてみるのも一つの方法
 です。\nOSSメンテナ・チュータ枠について\nOSSメンテナ
 の方の応募は大歓迎です！\nまたOSSメンテナでなくと
 も、得意なOSSプロジェクトがあれば是非チュータ枠参
 加者として他の参加者の方をヘルプしていただけると
 、とても有り難いです！Connpassから登録の際、アンケ
 ートにて担当OSSプロジェクトをお知らせください。登
 録アカウント名と担当OSSプロジェクトをこちらのイベ
 ント説明に追記いたします。\nOSSメンテナ・チュータ
 の方は、当日他の参加者から質問がない間は好きな作
 業をしていただいて勿論構いません。\n特にOSSメンテ
 ナ・チュータの方はリモートでの参加も大歓迎なので
 、当日現地参加が難しい場合は、ぜひSlackを介してハ
 ッカソンへの参加をご検討ください。\n\n\n\n名前\n備考
 \n参加枠\n担当プロジェクト\n\n\n\n\nリチャード伊真岡\n
 OSS ハッカソン管理人\nチュータ\nakka\, kamon(チョットデ
 キル)\, cats(チョットデキル)\n\n\n\nSlackの登録のお願い\n
 OSSコントリビューションは取り組みやすいイシューを
 探すのがとても重要です。事前にSlackに参加していた
 だき、そこで他の参加者と相談しながら、あらかじめ
 当日のためのイシューを探しておくとよりスムーズに
 コントリビュートできます。\nSlackへの参加はこちらの
 リンクからどうぞ\nOSSコントリビューション継続の助
 けになるよう、ハッカソン開催前も開催後もいつでも
 質問できる空間にしたいと思っておりますので、ぜひ
 ご登録ください。\n今回ハッカソンに参加できない方
 でも、OSSコントリビューションに興味のある方なら誰
 でもこちらのSlackに参加いただけます。\n当日の流れ\n\
 n\n\n予定時刻\n内容\n\n\n\n\n14:00\n開始\n\n\n14:00\n自己紹介
 ・アイスブレーク\n\n\n14:20\nハッカソン開始\n\n\n17:40\n
 振り返り・成果発表\n\n\n18:00\nハッカソン終了\n\n\n18:30 
 ~\nオンライン懇親会!!!\n\n\n\n18:30 から有志でオンライ
 ン懇親会を行いましょう!\nオンライン懇親会について\
 n今回のOSSハッカソンでは、Google Hangoutより音声品質が
 良いという噂のZOOMを使います！\nオンライン懇親会と
 は、こちらの記事にも紹介されているように場所にと
 らわれず飲み会を開催できる、新たな可能性を秘めた
 試みです。\n居酒屋でお通しにお金を取られる心配や
 、唐揚げにレモン汁をかけていいかどうか悩む必要も
 ありません！笑\n自分の好きなお酒を買って、好きな
 おつまみを用意して、オンラインで他のエンジニアと
 仲良くなりましょう！！
LOCATION:オンライン
URL:https://techplay.jp/event/683979?utm_medium=referral&utm_source=ics&utm
 _campaign=ics
END:VEVENT
END:VCALENDAR
