BEGIN:VCALENDAR
VERSION:2.0
PRODID:-//https://techplay.jp//JP
CALSCALE:GREGORIAN
METHOD:PUBLISH
X-WR-CALDESC:実習編 JavaScriptで学ぶ　プログラミング入門丸
 一日コース　8月18日（土曜）@Doorkeeper
X-WR-CALNAME:実習編 JavaScriptで学ぶ　プログラミング入門丸
 一日コース　8月18日（土曜）@Doorkeeper
X-WR-TIMEZONE:Asia/Tokyo
BEGIN:VTIMEZONE
TZID:Asia/Tokyo
BEGIN:STANDARD
DTSTART:19700101T000000
TZOFFSETFROM:+0900
TZOFFSETTO:+0900
TZNAME:JST
END:STANDARD
END:VTIMEZONE
BEGIN:VEVENT
UID:684041@techplay.jp
SUMMARY:実習編 JavaScriptで学ぶ　プログラミング入門丸一
 日コース　8月18日（土曜）@Doorkeeper
DTSTART;TZID=Asia/Tokyo:20180818T094000
DTEND;TZID=Asia/Tokyo:20180818T161000
DTSTAMP:20260422T134140Z
CREATED:20180708T020452Z
DESCRIPTION:イベント詳細はこちら\nhttps://techplay.jp/event/68404
 1?utm_medium=referral&utm_source=ics&utm_campaign=ics\n\n他言語使い
 歓迎！ 実習中心のJavaScript入門　ES2015対応！\n\n概要\n\n
 実習をとおしてJavaScriptのプログラミングの基本テクニ
 ックを習得していただきます。入門編（JavaScriptで学ぶ
 　プログラミング入門丸一日コース）の受講者、ある
 いはPHP、Java、C++などほかのプログラミング言語をご存
 じの方が対象のコースです。このコースから受講いた
 だくことで、JavaScriptで何ができるのか、基本を身につ
 けていただけます。大幅に機能アップしたJavaScriptの新
 標準ES2015（ES6）に対応した内容です。\n\nまず、基本的
 な概念やテクニックを「入門編」を復習する形で解説
 し、つづいてそうした概念やテクニックを利用するプ
 ログラム作成にトライしていただきます。\n\n講師が皆
 さんお一人お一人の席をまわりながら、ヒントを差し
 上げたり、質問にお答えしながら進めていきます。\n\n
 なお、HTMLとCSSの基本的な知識（HTMLの基本構造、画像
 やリンク関連のタグの意味やサイズや色などの指定方
 法）は前提とさせていただきます。\n\n開催予定\n\n関
 連講座の今後の開催予定はこちらをごらんください。\
 n\n講師紹介\n\n武舎広幸（むしゃ ひろゆき）\n\nマーリ
 ンアームズ株式会社代表取締役。書籍の翻訳、プログ
 ラミングや翻訳の講座の運営、辞書サイト「辞遊人（D
 ictJuggler.net）」や翻訳ソフトの開発を行っている。『
 はじめてのJavaScript』『インタフェースデザインの心理
 学』など数十冊の訳書がある。情報処理振興機構（IPA
 ）の「未踏ソフトウェア創造事業」に2年連続して採択
 。\n\n高校時代に理系か文系か迷った末に国際基督教大
 学（ICU）語学科に入学したが、一般教養の授業をきっ
 かけに専攻を数学に変える。5年次に履修したプログラ
 ミングに心を奪われ、山梨大学大学院でソフトウェア
 工学を専攻。修了後入った会社で出会った翻訳ソフト
 の開発は「天職」と思ったが、大学で研究したくなり
 東京工業大学大学院博士課程入学。米国オハイオ州立
 大、カーネギーメロン大に留学後、大学に残ることは
 頭から消え、博士課程を満期退学後、会社設立。\n\n個
 人ウェブページはこちら。\n\n当日の流れとタイムスケ
 ジュール\n\nJavaScriptの基本を説明しながら、実際に動
 作するプログラムを作っていきます。\n\nPart 1　基礎編
 \n\nまず、変数、関数、繰り返し、分岐、配列などプロ
 グラミングの基本的な概念について、とくに他のプロ
 グラミング言語との違いに重点をおいて簡単に解説し
 、続いて、実際に動作するプログラム作成にチャレン
 ジしていただきます。\n\nプログラムを作成している間
 、講師が皆さんの席を回り、ヒントを差し上げたり、
 質問にお答えしたりします。\n\n簡単な課題から難しい
 課題までたくさん用意しますので、各自の知識に合っ
 た課題を解いて、着実に技術を身につけられます。\n\n
 また、演習問題を複数セット用意していますので、複
 数回受講していただくことができます。\n\nPart 2　応用
 編\n\nイベント、タイマー、画像などを、JavaScriptを使
 って処理する方法を説明し、実際に動作するプログラ
 ムの作成していただきます。デバッグの方法（プログ
 ラムがうまく動かないときの対処法）についても説明
 します。\n\n途中、短めの休憩2、3回と長めの休憩1回（
 朝からの講座の場合はお昼休みも）がはいります。\n\n
 2回目以降の方は、練習問題を解いていただきます。\n\
 nご参加ください\n\n\n入門編を受講なさった方\nPHP、Java
 、Cなど、JavaScript以外のプログラミング言語でプログ
 ラム作成の経験がある方（HTMLとCSSの基本と、変数、関
 数、繰り返し、分岐、配列などのプログラミングの基
 本的な概念をご存じの方）。\n演習問題を複数セット
 用意していますので、複数回受講していただくことが
 できます。\n\n\nご注意\n\n\n入門編を受講なさった方、
 あるいはほかのプログラミング言語をご存じの方が対
 象です。また、HTMLとCSSの基本的な知識（HTMLの基本構
 造、画像やリンク関連のタグの意味や、サイズや色な
 どの指定方法）は前提とさせていただきます。\nパソ
 コンをご持参ください。ご持参いただくパソコンで、H
 TMLファイルの編集に慣れておいてください。 Google Chrom
 e（バージョン56以降）が動作するパソコンでしたら、
 パソコンの機種は問いません。\n日頃お使いでないパ
 ソコンをお持ちいただく場合は、そのパソコンでのHTML
 ファイルの編集に慣れておいてください。\nHTMLとCSSの
 基本に関する知識は前提とさせていただきます（主要
 なHTMLタグ（div\, p\, img\, spanなど）と、CSSの概要（色や
 フォントサイズ、画像などの大きさの指定方法）をご
 存じならば大丈夫です）。\n\n\nなお、ノートパソコン
 をお持ちでない方、先着1名の方にノートパソコンをお
 貸しできます（古い機種ですので実行速度は速くはあ
 りませんが、当日の実習には使えます）。お申し込み
 の前に、「講座の日付」ご連絡ください。講師から確
 認のお返事を差し上げます。\n\n\n会場に関する詳細は
 、参加者の方に直接ご連絡いたします。遅くとも前日
 の午前中までにはご連絡しますので、万が一、前日午
 後になっても会場に関する連絡がない場合は、お問い
 合わせください。\n領収証はPayPal等のお支払先にご請
 求ください。もし、弊社の領収書をご希望の場合は、
 お申し込みの 前に ご連絡ください。\n他サイトでも募
 集しております。全体で十数人程度の予定です。\n\n\n
 受講生の声\n\n（20代男性）他言語からjavascriptを学びた
 い人にもオススメ出来る講座でした。\n講師の人がた
 だ単にスクリプトの説明を話すのではなく実際に手を
 動かして学べることが魅力です！\nしかも疑問点があ
 ればすぐに講師の方に質問出来たりエラーで詰まって
 いる時に一緒に考えて下さったりと親身に対応して下
 さるのも魅力の1つです(ﾟ▽ﾟ)\n\n（30代女性）実習編
 はもくもく作業の時間が多いです。\n自分で手を動か
 してコードを書いて、わからないことはその場で質問
 できるので、しっかり身につきます。\n私は基本的な
 ことから学びたかったので入門編を受講してからこち
 らを受けました。\n初心者の方は両方受けた方がより
 身になると思います！\n\n（40代男性）JavaScriptを通じて
 、プログラミングの考え方を教えていただきました。
 もっとやろうという勇気が持てました。
LOCATION:中央線・京王井の頭線 吉祥寺駅 徒歩3分（前日午
 前までに詳細をお送りいたします。ご連絡がない場合
 はお問い合わせください） 東京都武蔵野市吉祥寺南町
 １丁目６番２２号
URL:https://techplay.jp/event/684041?utm_medium=referral&utm_source=ics&utm
 _campaign=ics
END:VEVENT
END:VCALENDAR
