BEGIN:VCALENDAR
VERSION:2.0
PRODID:-//https://techplay.jp//JP
CALSCALE:GREGORIAN
METHOD:PUBLISH
X-WR-CALDESC:WordPressもくもく勉強会@日本橋 #19
X-WR-CALNAME:WordPressもくもく勉強会@日本橋 #19
X-WR-TIMEZONE:Asia/Tokyo
BEGIN:VTIMEZONE
TZID:Asia/Tokyo
BEGIN:STANDARD
DTSTART:19700101T000000
TZOFFSETFROM:+0900
TZOFFSETTO:+0900
TZNAME:JST
END:STANDARD
END:VTIMEZONE
BEGIN:VEVENT
UID:684191@techplay.jp
SUMMARY:WordPressもくもく勉強会@日本橋 #19
DTSTART;TZID=Asia/Tokyo:20180728T140000
DTEND;TZID=Asia/Tokyo:20180728T180000
DTSTAMP:20260423T073728Z
CREATED:20180709T060400Z
DESCRIPTION:イベント詳細はこちら\nhttps://techplay.jp/event/68419
 1?utm_medium=referral&utm_source=ics&utm_campaign=ics\n\n－ イベント
 の説明 －\n\n台風12号の影響により、\n「WordPressもくも
 く勉強会@日本橋 #19」は\n中止させて頂くこととなりま
 した。\n\n\nイベント概要\nWordPressを勉強したい人が集
 まって、WordPressのテーマやプラグイン、管理画面の設
 定やカスタマイズなど、みんなでもくもくと作業した
 り勉強をする会です。\n仕事の続きをしたり、ブログ
 を書いたり、参考書を見て勉強したり、WordPressに関す
 る事であれば何でもかまいません。\n日ごろ困ってい
 る事や分からない事があれば、WordPressに詳しいアドバ
 イザー（下記参照）に聞いてみたり同じテーブルの方
 に聞いたりして楽しく問題解決ができると思います。\
 n【日時】 2018年7月28日(土） 14:00～18:00　※開場時間は 
 13:40。\n【場所】 コワーキングスペース茅場町 Co-Edo （
 コエド）\n【住所】 〒104-0033 東京都中央区新川1-3-4 PA
 ビル5F\n【費用】 ￥1\,000 （コワーキングスペース利用
 料）  \n※開場は13:40となります。\n今回のみ会場の都
 合上、開場前のコワーキング利用はできませんので、
 開場後にお越しください。\n\n※ 途中参加、途中退出
 もOKです！（5F受付にご連絡ください） \n\n■Facebookグ
 ループ\nフォローアップや告知などはFacebookグループで
 行っていますので是非登録をお願いします。\nhttps://www
 .facebook.com/groups/120658571770803/\n※スパムアカウントから
 の申請が多いため、申請者のタイムラインを見て承認
 判断を行っています。タイムライン非公開の方は公開
 に変更をお願いします。（1～2日たっても承認されな
 い場合は公開設定を見直し再度申請をお願いします。
 ）\n\n\n持ち物\n\nノートパソコンや電源ケーブル等、作
 業に必要な機材をお持ち下さい。（会場にはWiFiと電源
 はあります。）\n勉強に必要な本など。（イベント会
 場のコワーキングスペースにもWordPressの教本がたくさ
 んあります。）\n名刺 （アイスブレイク時に参加者全
 員で名刺交換を行います。）\n\nタイムテーブル\n▼一
 般参加者\n\n\n\n時間\n内容\n\n\n\n\n13:40 ～ 14:00\n開場／受
 付\n\n\n14:00 ～ 14:05\n勉強会の説明、アドバイザーの紹
 介等\n\n\n14:05 ～ 14:10\nアドバイザーによる「今月のWordP
 ress情報」やその他のWeb関連情報をご紹介。\n\n\n14:10 ～
  14:30\nアイスブレイク （みんなで名刺交換して繋がり
 をもとう！）\n\n\n14:30 ～ 17:30\nもくもく勉強タイム\n\n\
 n17:30 ～ 18:00\n1人1分ほどで本日の成果を簡単に発表\n\n\
 n\n【懇親会】\n※希望者で近くのお店で懇親会をする
 予定です。（割り勘で3\,500円程度）\n※毎回10～15人ほ
 どが参加しています！\n【登壇者 募集！】\n※セッシ
 ョン（登壇）したい方を募集しています！\nアドバイ
 ザー\n● 山本 龍二郎　\n自己紹介： 都内でフリーのWeb
 デザイナー/WordPressエンジニアをしています。フリーラ
 ンス歴はかれこれ10年くらい。WordCamp Tokyoの運営スタッ
 フとしても参加。公式プラグイン「TinyMCE VisualBlocks」
 や「MW WP Form reCAPTCHA」を開発。WordPressもくもく勉強会@
 日本橋を主催・運営しています。\n好きなもの： ドラ
 イブ\nFacebook： https://www.facebook.com/ryujiro.yamamoto\nWebサイ
 ト： フリーランスWebクリエイター スタイルリンク  \n
 ● 三柴 誠一郎　\n自己紹介： 1973年、愛媛県生まれ。
 千葉県松戸市在住。大学卒業後に都内のIT会社へ就職
 。大手電機メーカーへ出向し業務システムの開発・運
 用、またサーバー構築などの業務を担当。その後、プ
 ロジェクトリーダーやマネージャーなどの経験を経て
 、2014年に独立。現在は千葉県松戸市を拠点とし、Webサ
 イト制作、コンサルティング、またWebサイトに関する
 セミナーの講師・運営などを行っている。傍ら、趣味
 として神社巡りサイトなどの運営も行っている。\n好
 きなもの： 神社、お酒\nFacebook： https://www.facebook.com/sei
 ichiro.mishiba\nWebサイト： 34デザインねっと  \n● 下山 健
 吾　\n自己紹介： 制作会社勤務を経て、2011年ごろから
 フリーランスとして活動しています。WordPressによるコ
 ーポレートサイト制作などをよく担当しています。\n
 好きなもの： 肉\nFacebook: https://www.facebook.com/kengo.shimoyam
 a\nWebサイト： http://wald-grun.biz  \n● 川路 正樹　\n自己
 紹介： 株式会社トリックスタジオのデザイナー／アー
 トディレクター。印刷物の制作会社時代にWEB制作を担
 当し、そこからWEBへ本格シフト。ITベンチャー等を経
 て現在に至る。印刷からWEBまで何でもやるデザイナー
 として活躍中。\n好きなもの： 街歩き、スキューバダ
 イビング\nFacebook： https://www.facebook.com/masaki.kawaji  \n● 
 高橋 利幸　\n自己紹介： 宮城県出身。ウェブデザイナ
 ーとして町のネジ屋さんから上場企業まで、幅広いジ
 ャンルのウェブサイト制作に携わる。現在はWordPress中
 心のフロントエンドエンジニア。\n好きなもの： キレ
 イな風景、曲線美\nFacebook： https://www.facebook.com/toshiyuki.
 takahashi.7773\nWebサイト： http://www.expexp.jp/  \n● 村重 敦
 子　\n自己紹介： 1977年香川県出身。デザイン科を卒業
 しましたがいくら綺麗に作っても「売れなければ意味
 がない」と知りWebコンサルタントの元でマーケティン
 グを学び実践中です。フリーで起業家向けにWordPressワ
 ークショップを主宰したり、WordPressサイトの作成サポ
 ートをしています。\n好きなもの： ワイン、猫\nFacebook
 ： https://www.facebook.com/atsuko.murashige77\nWebサイト： https://
 wp-firststep.com/  \n\n過去のWordPressもくもく勉強会\n\n2018/06
 /30 （Co-Edo） WordPressもくもく勉強会@日本橋 #18\n2018/05/19
  （Co-Edo） WordPressもくもく勉強会@日本橋 #17\n2018/04/21 
 （Co-Edo） WordPressもくもく勉強会@日本橋 #16\n2018/03/10 （
 Co-Edo） WordPressもくもく勉強会@日本橋 #15\n2018/02/17 （Co-
 Edo） WordPressもくもく勉強会@日本橋 #14\n2018/01/20 （Co-Edo
 ） WordPressもくもく勉強会@日本橋 #13\n2017/12/09 （Co-Edo）
  WordPressもくもく勉強会@日本橋 #12\n2017/11/18 （Co-Edo） Wo
 rdPressもくもく勉強会@日本橋 #11\n2017/10/21 （Co-Edo） WordP
 ressもくもく勉強会@日本橋 #10\n2017/09/30 （Co-Edo） WordPres
 sもくもく勉強会@日本橋 #09\n2017/08/26 （サイボウズ） Wo
 rdPressもくもく勉強会@日本橋 #08\n2017/07/22 （Co-Edo） WordP
 ressもくもく勉強会@日本橋 #07\n2017/06/17 （Co-Edo） WordPres
 sもくもく勉強会@日本橋 #06\n2017/05/20 （Co-Edo） WordPress
 もくもく勉強会@日本橋 #05\n2017/04/15 （Co-Edo） WordPressも
 くもく勉強会@日本橋 #04\n2017/03/11 （Co-Edo） WordPressもく
 もく勉強会@日本橋 #03\n2017/02/18 （Co-Edo） WordPressもくも
 く勉強会@日本橋 #02\n2017/01/14 （Co-Edo） WordPressもくもく
 勉強会@日本橋 #01\n
LOCATION:コワーキングスペース茅場町 Co-Edo（コエド） 東
 京都中央区新川1-3-4 PAビル5F
URL:https://techplay.jp/event/684191?utm_medium=referral&utm_source=ics&utm
 _campaign=ics
END:VEVENT
END:VCALENDAR
