BEGIN:VCALENDAR
VERSION:2.0
PRODID:-//https://techplay.jp//JP
CALSCALE:GREGORIAN
METHOD:PUBLISH
X-WR-CALDESC:[エンジニア＆新規事業開発者 向け] BlockChain ×
  オープンイノベーション
X-WR-CALNAME:[エンジニア＆新規事業開発者 向け] BlockChain ×
  オープンイノベーション
X-WR-TIMEZONE:Asia/Tokyo
BEGIN:VTIMEZONE
TZID:Asia/Tokyo
BEGIN:STANDARD
DTSTART:19700101T000000
TZOFFSETFROM:+0900
TZOFFSETTO:+0900
TZNAME:JST
END:STANDARD
END:VTIMEZONE
BEGIN:VEVENT
UID:684426@techplay.jp
SUMMARY:[エンジニア＆新規事業開発者 向け] BlockChain × オ
 ープンイノベーション
DTSTART;TZID=Asia/Tokyo:20180727T190000
DTEND;TZID=Asia/Tokyo:20180727T213000
DTSTAMP:20260425T135614Z
CREATED:20180710T100407Z
DESCRIPTION:イベント詳細はこちら\nhttps://techplay.jp/event/68442
 6?utm_medium=referral&utm_source=ics&utm_campaign=ics\n\n※満員御礼
 のため、増席しました！\n ※登壇者を追加し、タイム
 テーブルを修正しました！\n ※タイムテーブルにパネ
 ルディスカッションを追加しました！  \n開催概要\nス
 タートアップを中心にブロックチェーンを利用した新
 たなプロダクトやサービスが市場に出始めた中で、大
 企業でもその実用性を広く検討し始めている。\n大企
 業が求める「短期的なイノベーション創出」と、スタ
 ートアップが求める「技術力のマネタイズ」は互いの
 利害が一致していると考え、本イベントは「ブロック
 チェーンとオープンイノベーション」をテーマにビジ
 ネスマッチングの機会創出を目的に開催されます\n登
 壇者\nCEO at ZEROBILLBANK JAPAN Inc.　堀口 純一 氏\n日本IBMに1
 2年間勤務した後、2012年よりIBM Singaporeに転籍。2014年11
 月までの3年間、シンガポールを中心に日系企業のASEAN
 展開や機能集約支援に携わる。\nその後イスラエルに
 渡り、2015年2月、ZEROBILLBANK LTDを創業。ブロックチェー
 ンやスマートコントラクト技術を活用した企業トーク
 ン発行管理基盤など\nDecentralized SaaSの提供を通して新
 たなトークンエコノミー創出をリードする。2016年3月
 、MUFG Digitalアクセラレータ第一期Startupに選出。\nCEO at 
 ALIS Co.\, Ltd.　安 昌浩 氏\n京都大学で核融合を専攻した
 後、2011年株式会社リクルートに入社。転職メディアの
 商品企画やHRTech領域の新規事業開発をはじめ、自然言
 語解析や機械学習領域の事業開発を担当する。2016年、
 同社の企画部門の最高賞を受賞。\n2017年9月ブロックチ
 ェーンを用いたALISを立ち上げるため国内初の規模でICO
 を実施し、4.3億円を調達する。現在クローズドβ版(http
 s://alis.to)を稼働中。\nCTO at altplus inc.　嶋田 健作 氏\n株
 式会社ライブドアにてデータセンター事業を統括。そ
 の後、株式会社データホテル代表取締役社長、NHNテコ
 ラス株式会社代表取締役社長を経て、2016年に株式会社
 オルトプラスCTOに就任。R&D部門オルトプラスラボを設
 立し、HyperLedger irohaの開発パートナーに参加。ブロッ
 クチェーン技術を用いて社内仮想通貨「JOY」を発行し
 、複数企業で実証実験を行う。\nパネルディスカッシ
 ョン\n\nモデレーター：廣瀬 一海 氏(Microsoft Japan)\nパネ
 ラー：堀口 純一 氏(ZEROBILLBANK)、安 昌浩 氏(ALIS)、嶋田 
 健作 氏(altplus)、柿澤 仁 氏(Omise GO)\n\nタイムテーブル\n
 \n\n\n時間\n内容\n\n\n\n\n18:30\n開場\n\n\n19:00\n1st pitch 15min\n
 \n\n19:20\n2nd pitch 15min\n\n\n19:40\n3rd pitch 15min\n\n\n20:00\nパネ
 ルディスカッション\n\n\n20:45\nネットワーキング\n\n\n21:
 30\n終了\n\n\n\n参加対象者(募集50名/申し込み超過の場合
 は抽選)\n\nブロックチェーンエンジニア \nこれからブ
 ロックチェーンを志すエンジニア \nスタートアップ事
 業担当者 \n新規事業開発担当者 \nオープンイノベーシ
 ョン事業開発担当者\n\n運営について\n企画運営：日本
 マイクロソフト\nスペース提供：Neutrino\nNeutrinoはブロ
 ックチェーンのエコシステムを創造・醸成することを
 通じて、ブロックチェーン技術・アプリ・サービスの
 実用化を促進することをミッションとしているブロッ
 クチェーン特化のコワーキングススペースです。エン
 ジニアを中心として、法律・会計・マーケティング分
 野などの専門家が集まる有機的なコミュニティであり
 、海外のユースケースの紹介やエンジニア向けの技術
 リサーチミートアップなどのイベントを企画しており
 ます。Neutrinoはグローバル・ブレイン株式会社の協力
 のもと、OmiseGOが運営しております。\nその他\n\nお問い
 合わせは twitter@fukawa730まで\n
LOCATION:Neutrino Japan 〒150-0031 東京都渋谷区桜丘町12-10 住友
 不動産渋谷インフォスアネックス1階 
URL:https://techplay.jp/event/684426?utm_medium=referral&utm_source=ics&utm
 _campaign=ics
END:VEVENT
END:VCALENDAR
