BEGIN:VCALENDAR
VERSION:2.0
PRODID:-//https://techplay.jp//JP
CALSCALE:GREGORIAN
METHOD:PUBLISH
X-WR-CALDESC:Monaca UG OKAYAMA #2 〜初のハンズオン開催！〜
X-WR-CALNAME:Monaca UG OKAYAMA #2 〜初のハンズオン開催！〜
X-WR-TIMEZONE:Asia/Tokyo
BEGIN:VTIMEZONE
TZID:Asia/Tokyo
BEGIN:STANDARD
DTSTART:19700101T000000
TZOFFSETFROM:+0900
TZOFFSETTO:+0900
TZNAME:JST
END:STANDARD
END:VTIMEZONE
BEGIN:VEVENT
UID:684632@techplay.jp
SUMMARY:Monaca UG OKAYAMA #2 〜初のハンズオン開催！〜
DTSTART;TZID=Asia/Tokyo:20180727T190000
DTEND;TZID=Asia/Tokyo:20180727T214500
DTSTAMP:20260425T202043Z
CREATED:20180711T140408Z
DESCRIPTION:イベント詳細はこちら\nhttps://techplay.jp/event/68463
 2?utm_medium=referral&utm_source=ics&utm_campaign=ics\n\n発表資料\n
 以下の「Monaca入門編」、「Onsen UI入門編」を参照くだ
 さい！\nhttps://ja.monaca.io/service/training.html\nMonaca UG とは\n
 Monacaは、HTML5でマルチプラットフォーム対応のアプリ
 開発が行えるプラットフォームです。\nクラウド上のID
 Eを使って、HTML/CSS/JSの知識だけでハイブリッドアプリ
 を作ることができます！\nそんなMonacaのユーザーにと
 って役立つ情報をシェアできる場を作りたい！\nとい
 うことで発足したのが Monaca User Group 略して Monaca UGで
 す。\nhttps://monacaug.mobi\nこれまで行われたイベントの様
 子は以下より是非ごらんください！\nhttps://togetter.com/t/
 monaca_ug\nこれまで東京で5回、大阪で4回、岡山で1回、
 大宮で2回行われてきました。今回は岡山の第2回にな
 ります！\n「Monacaを使ったアプリの事例が知りたい！
 」\n「Monacaを使うべき時と、ネイティブで開発すべき
 時ってみんなどうやって判断してる？」\n「開発体制
 ってどんな感じ？」\n「Monacaを会社として採用すると
 きのコツって？」  \nなどなど...みんなで日頃気になっ
 ていることを気軽に情報交換できればと思います！\n
 今回は初のハンズオン開催になります。まだMonacaに触
 ったことのない方、もっと深く知っていきたいという
 方はぜひご参加ください！\n参加対象\n\nMonacaをすでに
 使っている人\nMonacaに興味のある人\nMonacaを好きな人\nH
 TML5/JavaScriptによるアプリ開発に興味がある方\n\nタイム
 テーブル（調整中)\n\n\n\n時間\nコンテンツ\n\n\n\n\n19:00 ~
  19:20\n受付\n\n\n19:20 ~ 19:25\nこのコミュニティについて\n
 \n\n19:25 ~ 19:35\n開始 & 自己紹介タイム\n\n\n19:35 ~ 21:30\nハ
 ンズオン開始（途中休憩あり）\n\n\n21:30 ~ 21:45\n質疑応
 答\n\n\n\nFacebook Group\nMonaca UGのFacebook Groupです。\nhttps://w
 ww.facebook.com/groups/1791897204474458/\nぜひご参加ください！\
 nその他の会場、イベント情報はWebサイトをご覧くださ
 い！\nhttps://monacaug.mobi\n持ち物\n\nノートPC & 電源\nMonaca
 のアカウント\nスマホ（Android推奨）\n持っていない方
 にはお貸しします（台数限りあり）\n\n\n\nhttps://ja.monaca
 .io にて取得できます。\nMonacaのアカウントは事前に取
 得しておいてください\n懇親会について\nユーザー会終
 了後に懇親会を行う予定です。\n詳しくは当日ご案内
 します！\n諸注意\n※講演内容やタイムスケジュールは
 変更となる可能性がございます。\n※当日のイベント
 内容は後日任意の媒体にて公開させて頂くことがあり
 ます。\n※イベントレポート作成のため、お写真を撮
 らせていただくことがございますので予めご了承くだ
 さい。\n※イベントは、止むを得ず中止させて頂く場
 合がございます。 \n　その際は、本サイトからのメッ
 セージよりご連絡させて頂きますのでご確認をお願い
 致します。\n※知識の共有および、参加者同士の交流
 を目的としない参加はお断りしています。\n※参加目
 的が不適切だと判断される場合には、運営側で参加を
 キャンセルさせていただく場合がございます。ご
LOCATION:ピープルソフトウェア株式会社 岡山県倉敷市阿
 知1-7-2 （くらしきシティプラザ西ビル5階）
URL:https://techplay.jp/event/684632?utm_medium=referral&utm_source=ics&utm
 _campaign=ics
END:VEVENT
END:VCALENDAR
