BEGIN:VCALENDAR
VERSION:2.0
PRODID:-//https://techplay.jp//JP
CALSCALE:GREGORIAN
METHOD:PUBLISH
X-WR-CALDESC:さくらクラブ岐阜 第8回 Node-RED 入門ハンズオ
 ン
X-WR-CALNAME:さくらクラブ岐阜 第8回 Node-RED 入門ハンズオ
 ン
X-WR-TIMEZONE:Asia/Tokyo
BEGIN:VTIMEZONE
TZID:Asia/Tokyo
BEGIN:STANDARD
DTSTART:19700101T000000
TZOFFSETFROM:+0900
TZOFFSETTO:+0900
TZNAME:JST
END:STANDARD
END:VTIMEZONE
BEGIN:VEVENT
UID:684643@techplay.jp
SUMMARY:さくらクラブ岐阜 第8回 Node-RED 入門ハンズオン
DTSTART;TZID=Asia/Tokyo:20180727T190000
DTEND;TZID=Asia/Tokyo:20180727T213000
DTSTAMP:20260425T023429Z
CREATED:20180711T140513Z
DESCRIPTION:イベント詳細はこちら\nhttps://techplay.jp/event/68464
 3?utm_medium=referral&utm_source=ics&utm_campaign=ics\n\n内容\n\nさく
 らインターネット公式ユーザ会「さくらクラブ」の岐
 阜コミュニティ、第8回目のイベントです。\n\n今回は
 あの「Node-RED」にフォーカスします。\n\nNode-REDは、Node.
 jsベースで作られたハードウェアデバイス・API・オン
 ラインサービスを接続するためのツールです。簡単にI
 oTの仕組み、ハードウェア・ソフトウェア・ネットワ
 ークの連携を作り出せます。\n\nブラウザ上で動く使い
 やすいFlowエディタを使って、いろいろなノード（プロ
 グラムのかたまり）を配置してポチポチとつなげて、
 自由自在にデータの流れを作ることができます。\n\nさ
 くらの IoT Platform （現：sakura.io）の入門ハンズオンに
 ご参加頂いた方は、IoTモジュールとの連携で触った、
 アレです。\n\n講師にNode-RED User Group Japanの皆さんを迎
 え、さくらのクラウドとIBM Cloudを基盤としたハンズオ
 ン形式でNode-REDを触りながら、Node-REDの世界へ入りこん
 で行ける回となります。\n\nタイムライン（予定）\n\n\n
 \n時間\nセッション\n\n\n\n18:30\n開場\n\n\n19:00\nオープニ
 ング\n\n\n19:10\nNode-RED体験\n\n\n21:00\n交流会\n\n\n21:30\n会
 場撤収\n\n\n22:00\n懇親会\n\n\n\nもちもの\n\n\nパソコン\n
 さくらのクラウド のアカウント（登録方法 https://knowle
 dge.sakura.ad.jp/13675/ ）\nIBM Cloud の ライト・アカウント（
 登録ページ https://www.ibm.com/cloud-computing/jp/ja/bluemix/lite-ac
 count/ ）\n\n\n※飲食物のお持ち込みは自由です。ゴミは
 各自お持ち帰りください。\n\n主催\n\n\nさくらクラブ岐
 阜 (https://www.facebook.com/sakulovegifu/)\nNode-RED User Group Japan (
 https://nodered.jp/)\n\n\nさくらクラブとは？\n\n「さくらク
 ラブ」とは、さくらインターネット公認のユーザーコ
 ミュニティです。\n2015年6月に鹿児島で行われた「startu
 phack in Kagoshima byさくらクラブ 」を皮切りに全国で活発
 な活動を行っています。\n\nさくらクラブは、さくらイ
 ンターネットを応援してくれる方ならどなたでも参加
 できます。\nまだ各種サービスを利用していない方も
 お気軽にご参加ください。\n\n参考：「startuphack in Kagosh
 ima byさくらクラブ 」レポート
LOCATION:みゆきビル2F 岐阜県岐阜市金宝町1-15
URL:https://techplay.jp/event/684643?utm_medium=referral&utm_source=ics&utm
 _campaign=ics
END:VEVENT
END:VCALENDAR
