BEGIN:VCALENDAR
VERSION:2.0
PRODID:-//https://techplay.jp//JP
CALSCALE:GREGORIAN
METHOD:PUBLISH
X-WR-CALDESC:[秋葉原]『Unityの寺子屋』定番スマホゲーム開
 発入門(和尚本)輪読＆勉強会 4回目
X-WR-CALNAME:[秋葉原]『Unityの寺子屋』定番スマホゲーム開
 発入門(和尚本)輪読＆勉強会 4回目
X-WR-TIMEZONE:Asia/Tokyo
BEGIN:VTIMEZONE
TZID:Asia/Tokyo
BEGIN:STANDARD
DTSTART:19700101T000000
TZOFFSETFROM:+0900
TZOFFSETTO:+0900
TZNAME:JST
END:STANDARD
END:VTIMEZONE
BEGIN:VEVENT
UID:684873@techplay.jp
SUMMARY:[秋葉原]『Unityの寺子屋』定番スマホゲーム開発入
 門(和尚本)輪読＆勉強会 4回目
DTSTART;TZID=Asia/Tokyo:20180729T190000
DTEND;TZID=Asia/Tokyo:20180729T213000
DTSTAMP:20260422T225247Z
CREATED:20180712T140416Z
DESCRIPTION:イベント詳細はこちら\nhttps://techplay.jp/event/68487
 3?utm_medium=referral&utm_source=ics&utm_campaign=ics\n\n概要・会の
 趣旨について\n第二弾”和尚本”こと\n『Unityの寺子屋
 　定番スマホゲーム開発入門（著：いたのくまんぼう
 様）』\nを用いて、皆で勉強しましょう！という趣旨
 の会です。\n\nUnityぜんぜん触ったこと無い、というUnit
 y初心者の方でも大歓迎です！（※主催者が初心者）\n
 初心者だけでなく、いまいち基礎が不安という方も\n
 初級～中級者の方や、上級者だけどこれを機会に基礎
 を復習したい方も、もちろん歓迎です。\n\n一緒にUnity
 を始めましょう！\n\n・第四回資料\nhttps://drive.google.com/
 file/d/1vpJBMHMMeD6BL8NCLiWWv3kHJPEDr-p4/view?usp=sharing\n\n\nこの輪
 読会の進め方について\n7/8から毎週日曜日、予備日含
 め、全八回を予定しています。\n\n\n”途中からの参加
 ”、”この回だけ参加したい”、"試しに一回だけ参加
 "\nそういった方も全く問題ありませんので、ご気軽に
 ご参加ください。\n\n--------------------------------進行予定-
 -------------------------------\n進行が遅れた場合などは、開
 催日が前後します。\n\n・7/8(日) Chapter 1 Unityの基本を身
 に付けよう\n・7/15(日) Chapter 2 放置ゲームをつくろう\n
 ・7/22(日) Chapter 3 放置ゲームに演出を加えよう\n・7/29(
 日) Chapter 4 クッキークリッカーに改造しよう　　←イ
 マココ！\n・Chapter 5 サイドビューアクションをつくろ
 う\n・Chapter 6 サイドビューアクションを仕上げる\n・Ch
 apter 7 アプリ販売の寺子屋\n・予備日・交流会\n----------
 ---------------------------------------------------------------\n\n当日
 の進行\n1.　説明(発表形式) ※ 毎回交代予定 \n2.　実際
 にやってみる（ハンズオン）\n3.　大事なポイントやハ
 マったところ、わからないところを共有\n\n事前準備\n
 書籍の準備をお願いいたします。\n書籍版 / Kindle版ど
 ちらでも構いません。\n『Unityの寺子屋　定番スマホゲ
 ーム開発入門』\nhttps://amzn.to/2KleOFk\n\n環境構築（Unityの
 インストール）について\nUnityのインストールできるノ
 ートPCをご持参ください。\nUnityのバージョンは( 2017.1.4
 f1 )を予定しています。\n\n最新のUnityのバージョンでは
 UIなどが変わっていたり、挙動が変わっていたりする
 可能性が高いため、\nこの会では使用するバージョン
 は統一したいと思います。\nUnityのセットアップファイ
 ルは非常に重いため、できれば、\nファイルは事前に
 ダウンロードしてきていただけると助かります。\n※
 第二回以降からの参加の方は、インストールは済ませ
 てご参加いただけるとスムーズです。\n・Unity\n　https:/
 /unity3d.com/jp\n・UnityHub（Unity公式βページ）\n　https://unit
 y3d.com/jp/unity/beta-download\n※UnityHubはUnityの管理ツールで
 す。\n　すでにインストール済みの方だったり、最新
 の環境を変えたくない方は\n　こちらを使用するとス
 ムーズです。\n※UnityHubのインストールについては以下
 の「ニム式（ニム様@ni26mu）」様の解説ページをご覧く
 ださい。\n　http://nimushiki.com/2018/04/23/655/\n参考URL(使用
 データダウンロードなど)\nhttps://books.mdn.co.jp/books/3217303
 004/?page=2&direct=1\n\n当日スケジュール（予定）\n18:00-19:00
  入場開始\n19:00-19:30 概要説明\n19:30-21:00 ハンズオン\n21
 :00-21:25 今日の分かりづらかった点の共有等\n21:30 解散(
 予定) \n\n※途中参加や途中退出は自由です。遅刻して
 も大丈夫。\n参加費\n1000円\nコワーキングスペース利用
 料金としていただいております。  \n同スペースの月額
 会員の方であればお支払いは不要です。\nLTスピーカー
 について\n・次回以降のLTスピーカー（最初に発表する
 人）は随時募集しています！\n・PowerPoint資料などは特
 に用意しなくても問題ありません。（※口頭説明のみ
 でも大丈夫）\n　※使っても使わなくてもOK\n開催場所\
 n\nコワーキングスペース秋葉原 Weeyble（ウィーブル)\nht
 tp://weeyble.com/ \n東京都千代田区神田須田町２丁目１９
 −２３(野村第３ビル４階)\n秋葉原駅電気街口または中
 央改札口より徒歩3分。 都営新宿線 岩本町駅徒歩3分、
 銀座線 神田駅6番出口徒歩2分\n\n電源、Wi-Fiあります!\n
 一緒に勉強会の運営してくださる方募集してます。\n\n
 ▼秋葉原駅から会場までの行き方はこちら！▼\nhttps://
 weeyble.com/access/\n持ち物\n・ノートPC\n※もし、どうして
 もノートPCが用意できない場合は、主催まで事前にご
 相談ください。\n　先着順で何とかできるかもしれま
 せん\n・Unity ( 2017.1.4f1 )\n・『Unityの寺子屋　定番スマ
 ホゲーム開発入門』\n・飲食可\n\nQ&A\n\nQ.今回から初め
 ての参加ですが、大丈夫ですか？\nA.はい、大丈夫です
 。お気軽にご参加ください^^\nQ.身内ばっかりで固まっ
 ていてそう・・・ぼっちになりそう・・・・行きづら
 い・・・\n\nA.大丈夫ですよ〜初参加の人が半分以上で
 すし、親切な人がたくさんです！\nこちらの会では毎
 回、初心者の方が半分以上参加しているので是非お気
 軽にご参加ください^^\nSlack\n▼コワーキングスペースWe
 eyble の主催する勉強会のSlackです。\nボタン押下で参加
 可能なのでご気軽にご参加ください。\n※Unityの最新情
 報の共有やゲーム開発者の方と交流できます\n\n\n\n
LOCATION:コワーキングスペース秋葉原Weeyble 東京都千代田
 区神田須田町２丁目１９−２３ (野村第３ビル ４階)
URL:https://techplay.jp/event/684873?utm_medium=referral&utm_source=ics&utm
 _campaign=ics
END:VEVENT
END:VCALENDAR
