BEGIN:VCALENDAR
VERSION:2.0
PRODID:-//https://techplay.jp//JP
CALSCALE:GREGORIAN
METHOD:PUBLISH
X-WR-CALDESC:大注目上場を果たしたメルカリのアプリマー
 ケティングを徹底解剖！
X-WR-CALNAME:大注目上場を果たしたメルカリのアプリマー
 ケティングを徹底解剖！
X-WR-TIMEZONE:Asia/Tokyo
BEGIN:VTIMEZONE
TZID:Asia/Tokyo
BEGIN:STANDARD
DTSTART:19700101T000000
TZOFFSETFROM:+0900
TZOFFSETTO:+0900
TZNAME:JST
END:STANDARD
END:VTIMEZONE
BEGIN:VEVENT
UID:684947@techplay.jp
SUMMARY:大注目上場を果たしたメルカリのアプリマーケテ
 ィングを徹底解剖！
DTSTART;TZID=Asia/Tokyo:20180727T180000
DTEND;TZID=Asia/Tokyo:20180727T200000
DTSTAMP:20260425T153402Z
CREATED:20180713T060412Z
DESCRIPTION:イベント詳細はこちら\nhttps://techplay.jp/event/68494
 7?utm_medium=referral&utm_source=ics&utm_campaign=ics\n\n●『大注目
 上場を果たしたメルカリのアプリマーケティングを徹
 底解剖！』\n「サービスの成長フェーズに合わせた予
 算の使い方と正しい施策評価は出来ていますか？」\n
 今やどの業種でもデジタルの一つの主戦場になったア
 プリ。\nその土俵を上手く活用してサービスをグロー
 スさせてきたのが、\n先月(6/19)に世間からの大注目を
 集めて上場を果たしたメルカリです。\n今回はそのメ
 ルカリと、アプリ内分析ツール『Metaps Analytics』から取
 れるデータを基に\nアプリ事業のコンサルティングを
 行うメタップスリンクスが初めて共同でセミナーを開
 催！\n本セミナーでは、メルカリが現在に至るまで各
 成長フェーズでどのようなマーケティング施策を行い
 、\n施策を評価、予算投下をしてきたのかを、同社の
 マーケティングチームを兼任する坂田氏が内部から解
 説。\nそして、第三者として様々なアプリサービスの
 マーケティング施策に関わってきたメタップスリンク
 スの森氏が\n「なぜメルカリだけここまで成長したの
 か」を他サービス事例との違いを外部から客観的に紐
 解いていきます。\n●開催日時\n2018年7月27日(金) 18:00-20
 :00\n●スケジュール\n\n\n\n時間\n内容\n\n\n\n\n17:30\n開場\n
 \n\n18:00-19:00 (60分)\nセミナー\n\n\n19:00-19:30 (30分)\nメルカ
 リ×メタップス トークセッション\n\n\n19:30-20:00 (30分)\n
 交流会\n\n\n\n参加費 \n無料\n●こんな人におすすめ \n・
 アプリ事業責任者の方\n・アプリのマーケティング担
 当の方\n・これからアプリ事業に参入される事業会社
 の方\n・アプリのグロースに課題を抱えている方\n※当
 社と競合する企業様、製品を取り扱う同業者様のご参
 加はご念慮願います。\n※定員に達した場合は広告代
 理店様のご参加をお断りさせて頂くこともございます
 ので、予めご了承ください。\n登壇者：株式会社メル
 カリ マーケティングチーム／坂田 博昭\nプロフィール
 ：\n長野銀行を経て、20代でWebコンサルティング会社の
 役員として200業種以上に携わる。その後DeNAにてオンラ
 インを中心としたマーケティングに従事。事業譲渡に
 てKDDIグループへ転籍し、オフラインを含めた総合的な
 マーケティングを経験した後、現在メルカリのマーケ
 ティングチームにて、同社の成長を牽引。\n株式会社
 メルカリについて：\n2013年7月のアプリリリース以降順
 調に成長し、\n現在では日米通算1億ダウンロードを突
 破した日本最大のフリマアプリ『メルカリ』を運営。\
 n2014年9月にローンチしたUSでも3\,000万DLを超え、また201
 5年11月にはUKにも新しく拠点を開設し、\n2017年3月にプ
 ロダクトをリリース、積極的にグローバル展開中。\nht
 tps://about.mercari.com/\n登壇者：株式会社メタップスリン
 クス コンサルタント／森 光平\nプロフィール：\n大学
 卒業後にホスピタリティ業界にて営業に従事。その後
 、アメリカのUCSDでBusiness Management Program修了し、現地の
 デジタルマーケティングコンサルティングのスタート
 アップで働く。帰国後にメタップスへジョイン。入社
 直後から大型新規アプリのリリースを経験。現在は業
 種を問わず、コンサルタントとしてマーケティング戦
 略策定やKPI分析や改善提案など、アプリのグロースを
 支援。\n株式会社メタップスリンクスについて：\nアプ
 リの広告計測からユーザー行動の可視化、ユーザーデ
 ータの資産化、\n貯めたユーザーデータを活用してユ
 ーザー行動に合わせたアプリ内マーケティングを行え
 る分析ツール『Metaps Analytics』\nをはじめ、貯まったデ
 ータを元にアプリ事業の戦略立案から企画、運用支援
 のコンサルティングサービスを提供。\nhttps://www.metaps-l
 inks.com/\n●注意事項\n・当日は17:30 開場&受付開始とさ
 せていただきます。\n　六本木ヒルズ森タワーのLL階（
 2階）の特設受付にて入館シールをお渡し致します。\n
 　そのまま18階イベント会場までお越しください。\n・
 遅れてのご参加はLL階（2階）受付にて入館番号が必要
 となりますので、biz@metaps-links.comまでご連絡ください
 。\n・ご退出は自由ですが、お渡ししましたネックス
 トラップのご返却をお願いします。\n・会場設備が充
 実しておりませんため、貴重品の管理等は各自ご対応
 下さい。\n・キャンセル／欠席の御連絡はお早めにお
 願いします。（追加案内のため）\nそれでは当日、お
 目にかかれますこと楽しみにしております！
LOCATION:メルカリオフィス 〒106-6118　東京都港区六本木6-1
 0-1　六本木ヒルズ森タワー18F
URL:https://techplay.jp/event/684947?utm_medium=referral&utm_source=ics&utm
 _campaign=ics
END:VEVENT
END:VCALENDAR
