BEGIN:VCALENDAR
VERSION:2.0
PRODID:-//https://techplay.jp//JP
CALSCALE:GREGORIAN
METHOD:PUBLISH
X-WR-CALDESC:Python Boot Camp in 京都 懇親会
X-WR-CALNAME:Python Boot Camp in 京都 懇親会
X-WR-TIMEZONE:Asia/Tokyo
BEGIN:VTIMEZONE
TZID:Asia/Tokyo
BEGIN:STANDARD
DTSTART:19700101T000000
TZOFFSETFROM:+0900
TZOFFSETTO:+0900
TZNAME:JST
END:STANDARD
END:VTIMEZONE
BEGIN:VEVENT
UID:684958@techplay.jp
SUMMARY:Python Boot Camp in 京都 懇親会
DTSTART;TZID=Asia/Tokyo:20180825T183000
DTEND;TZID=Asia/Tokyo:20180825T213000
DTSTAMP:20260421T053253Z
CREATED:20180713T060500Z
DESCRIPTION:イベント詳細はこちら\nhttps://techplay.jp/event/68495
 8?utm_medium=referral&utm_source=ics&utm_campaign=ics\n\nPython Boot Camp
  in 京都イベント終了後の懇親会です\nチュートリアル
 イベント参加者の方は「本イベント参加者枠」から申
 し込みをお願いします。\nチュートリアルに参加され
 ない方で懇親会のみ参加を希望するかたは、下記「懇
 親会だけの参加について」を確認した上で「懇親会の
 み参加枠」から申し込みください。\nPython Boot Campとは\
 nPyCon JPではこれまでも年に１回東京で開催されるPyCon J
 PイベントでPythonを学べるチュートリアル講座を開催し
 てきました。 今回は、以下のような人たちにPythonを知
 ってもらえる機会を提供できたらという思いで、Python 
 Boot Camp（略してPyCamp）を企画しました。\n\n遠方に住ん
 でいるためPyCon JPのチュートリアルに参加できずにい
 た方\nPythonを使っている人が周りにいなくてなかなか
 始められなかった方\n\nPyCon JPサイトに掲載の企画詳細\
 nPython Boot Camp in 京都\nPython Boot Campチュートリアルには
 本イベントのconnpassページから参加登録いただけます
 。\n日時・場所\n日時\n\n2018年8月25日（土） 18:30 - 21:00\n
 \n会場\n\n龍馬\n京都府京都市中京区三条通烏丸東入梅
 忠町24番地 (三条CHOJU)\n\n\n\n費用\n\n現地での清算（後払
 い）で4\,000～5\,000円前後の予定です。（connpass上は「4\
 ,000円」となっていますが、現地での割り勘清算です。
 ）\n\n懇親会だけの参加について\nPython Boot Campチュート
 リアルイベントには参加できない方でも懇親会だけ参
 加できます。\n当日は、直接懇親会会場にお越しくだ
 さい。\nまた、万が一懇親会場所の都合などでチュー
 トリアル参加者人数以上収容できない場合などは、conn
 passページを通してお断りすることがあるかもしれませ
 んのでご了承ください。\n運営\nPython Boot Campイベント
 は一般社団法人PyCon JPが運営しています。\nご意見・お
 問い合わせはpycamp@pycon.jpまでお願いします。
LOCATION:龍馬 京都府京都市中京区三条通烏丸東入梅忠町24
 番地 (三条CHOJU)
URL:https://techplay.jp/event/684958?utm_medium=referral&utm_source=ics&utm
 _campaign=ics
END:VEVENT
END:VCALENDAR
