BEGIN:VCALENDAR
VERSION:2.0
PRODID:-//https://techplay.jp//JP
CALSCALE:GREGORIAN
METHOD:PUBLISH
X-WR-CALDESC:第26回バーチャル・サミット関西
X-WR-CALNAME:第26回バーチャル・サミット関西
X-WR-TIMEZONE:Asia/Tokyo
BEGIN:VTIMEZONE
TZID:Asia/Tokyo
BEGIN:STANDARD
DTSTART:19700101T000000
TZOFFSETFROM:+0900
TZOFFSETTO:+0900
TZNAME:JST
END:STANDARD
END:VTIMEZONE
BEGIN:VEVENT
UID:685037@techplay.jp
SUMMARY:第26回バーチャル・サミット関西
DTSTART;TZID=Asia/Tokyo:20180727T193000
DTEND;TZID=Asia/Tokyo:20180727T213000
DTSTAMP:20260425T022432Z
CREATED:20180713T100524Z
DESCRIPTION:イベント詳細はこちら\nhttps://techplay.jp/event/68503
 7?utm_medium=referral&utm_source=ics&utm_campaign=ics\n\nバーチャル
 ・サミット関西とは\n\nバーチャル・サミット関西（#vs
 kansai）はバーチャル・リアリティ開発者が集まるイベ
 ントです。目的は情報を交換したり、ＶＲを勉強した
 り、楽しむことです。毎月第４の金曜日に行います。
 ＶＲ開発に興味をお持ちの方、是非ご参加下さい！開
 催場所は毎回変わる可能性がございますので、当イベ
 ントページで場所の確認をしてください。\n\nお知らせ
 \n\n①　Doorkeeperを初めてご利用する方へ\n今回のバーチ
 ャル・サミット関西の「イベント」に参加したい方は
 、「コミュニティに参加」ボタンではなく、必ず、上
 の赤い「申し込む」ボタンから申し込みをしてくださ
 い。\n\n②　参加人数が満員になっても、必ずご登録お
 願い致します。椅子を追加して拡張します。\n\nイベン
 ト目的\n\nまとめると、「Share. Learn. Enjoy.」です。\n\nSha
 re\n自分の開発中のＶＲゲーム、ＶＲ研究プロジェクト
 、ＶＲデザイン、ＶＲテクニックなどの情報を皆さん
 に共有することが第一目的です。まだ完成していない
 物を共有するのは恥ずかしいと思いますが、早い段階
 でフィードバックがあれば、より良い物を作れると思
 います。お互いにプロジェクトを共有しましょう！\n\n
 Learn\nＶＲは新しいテクノロジーで、学ぶことは山ほど
 あります。皆さんにとって勉強になるプレゼンなどを
 実施することが第二目的です。しかし、観客が勉強に
 なるだけではなくて、共有している方も勉強になるた
 めに、プレゼンの後、観客からフィードバックを提供
 しましょう。\n\nEnjoy\n何よりも、ＶＲは楽しいです。
 皆さんが気軽に楽しめる環境を提供することは第三目
 的です。年齢、会社所属、性別に関わらず、お互いに
 仲良くしたり、喋ったり、笑いましょう！人脈を作っ
 たり、自分のプロジェクトに参加する人を募集するこ
 とも可能です。\n\n場所\n\n名前：　株式会社モノビッ
 ト　神戸本社セミナールーム\n住所：　神戸市中央区
 京町78番地 三宮京町ビル 3階 A号室\nアクセス：　JR三
 ノ宮、阪神神戸三宮、阪急神戸三宮からそれぞれ徒歩
 約10分です。\n\n流れ\n\n下記のスケジュールは大まかで
 すが、当日の流れはこんな感じになると思います。\n19
 :30 - 20:00 -　会場設置　・　自由に交流タイム\n20:00 - 20
 :30 - 着席　・　各人の自己紹介\n20:30 - 21:30 - ３つのミ
 ニ・プレゼン\n21:30 - 23:00 - 片付け　・　解散　・　食
 事会\n\nイベントが終わったら、食事会もあります。場
 所は未定ですが、会場の近くになります。一人、約3000
 ～4000円になるでしょうが、人数によります。\n\nミニ
 ・プレゼンする人、大募集\n\n今回のプレゼン内容は下
 記になります：\n\n\n\n発表者\nプレゼン・タイトル\n\n\n
 \nおばた\nニュースまとめ\n\n\n目玉Pさん\n次世代モデリ
 ングの試行錯誤日記\n\n\n未定\n未定\n\n\n\nミニ・プレゼ
 ン出来る人を積極的に募集しています。ＶＲに関わる
 プレゼンであれば、なんでもオッケーです！トピック
 の例を申し上げると：\n・自分が開発しているゲーム\n
 ・面白いＶＲに関わるテクニックをみつけて、共有プ
 レゼン\n・ＶＲにてのデザイン工夫\n・ＶＲに関わる研
 究内容\n\nミニ・プレゼンの流れは次のようになると考
 えております：\n・１５分 - プレゼン\n・５分 - 観客か
 らフィードバック・質問\n\n会場が下記のものを提供下
 さいます：\n・無線LAN ・プロジェクター\n・ホワイト
 ボード ・椅子とテーブル\n\nRiftを使って、プレゼンす
 る予定であれば、自分のＰＣを会場まで持ってくるこ
 とになります。（自分のＰＣでデモするのがダメにな
 った場合、弊社とご相談下さい。ＰＣを提供すること
 は・・・おそらく・・・可能です。）\n\nミニ・プレゼ
 ンを提供したい方は、https://twitter.com/obaatsuまでリプかD
 Mしてください！\n\n提供者について\n\n株式会社モノビ
 ット神戸本社マネージャーのおばたです。\nモノビッ
 トではゲーム開発やネットワークエンジン開発のほか
 、VR、ARコンテンツの開発も行なっています。\n\n※今
 回レノさんから引き継ぎました。レノさんについては
 下記での通りです。\n\n株式会社Pittariの代表取締役、
 レノです。\n\n弊社はＶＲコンテンツ開発を中心に行っ
 ています。Ｏｃｕｌｕｓ Rift CV1、HTC Vive、リープモー
 ション・コントローラなどを使って、優秀なコンテン
 ツを提供するよう努力しています。大阪に基盤を持つ
 小規模の会社ですが、いつも最先端の問題に取り組ん
 でいます。ウエブサイトはこちらです： http://www.pittari
 .co.jp\n\nこのイベントについてのお問い合わせはござい
 ましたら、弊社のウエブサイトにてのお問い合わせフ
 ォームをご利用下さい。
LOCATION:株式会社モノビット　神戸本社セミナールーム 
 神戸市中央区京町78番地 三宮京町ビル 3階 A号室
URL:https://techplay.jp/event/685037?utm_medium=referral&utm_source=ics&utm
 _campaign=ics
END:VEVENT
END:VCALENDAR
