BEGIN:VCALENDAR
VERSION:2.0
PRODID:-//https://techplay.jp//JP
CALSCALE:GREGORIAN
METHOD:PUBLISH
X-WR-CALDESC:第23回CoderDojo久留米　メンター(スタッフ)・見
 学用
X-WR-CALNAME:第23回CoderDojo久留米　メンター(スタッフ)・見
 学用
X-WR-TIMEZONE:Asia/Tokyo
BEGIN:VTIMEZONE
TZID:Asia/Tokyo
BEGIN:STANDARD
DTSTART:19700101T000000
TZOFFSETFROM:+0900
TZOFFSETTO:+0900
TZNAME:JST
END:STANDARD
END:VTIMEZONE
BEGIN:VEVENT
UID:685219@techplay.jp
SUMMARY:第23回CoderDojo久留米　メンター(スタッフ)・見学用
DTSTART;TZID=Asia/Tokyo:20180818T133000
DTEND;TZID=Asia/Tokyo:20180818T170000
DTSTAMP:20260421T050700Z
CREATED:20180714T100512Z
DESCRIPTION:イベント詳細はこちら\nhttps://techplay.jp/event/68521
 9?utm_medium=referral&utm_source=ics&utm_campaign=ics\n\nこの申し込
 みページは「メンター(スタッフ)、見学」参加受付専
 用です。\n\nメンター(スタッフ)大募集！！！\nCoderDojo
 久留米とは？\n次世代のプログラマを育てるためのボ
 ランティアで運営される無料のプログラミング道場で
 す。\nCoderDojo 久留米の詳細につきましては、CoderDojo久
 留米のfacebookページを御覧ください。\n開催場所\n福岡
 県 久留米市中央町11-1　第一田中ビル2F Mekuruto\nhttps://me
 kuruto.com\nメンターについて\nCoderDojo久留米 (コーダー道
 場久留米)では、道場を一緒に盛り上げてくれるメンタ
 ー(スタッフ)を募集しています。\n主に子どもたちの話
 を聞きながら、一緒にScratchなどを使ったゲーム制作・
 作品制作のサポートをお願いします。\n特に、子ども
 たちの作品を「興味深く」見ていただける方を希望し
 ています。\n(プログラミングの腕前はあまり関係あり
 ません。プログラミング未経験者でもOKです。)\n当日
 は主にScratchという「日本語のブロックを組み合わせる
 ことでプログラムが組める易しい環境」を使います。\
 n※本職かどうかということは全く関係ありません。子
 どもたちと一緒にものづくりを楽しみたいという方の
 ご参加をお待ちしております。\n初参加者・見学希望
 の方へ\n初めてCoderDojoでメンターをする・見学を希望
 される方は、事前に主催者とのお打合せをお願いして
 おります。(メールなどで何回かやりとりをさせていた
 だきます)\nこれはCoderDojoのルールであり、セキュリテ
 ィ的に身元のわからない人にメンターをさせることが
 できないためです。 また、あらかじめCoderDojoという世
 界的なボランティア活動についてご説明し、納得して
 もらった上で活動していだたきたいと考えているため
 です。\nエントリーいただきましたら、当方から別途
 ご連絡させていただきます。(初回参加の方のみ)\nCoderD
 ojoガイダンス\nhttps://docs.google.com/presentation/d/e/2PACX-1vTukD
 tBzvD62d9rNLBY1kXp8arXJBnB-Lq6YWSW5oZXoeokGLscob1HNYzmD7mIIxhkoQyCJVoFAFv
 h/pub?start=false&loop=false&slide=id.g3c86930ef4_1_5\n知っておきた
 い!CoderDojo用語\n\nDojo(道場) - プログラミングしにくる
 場所\nNinja(ニンジャ) - 参加している子供達\nMentor(メン
 ター) - ニンジャの手助けをする大人\n
LOCATION:Mekuruto 福岡県久留米市中央町11-1(第一田中ビル2階
 )
URL:https://techplay.jp/event/685219?utm_medium=referral&utm_source=ics&utm
 _campaign=ics
END:VEVENT
END:VCALENDAR
