BEGIN:VCALENDAR
VERSION:2.0
PRODID:-//https://techplay.jp//JP
CALSCALE:GREGORIAN
METHOD:PUBLISH
X-WR-CALDESC:【初心者歓迎】C++入門講座
X-WR-CALNAME:【初心者歓迎】C++入門講座
X-WR-TIMEZONE:Asia/Tokyo
BEGIN:VTIMEZONE
TZID:Asia/Tokyo
BEGIN:STANDARD
DTSTART:19700101T000000
TZOFFSETFROM:+0900
TZOFFSETTO:+0900
TZNAME:JST
END:STANDARD
END:VTIMEZONE
BEGIN:VEVENT
UID:685344@techplay.jp
SUMMARY:【初心者歓迎】C++入門講座
DTSTART;TZID=Asia/Tokyo:20180811T103000
DTEND;TZID=Asia/Tokyo:20180811T134500
DTSTAMP:20260420T223321Z
CREATED:20180715T141501Z
DESCRIPTION:イベント詳細はこちら\nhttps://techplay.jp/event/68534
 4?utm_medium=referral&utm_source=ics&utm_campaign=ics\n\n【初心者歓
 迎】C++入門講座\n\n概要\n\n3時間でC++の文法入門をハン
 ズオン形式で行います。プログラミング自体も初心者
 という方でも、ついてこれる内容です。\n\nC言語はプ
 ログラミング言語の元となる言語であり、その学習を
 通して、C言語だけでなくPython\, Java\, JavaScript\, C#\, Objec
 tive-Cなどの言語も簡単に理解できるようになります。
 今回扱うC++は、強力なライブラリを含む多機能を備え
 たC言語の上位互換言語です。その演算速度と強力さゆ
 え長年人気言語ランキングのトップクラスに君臨し続
 けています。実際にnumpy\, tensorflowなど多くのライブラ
 リはC++によって実装されており、競技プログラミング
 の世界ではほとんどの人がC++を使用しています。\n\n当
 講座を受講していただけると、C++の基本を理解し、プ
 ログラミングをする上での自分の世界を一気に広げる
 ことができます。また、プログラミングとは何か？と
 いう疑問を持っていらっしゃる方にとっても、非常に
 オススメな内容となっております。\n受講後は【実用
 レベル】C++中級に進んでいただくと実用レベルの文法
 までマスターしていただけます。\n\n当日は実戦形式で
 、演習問題を交えつつ進めていきますので、C++のコン
 パイル環境をインストールしたPCの持参をお願い致し
 ます。環境を整えることが難しい場合はオンラインの
 実行環境を案内いたしますので、PCを持参してくださ
 い。\n\n※講座の進行は「VSCode」を使います。同じ実行
 環境で受講したい方は、インストールをお勧めします
 。\n\n講座を通じて得られること\n\n\nC++の基本的な文法
 の習得\nC++で簡単なプログラムが記述できる\n他人の書
 いたC++コードも調べながらなら理解できる\n\n\n内容\n\n
 \nC++の特徴\nコンパイルと実行\n標準入出力\n変数と型\n
 演算子\n配列とvector\n分岐とループ\n関数\nクラス\n\n\n
 ※ 各項目に最低限2題以上演習問題をもうけています
 ので、理解度を確認しながら受講いただけます。※ 当
 日予告なく時間配分・内容が変更になる可能性がござ
 います。\n\nこんな人におすすめ\n\n\nC++を最短ルートで
 入門したい方\nC++入門を考えているが自分で出来るか
 不安な方。\nプログラミング初心者の方\n\n\n講師\n\n吉
 田 拓真\n東京大学大学院にてシステム開発の研究に従
 事。C++を用いて、ライブラリを使わずに独自に深層強
 化学習を実装したことをきっかけに機械学習に携わっ
 ている。現在は、C++やPythonを用いてニューラルネット
 ワークと機械学習によるFXの変動予測及び自動取引ツ
 ールを開発している。\n\n崔 一鳴\n全人類がわかる統計
 学の管理人。大学にて統計学を専攻。サイトではPython
 、R、仮説検定、統計の基礎の記事を中心に担当。現在
 は、PythonやRを使い、都内の私立大学医学部で統計解析
 の助手やDSコンペへの参加などの活動をしている。ま
 た東京工業大学大学院にて自然言語処理の研究にも従
 事。\n\n\n\n\n\n持ち物\n\n\nPC（C++のコンパイル環境のイ
 ンストールを推奨）\n※ インストールでお困りの方はi
 nfo@to-kei.netまでご連絡いただければ、可能な範囲で対
 応致します。 ※ 講座の進行は「VSCode」を使います。
 同じ実行環境で受講したい方は、インストールをお勧
 めします。\n\n\n参加費\n\n前払い\n3500円\n\n※前払いの
 方でキャンセルされる場合は、開催日の3日前までのご
 連絡に限り、払い戻し手数料を差し引いた金額を返金
 いたします。それ以降は返金には応じ兼ねますのでご
 了承ください。\n\n当日現金払い\n4000円 (受付時にお支
 払いください)\n\n領収書\n\n前払いの方\n 決済処理後にP
 aypalから送付されるメール内容、またはPaypalの取引履
 歴から該当項目を確認の上、「詳細」をご覧ください
 。それらが領収書の代わりとなります。また、クレジ
 ットカード会社発行の利用明細書も領収書としてご利
 用いただけます。（当社より重複しての発行は行えま
 せん)\n\n\n当日払い野方\n講座後のアンケートにて、「
 領収書が必要」にチェックを入れるようにお願いいた
 します。領収書をメールにて送付させていただきます
 。\n\n受付・入場時間\n\n開始の15分前から\n\n問い合わ
 せ\n\nイベントに関するお問い合わせはinfo@to-kei.netまで
 ご連絡ください。\n\n注意事項\n\n・リクルーティング
 、勧誘、採用活動など、目的に沿わない行為につきま
 して、主催者が相応しくないと判断した場合は即刻退
 出処分とします。全員が気持ちよく過ごすことが出来
 るよう、ご協力をお願い致します。\n・講座内で扱う
 コンテンツは全て「全人類がわかる統計学」に帰属し
 ています。複製はご遠慮ください。\n・個人ブログへ
 の講義コンテンツの掲載はご遠慮ください。\n\n全人類
 がわかる統計学とは\n\n統計学の学習サイト、全人類が
 わかる統計学を運営、管理している団体です。統計学
 とその関連分野について、出来るだけわかりやすく多
 くの人々に届けるということを目指して活動していま
 す。\n
LOCATION:池袋駅徒歩4分 東京都豊島区東池袋1-47-2 サニーハ
 イム池袋505号室
URL:https://techplay.jp/event/685344?utm_medium=referral&utm_source=ics&utm
 _campaign=ics
END:VEVENT
END:VCALENDAR
