BEGIN:VCALENDAR
VERSION:2.0
PRODID:-//https://techplay.jp//JP
CALSCALE:GREGORIAN
METHOD:PUBLISH
X-WR-CALDESC:Shinjukuプログラミングもくもく #8
X-WR-CALNAME:Shinjukuプログラミングもくもく #8
X-WR-TIMEZONE:Asia/Tokyo
BEGIN:VTIMEZONE
TZID:Asia/Tokyo
BEGIN:STANDARD
DTSTART:19700101T000000
TZOFFSETFROM:+0900
TZOFFSETTO:+0900
TZNAME:JST
END:STANDARD
END:VTIMEZONE
BEGIN:VEVENT
UID:685450@techplay.jp
SUMMARY:Shinjukuプログラミングもくもく #8
DTSTART;TZID=Asia/Tokyo:20180728T110000
DTEND;TZID=Asia/Tokyo:20180728T170000
DTSTAMP:20260421T184941Z
CREATED:20180716T140417Z
DESCRIPTION:イベント詳細はこちら\nhttps://techplay.jp/event/68545
 0?utm_medium=referral&utm_source=ics&utm_campaign=ics\n\nガンガンコ
 ードを書く・学ぶ\nオーガナイザーがストイックにプ
 ログラミングするための強制的な時間を作りたい、１
 人だとサボりそうという流れから、2018-05-19 より隔週
 で開催されています。\n（ほんとは毎週やりたいので
 す。オーガナイズをお手伝いいただけませんか？やっ
 ても良い方はご連絡ください）\nそのため、新宿プロ
 グラミングもくもく会では参加しているプログラマー
 各位が相談したりしながら、以下のようなテーマにそ
 れぞれ取り組みます。\n\n新しい言語・フレームワーク
 を触りこむ\n今後使うかもしれないミドルウェアの特
 性を掴む\n分散データストアをとりあえず触って肌感
 覚を掴む\n機械学習についてまとまって時間作って学
 習する\n数学や統計を学び直す、論文を読む\nOSS活動や
 プライベートプロダクトを集中して進めたい\n\nやって
 ること\n\nまた、自身にプレッシャーを与えるためにも
 成果発表が必要だと考え、check-inにてやることを宣言
 し、check-outにて成果を発表します。\n質問などありま
 したら、slackの shinjuku-mokumoku で mention もしくは、twitter
 にて #shinjukumokumoku 付きで tweetくだされば反応します。
 \n\nコミュニケーション\n遅れてくる・早く退出する場
 合は、 slack/shinjuku-mokumoku #general channel にてcheck-in & out
 の内容を報告ください。\n未登録の方は方は https://shinj
 uku-mokumoku.herokuapp.com より登録ください。\n\n\n\nchannel\npu
 rpose\n\n\n\n\ngeneral\nやること・やったことを報告したり
 、これ困ってますー！など気軽に聞く場所。\n\n\nbeginne
 r\nプログラミング初心者が質問して助けを求めるchannel
 。どう勉強したらよいか？このエラー何？対面で教え
 てほしい！！など気軽に聞く場所。\n\n\n\n質問テンプ
 レート\n以下のような質問テンプレートを使うと答え
 る側も答えやすいかもしれません。ご活用ください\n* 
 OSは何？\n* なんの言語・技術？\n* バージョン？\n* 緊
 急度（ゆる募など）\n* 質問詳細\n\n\n\nタイムテーブル\
 n途中の入退出自由です。遅れてで参加も大丈夫です。
 \nせっかく集まったエンジニア同士コミュニケーショ
 ン取れるようにするため、ランチを挟むようにしてみ
 ました。\n17:30以降については、会場の許しが有れば希
 望者でも継続もくもくします。19:00ぐらいに希望者で
 夕食を食べたりすることが多いです。\n\n\n\n時間\n内容
 \n\n\n\n\n10:45\n開場\n\n\n11:00\ncheck-in: 自己紹介と今日取り
 組むことの発表\n\n\n11:30\nもくもく\n\n\n13:00\n有志でラ
 ンチ\n\n\n14:00\nもくもく\n\n\n17:00\ncheck-out: 取り組んだこ
 との発表・会の振り返り\n\n\n17:30\n片付け・解散\n\n\n\n
 ランチ\n13時頃に外で食べに行く人は4\,5人ずつ集まっ
 ていこうと思います。\nslack/shinjuku-mokumoku #generalに近場
 のお店一覧とアンケートを出すので12:50までに行きた
 いお店を押してください。\nランチ参加は強制ではあ
 りません。自分で買ってきたり、そのまま作業を続行
 するのもOKです。\n13時〜14時は鍵閉めてしまっている
 可能性があるので気をつけてください。\nもし来てし
 まったらslack/shinjuku-mokumoku #generalまでご連絡ください
 。\nなるべく早く戻ります。\ncheck-in & out\ncheck-in: 自己
 紹介と今日取り組むことの発表\nshinjuku-mokumoku/meetup の 
 /meetups/x/yourname.md にて以下の内容をPR出してください。
 \n2-3 min/person\n# <name_or_handle>\n\n## 会社や業務で普段やっ
 ていること\n\n## 今日取り組むこと\n\n## (option) もしか
 したら相談するかもしれないこと\n\n## (option) 教えても
 いいよという領域\n\n\n\ncheck-out: 取り組んだことの発表
 \n2-3 min/person の簡単なLTで成果発表します。\nshinjuku-moku
 moku/meetupの/meetups/x/yourname.mdにて以下の内容を追記し、P
 R出してください。\n## 今日取り組んだ成果\n\n\n\n振り
 返り\n今後の回を良くするために、KPTを行います。\n過
 去の内容は shinjuku-mokumoku を参照ください\n設備\n\nWiFi
 あります。\nイベントスペースで淹れたてコーヒーが
 あります。自由に飲んで頂いて結構です。\n飲食可能
 です。フロアに自販機はありませんが、建物1Fにコン
 ビニやマクドナルドがあります。\n電源あります。足
 りない場合は延長ケーブルお出しするのでお声がけく
 ださい。\nディスプレイ欲しい人が居たら、オフィス
 スペースから貸出することも可能です。お声がけくだ
 さい。\n書籍もぼちぼちありますので、こんな本あり
 ますか？とお声がけください。イベントスペース内で
 あればお貸しできます。\n\n会場・アクセス\nRepro株式
 会社\n\nJR線「新宿駅」南口から徒歩10分\nJR線・都営地
 下鉄大江戸線「代々木駅」北口から徒歩1分\n\nアクセ
 ス\nこちらの建物の6Fです。\n\nエレベーターから降り
 て左方向にお進みください。\n\nエントランスからみて
 右手側です。\n\n会場にお入りください\n\n迷われまし
 たら、slack/shinjuku-mokumoku #general channelで mention もしくは
 、 #shinjukumokumoku 付きでtweetくだされば反応します。\n
 上記slackに未登録の方は https://shinjuku-mokumoku.herokuapp.com 
 より登録ください。\nスポンサー\n会場・おやつ\n\nス
 ペシャルサンクス\n\nginzarb githubの運用を参考にさせて
 頂きました。:tada:\n\n注意事項\n\n写真撮影を許可して
 います。写りたくない人が居たら事前にお知らせくだ
 さい。\n
LOCATION:Repro株式会社 東京都渋谷区代々木1丁目36-4 全理連
 ビル 6階
URL:https://techplay.jp/event/685450?utm_medium=referral&utm_source=ics&utm
 _campaign=ics
END:VEVENT
END:VCALENDAR
