BEGIN:VCALENDAR
VERSION:2.0
PRODID:-//https://techplay.jp//JP
CALSCALE:GREGORIAN
METHOD:PUBLISH
X-WR-CALDESC:R言語で代表的な統計的手法を色々実装するセ
 ミナー
X-WR-CALNAME:R言語で代表的な統計的手法を色々実装するセ
 ミナー
X-WR-TIMEZONE:Asia/Tokyo
BEGIN:VTIMEZONE
TZID:Asia/Tokyo
BEGIN:STANDARD
DTSTART:19700101T000000
TZOFFSETFROM:+0900
TZOFFSETTO:+0900
TZNAME:JST
END:STANDARD
END:VTIMEZONE
BEGIN:VEVENT
UID:685514@techplay.jp
SUMMARY:R言語で代表的な統計的手法を色々実装するセミナ
 ー
DTSTART;TZID=Asia/Tokyo:20180803T194500
DTEND;TZID=Asia/Tokyo:20180803T220000
DTSTAMP:20260421T002815Z
CREATED:20180717T041546Z
DESCRIPTION:イベント詳細はこちら\nhttps://techplay.jp/event/68551
 4?utm_medium=referral&utm_source=ics&utm_campaign=ics\n\nR言語で代表
 的な統計的手法を色々実装するセミナー\n\n概要\n\n特
 によく使われている統計的手法の理論を紹介しながら
 、R言語で実装まで行います。講座のゴールは「データ
 に対して適切な分析を行い、その結果を正しく理解で
 きること」です。\n\n今回の対象者はR言語の基本的な
 操作を習得済みで、簡単なプログラムを一度でも書い
 たことがある人とします。不安な方は、下記講座のど
 ちらか片方以上の受講を済ませた上での受講をお勧め
 いたします。\n\n・R言語データ分析入門\n・データ分析
 のためのR言語文法講座\n\n講座を通じて得られること\n
 \n・R言語でのt検定、カイ二乗検定、重回帰分析、ロジ
 スティック回帰分析の実装方法\n・上記手法を用いる
 上での理論の理解\n\n内容\n\n・t検定の理論と実装\n・
 独立性のカイ二乗検定の理論と実装\n・線形重回帰分
 析の理論と実装\n・ロジスティック回帰分析の理論と
 実装\n\n※それぞれの項目に演習問題を用意しておりま
 す。\n※ 当日予告なく時間配分・内容が変更になる可
 能性がございます。\n\nこんな人にオススメ\n\n・R言語
 を使ってデータ分析をしたい方\n・代表的な統計的手
 法をまとめて理解したいと考えている方\n・R言語のプ
 ログラムを簡単なものでも書いたことのある方\n\n講師
 \n\n崔 一鳴\n全人類がわかる統計学の管理人。大学にて
 統計学を専攻。サイトではPython、R、仮説検定、統計の
 基礎の記事を中心に担当。現在は、PythonやRを使い、大
 手保険会社で業務改善のためのデータ分析やDSコンペ
 への参加などの活動をしている。また東京工業大学大
 学院にて自然言語処理の研究にも従事。\n\n竹内 貴志\n
 大学院にて数理統計学を専攻。専門はカテゴリカルモ
 デルの適合度と分割表解析で、分析結果の解釈性を重
 視した新たなベクトル型尺度を提案するための研究を
 行う。現在は、がん研究センター・帝京大学医学部に
 てR言語を用いた医薬データの分析に従事。また、ITベ
 ンチャーでのデータサイエンス業務の経験あり。\n\n大
 川 遥平\n全人類がわかる統計学の管理人。大学にて統
 計学を専攻。サイトでは確率分布の記事やサイトデザ
 インを中心に担当。現在は、Web制作やPythonを用いたSEO
 対策用Webアプリケーションを構築するなどの活動をし
 ている。また筑波大学大学院にて、自然言語処理の研
 究にも従事。\n\n\n持ち物\n\n・R言語の実行環境をイン
 ストール済みのPC\n\n※インストールでお困りの方はinfo
 @to-kei.netまでご連絡いただければ、可能な範囲で対応
 致します。\n※講座では、Rstudioではなく、「R」を使い
 ます。同じ実行環境で受講したい方は、インストール
 をお勧めします。\n\n参加費\n\n前払い\n2500円\n\n※前払
 いの方でキャンセルされる場合は、開催日の3日前まで
 のご連絡に限り、払い戻し手数料を差し引いた金額を
 返金いたします。それ以降は返金には応じ兼ねますの
 でご了承ください。\n\n当日現金払い\n3000円（受付時に
 お支払いください）\n\n二回目の参加の方\n無料\n\n※当
 講座は二回目のご参加に関しては無料で受け付けてお
 ります。一回受けたが、途中参加だったために深い理
 解が出来なかった、もう一度受けて理解を深めたいと
 いう要望にお応えするためのものです。是非ご利用く
 ださい。\n\n※二回目の参加枠は、一度同じ講座に出席
 された方に限定いたします。\n\n領収書について\n\n前
 払いの方\n決済処理後にPaypalから送付されるメール内
 容、またはPaypalの取引履歴から該当項目を確認の上、
 「詳細」をご覧ください。それらが領収書の代わりと
 なります。また、クレジットカード会社発行の利用明
 細書も領収書としてご利用いただけます。（当社より
 重複しての領収書発行は行えません)\n\n当日払いの方\n
 講座後のアンケートにて、「領収書が必要」にチェッ
 クを入れるようにお願いいたします。領収書をメール
 にて送付させていただきます。\n\n受付・入場時間\n\n
 開始の15分前から\n\n※できる限り5分前までにお入りく
 ださい。\n※途中参加も可能です。\n\nお問い合わせ\n\n
 イベントに関するお問い合わせはinfo@to-kei.netまでご連
 絡ください。\n\n注意事項\n\n・リクルーティング、勧
 誘、採用活動など、目的に沿わない行為につきまして
 、主催者が相応しくないと判断した場合は即刻退出処
 分とします。全員が気持ちよく過ごすことが出来るよ
 う、ご協力をお願い致します。\n・講座内で扱うコン
 テンツは全て「全人類がわかる統計学」に帰属してい
 ます。複製はご遠慮ください。\n・個人ブログへの講
 義コンテンツの掲載はご遠慮ください。\n\n全人類がわ
 かる統計学とは\n\n統計学の学習サイト、全人類がわか
 る統計学を運営、管理している団体です。統計学とそ
 の関連分野について、出来るだけわかりやすく多くの
 人々に届けるということを目指して活動しています。\
 n
LOCATION:渋谷駅徒歩5分 東京都渋谷区鶯谷町5-7 第２ヴィラ
 青山 302
URL:https://techplay.jp/event/685514?utm_medium=referral&utm_source=ics&utm
 _campaign=ics
END:VEVENT
END:VCALENDAR
