BEGIN:VCALENDAR
VERSION:2.0
PRODID:-//https://techplay.jp//JP
CALSCALE:GREGORIAN
METHOD:PUBLISH
X-WR-CALDESC:(第91回)Python mini Hack-a-thon
X-WR-CALNAME:(第91回)Python mini Hack-a-thon
X-WR-TIMEZONE:Asia/Tokyo
BEGIN:VTIMEZONE
TZID:Asia/Tokyo
BEGIN:STANDARD
DTSTART:19700101T000000
TZOFFSETFROM:+0900
TZOFFSETTO:+0900
TZNAME:JST
END:STANDARD
END:VTIMEZONE
BEGIN:VEVENT
UID:685534@techplay.jp
SUMMARY:(第91回)Python mini Hack-a-thon
DTSTART;TZID=Asia/Tokyo:20180811T110000
DTEND;TZID=Asia/Tokyo:20180811T190000
DTSTAMP:20260425T153433Z
CREATED:20180717T060451Z
DESCRIPTION:イベント詳細はこちら\nhttps://techplay.jp/event/68553
 4?utm_medium=referral&utm_source=ics&utm_campaign=ics\n\nこの勉強会
 について\n基本的に毎月開催です。スプリントのゆる
 い版みたいな感じで各自自分でやりたいことを持って
 きて、勝手に開発を進めています。参加費は無料です
 。\n初めての方も常連さんもぜひご参加ください。\n\ns
 lackあります http://pyhack.herokuapp.com/\n\n会場には無線LANと
 電源があります。各自で用意するものは以下のとおり
 です。\n\n開発用のPC\n\n会場について\n\nビープラウド
 の会議室を借ります。\n土曜日はビルの表の自動ドア
 から入って、4Fに来てください。エレベーターを降り
 て左に進むと会議室があります。\n補欠参加の人は 床
 枠 として、床で作業なら来てもらって構いません。\n\
 nタイムテーブル\n以下は大体の目安です。また、遅刻
 早退はご自由にどうぞ。\n\n11:00- 自己紹介とやること
 発表\n11:30- 開発開始\n12:30- 昼食\n13:30- もくもくと開発\
 n17:30- 成果発表(できたとこまで)\n19:00- 後片付け\n19:30- 
 懇親会(行ける人で)\n\n前回の様子や関連リンク\n\nPython
  mini Hack-a-thon #89 - Togetter\n\n成果物とかブログとか\n\ngjo
 /pyramid_services_autowire: An autowire utility for pyramid_services/logg
 ing.html)\nymyzk/mypy-playground: The mypy playground\n「PyCon 2018 in C
 leveland」参加しました！ - se-lina’s BLOG\nPython mini hack-a-t
 hon 89回 #pyhack — 清水川Web\nイベントレポート | (第89回)
 Python mini Hack-a-thon : Flaskのロギングの調査、LINE Botを少
 しだけ触る #pyhack - nikkie-ftnextの日記\nPython mini hack-a-thon
  第89回参加記録。 - se-lina’s BLOG\n\n参考リンク\n\nLogging
  HOWTO — Python 3.6.5 ドキュメント\nline/line-bot-sdk-python: SDK
  of the LINE Messaging API for Python.\nmypy Playground\ntakluyver/flit: 
 Simplified packaging of Python modules\n\n告知されたイベント\n\n
 6月10日(日) PyLadies Tokyo Meetup #33 Alexaスキルをつくろう\n6
 月16日(土) fin-pyもくもく会 #16\n6月16日(土) PyData.Okinawa + 
 PythonBeginners沖縄 合同勉強会\n6月30日(土) Pythonもくもく
 自習室 #11 @ Rettyオフィス\n
LOCATION:ビープラウド会議室 渋谷区千駄ヶ谷5-32-7 野村不
 動産南新宿ビル4F
URL:https://techplay.jp/event/685534?utm_medium=referral&utm_source=ics&utm
 _campaign=ics
END:VEVENT
END:VCALENDAR
