BEGIN:VCALENDAR
VERSION:2.0
PRODID:-//https://techplay.jp//JP
CALSCALE:GREGORIAN
METHOD:PUBLISH
X-WR-CALDESC:システムトレード　勉強会　初心者大歓迎
X-WR-CALNAME:システムトレード　勉強会　初心者大歓迎
X-WR-TIMEZONE:Asia/Tokyo
BEGIN:VTIMEZONE
TZID:Asia/Tokyo
BEGIN:STANDARD
DTSTART:19700101T000000
TZOFFSETFROM:+0900
TZOFFSETTO:+0900
TZNAME:JST
END:STANDARD
END:VTIMEZONE
BEGIN:VEVENT
UID:685888@techplay.jp
SUMMARY:システムトレード　勉強会　初心者大歓迎
DTSTART;TZID=Asia/Tokyo:20180801T190000
DTEND;TZID=Asia/Tokyo:20180801T210000
DTSTAMP:20260421T024635Z
CREATED:20180719T020452Z
DESCRIPTION:イベント詳細はこちら\nhttps://techplay.jp/event/68588
 8?utm_medium=referral&utm_source=ics&utm_campaign=ics\n\n概要\nシス
 テムトレード、Pythonのプログラミングを仕事、趣味、
 研究等に活用する方法をみんなで一緒にまなびます。
 金融関係者、個人投資家、プロのITエンジニアに限ら
 ず、初心者からマスターまで様々なレベルのいろいろ
 な分野にわたるひとたちの参加をお待ちしております
 。\n勉強会を継続していきたいと思いますので多くの
 方々の参加をお待ちしております。\nテーマ：「Python3
 ではじめるシステムトレード」の特別編として”市場
 の多様性"をまなびます。市場のメカニズムはマーケッ
 トマイクロストラクチャーとして詳細な分析がなされ
 ています。ノイズトレーダー、マーケットメイカー、
 ファンダメンタリストの参加者を用いて、彼らの市場
 での役割を考えていきます。一体誰をカモにする必要
 があるのか？カモにされないためにはどうすればよい
 のか。この中で、投資の成功の鍵は多様性であること
 を学びます。\n参加者の状況により最初の３０分はシ
 ステムトレードの概要を説明します。\n19時スタート、
 ２０時３０分プレゼン終了、２１時まで自由意見交換
 、２１時退出というスケジュールで行きたいと思いま
 す。\n発表者を募集しています。また、LTも大歓迎です
 。\n参加者のみなさまへ：勉強の対象になっている本
 を購入する必要は特にありません。本に沿って読み進
 めていきますので、あったほうが便利です、という程
 度です。\n今後の予定
LOCATION:金融財務研究会セミナールーム 中央区日本橋茅
 場町1-10-8（グリンヒルビル）
URL:https://techplay.jp/event/685888?utm_medium=referral&utm_source=ics&utm
 _campaign=ics
END:VEVENT
END:VCALENDAR
