BEGIN:VCALENDAR
VERSION:2.0
PRODID:-//https://techplay.jp//JP
CALSCALE:GREGORIAN
METHOD:PUBLISH
X-WR-CALDESC:【機械学習】「仕事ではじめる機械学習」読
 書会
X-WR-CALNAME:【機械学習】「仕事ではじめる機械学習」読
 書会
X-WR-TIMEZONE:Asia/Tokyo
BEGIN:VTIMEZONE
TZID:Asia/Tokyo
BEGIN:STANDARD
DTSTART:19700101T000000
TZOFFSETFROM:+0900
TZOFFSETTO:+0900
TZNAME:JST
END:STANDARD
END:VTIMEZONE
BEGIN:VEVENT
UID:685935@techplay.jp
SUMMARY:【機械学習】「仕事ではじめる機械学習」読書会
DTSTART;TZID=Asia/Tokyo:20180728T140000
DTEND;TZID=Asia/Tokyo:20180728T170000
DTSTAMP:20260422T133643Z
CREATED:20180719T060423Z
DESCRIPTION:イベント詳細はこちら\nhttps://techplay.jp/event/68593
 5?utm_medium=referral&utm_source=ics&utm_campaign=ics\n\n台風の接近
 による延期のお知らせ\n台風12号接近の影響で大雨、暴
 風により交通機関の乱れも予想されるため、\n読書会
 の開催を延期します。\n開催時期は8月11日、12日頃を予
 定しています。\n決まり次第、connpassでメッセージを送
 ります。\n\n積ん読になりがちな専門書を、みんなで一
 気に読みましょう。\n今回は、「仕事ではじめる機械
 学習」を読みます。\n今回は頭から本を読むのではな
 く、質問形式を取り入れて、短時間に本の全体を把握
 できるような進め方をします。\n初心者歓迎、事前に
 予習は必要ありません！\n今回の本\n次の本を必ず各自
 買って持ってきてください。電子書籍版・PDF版でも参
 加可能です！\n\n仕事ではじめる機械学習\n有賀 康顕  (
 著)\, 中山 心太 (著)\, 西林 孝  (著)\n\n進め方\n\nグラン
 ドルール説明\n前回のおさらい\n自己紹介\n全体像をつ
 かむ（初回参加者）\n各章を読む（質問を作る、答え
 るを繰り返す）\n質問の答えをまとめる\n\nファシリテ
 ーター紹介\n石上晋（@susumuis）\n株式会社ビープラウド
 所属、システムクリエイター\nWebも機械学習も手がけ
 るエンジニア。Pythonプロフェッショナルプログラミン
 グ 第3版、第15章「第15章 プログラマーのための機械学
 習」執筆者。\n秋葉原みんなの技術読書会ファシリテ
 ーター、メイドカフェでノマド会代表\n持ち物\n\n対象
 書籍\nノートPC（出来ればあった方が良い）\n\n注意事
 項\n\n進行上の都合のため、途中参加不可です。遅刻な
 く集合してください\n
LOCATION:合同会社ねこもり秋葉原オフィス 東京都千代田
 区外神田２丁目１５−８ 長坂第三ビル3F 合同会社ねこ
 もり
URL:https://techplay.jp/event/685935?utm_medium=referral&utm_source=ics&utm
 _campaign=ics
END:VEVENT
END:VCALENDAR
