BEGIN:VCALENDAR
VERSION:2.0
PRODID:-//https://techplay.jp//JP
CALSCALE:GREGORIAN
METHOD:PUBLISH
X-WR-CALDESC:iOSDC 2018 Reject Conference days2[非公式]
X-WR-CALNAME:iOSDC 2018 Reject Conference days2[非公式]
X-WR-TIMEZONE:Asia/Tokyo
BEGIN:VTIMEZONE
TZID:Asia/Tokyo
BEGIN:STANDARD
DTSTART:19700101T000000
TZOFFSETFROM:+0900
TZOFFSETTO:+0900
TZNAME:JST
END:STANDARD
END:VTIMEZONE
BEGIN:VEVENT
UID:685945@techplay.jp
SUMMARY:iOSDC 2018 Reject Conference days2[非公式]
DTSTART;TZID=Asia/Tokyo:20180920T192000
DTEND;TZID=Asia/Tokyo:20180920T220000
DTSTAMP:20260420T235058Z
CREATED:20180719T060542Z
DESCRIPTION:イベント詳細はこちら\nhttps://techplay.jp/event/68594
 5?utm_medium=referral&utm_source=ics&utm_campaign=ics\n\n※更新情報\
 n\n7/20：聴講枠を60人→70人、I will blog枠5人追加、Twitter
 実況枠10人追加しました。\n8/6：聴講枠を70人→100人に
 増枠しました。タイムテーブルを公開しました。\n8/29 
 : iOSDC Reject Conference 2018 特別企画 募集を公開しました
 。\n8/30：聴講枠を100人→120人に増枠しました。\n\n企画
 の登壇者・ネタ募集中です！\niOSDC Reject Conference 2018 で
 は特別企画のための登壇者やネタを募集しています。
 皆様からのご応募をお待ちしています。\n\nOSSアプリに
 テストをライブコーディング\n今だから応募できるト
 ーク\nココだから話せる！SNS NGトーク\nみんなでパネル
 ディスカッション\n\n詳細・ご応募はこちらから！ → i
 OSDC Reject Conference 2018 特別企画\nイベント概要\niOSDCで惜
 しくも不採択になってしまったトークの中にも魅力的
 なトークがたくさんあります。このカンファレンスは
 そんなトークを皆で楽しむiOSDC公認のカンファレンス
 です（注：iOSDC実行委員会が運営する公式イベントで
 はありません）。\n1年目は開催するので精一杯、2年目
 はリアルタイム配信にチャレンジ、そして3年目の今年
 は「企画モノをやれないかな？？」と考えています。\
 n※このイベントは2daysになります。1日目のイベントペ
 ージは別に存在します。1日目も参加する方はこちらの
 ページでも登録お願いします。2daysですが1日空くので
 気をつけてください！\nタイムスケジュール\n\n\n\n時間
 \n内容\n\n\n\n\n19:00〜\n開場\n\n\n19:20〜19:30\nこのカンファ
 レンスについて、会場から\n\n\n19:30〜21:00\nトーク/企画
 モノなど\n\n\n21:00〜22:00\n懇親会\n\n\n22:00\n解散\n\n\n\n※
 「企画モノ」とは？\niOSDC Reject Conference の1年目は開催
 するので精一杯、2年目はリアルタイム配信にチャレン
 ジ、そして3年目の今年は「企画モノをやれないかな？
 ？」と考えています。iOSDC Reject Conference 2018 特別企画
 サイトにて、登壇者や企画の題材を募集中です。皆様
 からのご応募をお待ちしています！\nトーク\n\n「デザ
 イナーと一緒にコラボして仕上げるアニメーション実
 装とショーケース紹介」@fumiyasac\n「UITesting with GraphQL」
 @iida_0213\n「「開発初心者は何がわからないのか」わか
 らないを言語化するヒント」@ marina10172013\n「iOSアプリ
 のUniversal対応をやめようとした話」@_mogaming\n「Flutter触
 りまくったからその知見を公開する」@yshogo87\n「Metalに
 よる素材を活かしたUI作り」@kazuhiro494949\n「Manual DI with 
 ReactorKit」@kz56cd\n「Self-Documenting Code のススメ方」@lovee\n
 「ジェネリクスを使ったプロフィール画面の構築」@swi
 z_ard\n「DDD(ドメイン駆動設計)を知っていますか？？」@
 takattata\n※後ほどもう少し見やすくできたらなと思い
 ます…。\n企画モノ　「みんなでパネルディスカッシ
 ョン」\ndays2のみの企画モノとして、「みんなでパネル
 ディスカッション」を開催します！\n「iOSエンジニア
 が聞いて楽しい話」をテーマに、話したい人が自由に
 ディスカッションする「参加型パネルディスカッショ
 ン」です。\nわいわい話したい人、参加をお待ちして
 おります！\nお題例\n\niOSDCで良いなと思った発表は何
 ですか？\n設計を決める際の判断基準は何でしょうか
 ？(コードの臭いみたいに設計の臭いを知りたいです。
 )\n人間の手によるコードレビューではどんなことを指
 摘してますか？\nリモートで働くことありますか？会
 社でリモートワークの制度は整ってますか？\n思い出
 のバグはありますか？\n\n参加枠の説明\n聴講枠\niOSDCに
 参加した人はもちろんですが、参加してない人もこの
 枠で申し込むことができます。\nI will blog枠、Twitter実
 況枠\nイベント開催1週間後までを目処に、イベントブ
 ログを公開してくださる方 / イベント開催中に積極的
 にツイート（10ツイート以上くらい）してくださる方
 のための枠になります。 当日は前の方の見やすい席や
 電源の近くの席を優先的にご用意させていただきます
 （あくまでも「優先」で、必ずしも確保できるとは限
 りません）。\n登壇枠\niOSDCにLT/トーク枠で応募し、不
 採択になってしまった方のための枠です。iOSDCで採択
 された方でも、不採択のトークが存在していたら応募
 することができます。今年は応募数によってトラック
 数等を決めたいと思っており、現時点では定員が明確
 に決まっていません。抽選結果日（8/2）には結果がわ
 かる状態にするのでひとまずお申し込みください。\n
 ※1日目と2日目でトーク枠の応募人数に偏りが出た場
 合、本人と相談の上日程調整をさせていただく可能性
 があります。\nリモート参加枠\n今年も配信も行います
 ！ので遠方の方の参加も大歓迎です。\nちなみに福岡
 は去年同様サテライト会場を設ける予定です。また、
 他の地域でのサテライト会場もご自由にどうぞ！ご連
 絡いただければ集客等で何かしらサポートしたいなと
 考えています。\n以下のURLでLive配信を行います。\n\nTra
 ck A https://youtu.be/u5Yj_sFsKDQ\nTrack B https://youtu.be/Mkk_1Ll1ijg\n
 Track C https://youtu.be/mavniHTe_Xw\n\n会場\nDeNA渋谷 ヒカリエ 
 オフィス\n入館受付は 19:00 ~ 19:45 まで です。オフィス
 フロア入口（11F）にお越しください。 オフィスフロア
 入口（11F）オフィス総合受付の側に本イベント用の特
 設受付を設置しています。 そちらで 名刺を1枚いただ
 きますので、その後 受付の案内に従ってください。\n
 ※名刺を持っていない場合は芳名カードへの記入でも
 構いません\n※ヒカリエビル内の地下フロアB3FやJRとの
 連絡通路がある2Fなどに、11Fへの直通エレベータが数
 ヶ所設置されています。\n19:45 以降は入館することが
 できませんので、参加される方は必ずこの時間までに
 お越し下さるよう、よろしくお願いします。\n※本会
 場は、技術者支援プログラム「DeNA TECH STUDIO」の支援を
 受けて運営しています。\n◆ DeNA TECH STUDIOとは？ DeNAで
 は 世の中の技術向上に貢献する 勉強会やイベントを
 積極的に支援してまいります！ 具体的には、会場提供
 、開催費用負担、事前準備・当日の運営サポートをDeNA
 が担当します！ https://denatechstudio.connpass.com/\n持ち物\n
 名刺を2枚持って、受付で渡してください。\n※持って
 いない場合は受付にて必要項目への記入でも構いませ
 ん\niOSDCの名札を持っていくと懇親会で話がしやすいか
 も！？\n懇親会スポンサー\n以下2社が懇親会スポンサ
 ーに付いてくださることになりました！ありがとうご
 ざいます！\n株式会社リクルートテクノロジーズ\n株式
 会社ディー・エヌ・エー\nアンチハラスメントポリシ
 ー\nハラスメントとは、性差、性同一性と表現、性的
 指向、障害、外見や身体的特徴、人種、宗教、公共な
 場での性的な画像や類する表現、脅迫、ストーカ、望
 まない写真撮影や録音・録画、不適切な接触、および
 それらに関連した不快な言動が含まれます。\niOSDC Rejec
 t Conferenceでは全ての参加者がナレッジ共有に集中でき
 るよう、これらのハラスメント行為を許容しません。\
 niOSDC Reject Conference会場内だけでなく、iOSDC Reject Conferenc
 eの内容や状況についてブログやSNSなどで公開、コメン
 トなどいただく際にも、これらハラスメント行為がな
 いようご留意ください。\n万が一、ハラスメント行為
 を見聞きした参加者は、お手数ですがiOSDC Reject Conferenc
 eの窓口を行っている所（@akatsuki174）までご一報くださ
 い。場合によっては該当者の方には退出いただく可能
 性があります。\n諸注意\n\nReject Conferenceに2日とも参加
 したい方は1日目の参加登録も忘れずにお願いします。
 \nナレッジの共有、参加者同士の交流を目的としない
 参加はお断りしております。\n何か質問がある場合は@a
 katsuki174までお願いします。\n
LOCATION:株式会社ディー・エヌ・エー 21F 東京都渋谷区渋
 谷2-21-1 ヒカリエ21F
URL:https://techplay.jp/event/685945?utm_medium=referral&utm_source=ics&utm
 _campaign=ics
END:VEVENT
END:VCALENDAR
