BEGIN:VCALENDAR
VERSION:2.0
PRODID:-//https://techplay.jp//JP
CALSCALE:GREGORIAN
METHOD:PUBLISH
X-WR-CALDESC:【初心者向け】GitとGithub勉強会
X-WR-CALNAME:【初心者向け】GitとGithub勉強会
X-WR-TIMEZONE:Asia/Tokyo
BEGIN:VTIMEZONE
TZID:Asia/Tokyo
BEGIN:STANDARD
DTSTART:19700101T000000
TZOFFSETFROM:+0900
TZOFFSETTO:+0900
TZNAME:JST
END:STANDARD
END:VTIMEZONE
BEGIN:VEVENT
UID:686145@techplay.jp
SUMMARY:【初心者向け】GitとGithub勉強会
DTSTART;TZID=Asia/Tokyo:20180730T180000
DTEND;TZID=Asia/Tokyo:20180730T200000
DTSTAMP:20260421T070302Z
CREATED:20180720T100456Z
DESCRIPTION:イベント詳細はこちら\nhttps://techplay.jp/event/68614
 5?utm_medium=referral&utm_source=ics&utm_campaign=ics\n\n\nGitやGithub
 ってなんか聞いたことありません？\n今エンジニアの
 界隈では、めちゃめちゃアツいです。\n「コミット」
 「プッシュ」「コンフリクト」などなど、ワークショ
 ップで全て説明しちゃいます！\n\n六本木Weworkでお待ち
 しております〜！\n参加予約(無料)はこちらから => https
 ://www.eventbrite.com/e/gitgithub-tickets-48268819338\n\n\n\n当日の流
 れ\n・gitのインストール\n・repoの基礎(initなど)\n・マス
 ターにコミット\n・ブランチ(branch)とは？\n・GitHubでコ
 ードをプッシュしてみよう\n・チームのコラボレーシ
 ョンとプルリクエストとは？\n・おまけ：GitHubページ (
 https://pages.github.com)\n\n\n当日のタイムライン\n18:15 - ワ
 ークショップ開始\n19:15 - ネットワーキング開始\n\n\n\n
 必須条件\n・gitのインストールしたPCの持参 (https://git-s
 cm.com)\n・Githubのアカウント作成 (http://www.github.com)\n\n\n
 ーーーーーーーーーーーーーーーーーーーーーーーー
 ーーーーーーーーーーーーーーーーーーーーーーーー
 ーーーーーーー\nLe Wagon Tokyoのミートアップ情報はこち
 らから！ \nhttps://www.meetup.com/ja-JP/Le-Wagon-Tokyo-Coding-Station
 /\n\n
LOCATION:WeWork - 六本木アークヒルズサウス 16階 〒106-0032 
 東京都港区六本木 1-4-5 
URL:https://techplay.jp/event/686145?utm_medium=referral&utm_source=ics&utm
 _campaign=ics
END:VEVENT
END:VCALENDAR
