BEGIN:VCALENDAR
VERSION:2.0
PRODID:-//https://techplay.jp//JP
CALSCALE:GREGORIAN
METHOD:PUBLISH
X-WR-CALDESC:プログラミング道場 CoderDojo甲斐竜王 #5
X-WR-CALNAME:プログラミング道場 CoderDojo甲斐竜王 #5
X-WR-TIMEZONE:Asia/Tokyo
BEGIN:VTIMEZONE
TZID:Asia/Tokyo
BEGIN:STANDARD
DTSTART:19700101T000000
TZOFFSETFROM:+0900
TZOFFSETTO:+0900
TZNAME:JST
END:STANDARD
END:VTIMEZONE
BEGIN:VEVENT
UID:686572@techplay.jp
SUMMARY:プログラミング道場 CoderDojo甲斐竜王 #5
DTSTART;TZID=Asia/Tokyo:20180818T100000
DTEND;TZID=Asia/Tokyo:20180818T120000
DTSTAMP:20260423T011351Z
CREATED:20180723T020534Z
DESCRIPTION:イベント詳細はこちら\nhttps://techplay.jp/event/68657
 2?utm_medium=referral&utm_source=ics&utm_campaign=ics\n\nスケジュー
 ル\n\n\n10:00〜    入室・準備\n10:15〜    Coderdojo、コーダ
 ー道場甲斐竜王の説明\n10:25〜    各自でプログラミン
 グ\n11:35〜    発表・まとめ\n11:45     後片付け\n\n対象\n\n
 \n7歳から17歳のお子さん\n初心者大歓迎です。もちろん
 経験者も来てください。\n\n　※小学生は保護者の方と
 一緒に参加されることを推奨します。\n　　ただしお
 子さんの自主性を育みたいという観点から過度のアド
 バイス、手助けは控えていただきたいです。\n定員\n\n\
 n５名程度\n※先着順です。興味のある方は、お早めに
 お申し込みください\n\n参加費\n\n\n無料\n※会場までの
 交通費はご負担ください。\n\n内容\n\n\nこちらでは特に
 決めません。\n\nコーダー道場甲斐竜王では、子どもた
 ち自ら学ぶ姿勢を大切にします。\n何をしたいか、考
 えてきてください。\n（例：Scratchでゲームを作りたい
 、ロボットを動かしたい　など）\n最初は何をしたら
 良いのかわからない人もいるかもしれません。\nそん
 な人は、まずは「HOUR OF CODE」を体験してみるのがいい
 かもしれません。\nメンターもサポートします。\n持ち
 物\n\n\nやりたいことを決めてくる（Scratchで○○のゲー
 ムを作りたい　など）\nノートパソコン\n飲みもの\n\n
 事前に準備していただくこと\n\n\n当日持ってきていた
 だくノートパソコンで、やりたいことが動作する環境
 を準備してきてください。\n\nScratchであれば、インス
 トールしてきてください。\n　※インターネットにつ
 ながる環境はこちらで用意しますが\n　　正常に繋が
 らない時にオフラインで学習可能になります。\n事前
 予約\n\n\n事前予約が必要です。\nこちらのconnpassから予
 約するか、メールアドレス\n\ncoderdojokairyuo@gmail.com\nま
 でメールで事前予約をお願いします。\n公式Facebookペー
 ジ\n\n\nコーダー道場甲斐竜王Facebookページ\n\nこちらのF
 acebookページで随時情報更新しています。\nコーダー道
 場甲斐竜王って何？\n\n\nCoderDojo 甲斐竜王は、こどもの
 ためのプログラミングクラブです。\n\nみんなで集まっ
 てお互いに教えあったり、成果を発表しあったり、互
 いに刺激しあってレベルアップしていける、そんな場
 です。やりたいことは自分で見つけてください。\nみ
 んなでプログラミングを楽しみましょう！\n誰が運営
 しているの？\n\n\n山梨県甲斐市周辺に在住のボランテ
 ィアが運営しています。\n\nその他\n\n\n記録のために写
 真を撮影し、チラシ、Facebook等で使用する場合があり
 ます。\n顔出しNGの方は事前にお申し出ください。\n\n
 その他ご不明な点がありましたらお気軽に\ncoderdojokairy
 uo@gmail.com\nまでメールするか、コーダー道場甲斐竜王
 のFacebookページ からメッセージを送信してください。\
 n募集中\n\n\nコーダー道場甲斐竜王では、「メンター」
 を募集中です。\n\n「メンター」は、プログラミングに
 関するニンジャの相談にのり、一緒に考えたり楽しみ
 ながら、問題解決の手伝いをする大人のことです。メ
 ンターは「子どもの相手が苦痛でない人」が条件です
 。技術的なこと（Scratch等のツールに明るいこと）もあ
 ればなお良いですが、子どもたちと一緒に徐々に覚え
 ていくということでも問題ないと思います。
LOCATION:竜王中部公園セミナーハウス 甲斐市西八幡2660
URL:https://techplay.jp/event/686572?utm_medium=referral&utm_source=ics&utm
 _campaign=ics
END:VEVENT
END:VCALENDAR
