BEGIN:VCALENDAR
VERSION:2.0
PRODID:-//https://techplay.jp//JP
CALSCALE:GREGORIAN
METHOD:PUBLISH
X-WR-CALDESC:今から始めるITエンジニアのための機械学習勉
 強会　Vol7
X-WR-CALNAME:今から始めるITエンジニアのための機械学習勉
 強会　Vol7
X-WR-TIMEZONE:Asia/Tokyo
BEGIN:VTIMEZONE
TZID:Asia/Tokyo
BEGIN:STANDARD
DTSTART:19700101T000000
TZOFFSETFROM:+0900
TZOFFSETTO:+0900
TZNAME:JST
END:STANDARD
END:VTIMEZONE
BEGIN:VEVENT
UID:686574@techplay.jp
SUMMARY:今から始めるITエンジニアのための機械学習勉強
 会　Vol7
DTSTART;TZID=Asia/Tokyo:20180818T133000
DTEND;TZID=Asia/Tokyo:20180818T170000
DTSTAMP:20260423T101713Z
CREATED:20180723T020535Z
DESCRIPTION:イベント詳細はこちら\nhttps://techplay.jp/event/68657
 4?utm_medium=referral&utm_source=ics&utm_campaign=ics\n\n勉強会の内
 容\nこれまで\n\nVol.1　機械学習の概要，Pythonの文法，
 ランダムフォレストによる機械学習（ハンズオン）\nVo
 l.2　初等統計学と重回帰分析（ハンズオン）\nVol.3　ニ
 ューラルネットワーク，keras を用いた線形回帰分析（
 ハンズオン）\nVol.4　機械学習の概要（再），ニューラ
 ルネットワーク Playground，keras（ハンズオン）\nVol.5　20
 17年の振り返り，学習結果の評価指標：AUC（ROC曲線下
 面積）と閾値問題\nVol.6　画像データと特徴量\, CNN（畳
 み込み・プーリング etc）\n\nVol.7 の内容\n\n\n\n時間\nタ
 イトル\n発表者\n概要\n\n\n\n\n13:00\n開場\n-\n\n\n\n13:30〜\n
 メインセッション：（ML・DL まわりのタメになる話）\n
 熊本高専森下 功啓 さん\n※ Coming soon\n\n\n16:00頃〜\nL/T #
 1：（仮題）ココ最近の ML・DL ネタをまとめて…\nかご
 しま MiL:AI プロジェクト菊永 太志\n・Deep Analytics チャ
 レンジ報告・AWS + nvidia-docker を利用した推論エンジン
 高速化・JDLA G 検定：合格体験記w\n\n\n16:30頃〜\nL/T #2：
 （※募集中）\n\n\n\n\n17:00頃\n告知やお知らせ\n\n\n\n\n\n
 開催日程\n日時　：2018年8月18日（土）（開場 13:00）13:3
 0〜17:00（予定）\n場所　：シナプスホール（鹿児島市
 中央町6-1 シナプスビル3階）\n人数　：30名（先着方式
 ）\n参加費：（社会人）2\,000円／（学生）500円\n携行品
 ："python 3 環境構築済み"のノートPC\n【特記事項】\n\nか
 ごしまMiL:AIプロジェクトによる自主運営のため、お預
 かりする参加費は講師の交通費・謝礼・会場費に充当
 しています。\nハンズオンを実施致しますので、ご自
 身のPCを持参ください。（こちらではご用意できかね
 ます）\npython 3 環境の構築については下記リンクを参
 照のうえで事前に済ませてご参加ください。\n環境の
 作り方 for 鹿児島機械学習勉強会\n\n講師\n【プロフィ
 ール】\n\n森下 功啓（もりした・かつひろ）\n国立熊本
 高等専門学校 助教　工学博士\n（略歴）2013年に熊本大
 学大学院博士課程を修了。専門は衛星測位\, 電子回路\
 , 環境計測。熊本大学では野生動物の追跡システムを
 開発し、趣味で野鳥の鳴き声を基に鳥の種類を当てる
 プログラムを作成した。現在は主にIoT関連の研究の傍
 ら阿蘇の雲海発生を予想する「うんかいったー」をTwit
 ter上でリリースしている。 休日は読書か研究か自宅の
 掃除かIT系の勉強会に参加しながら過ごしている。\n\n
 主催者からのメッセージ\nこの勉強会はかごしまMiL:AI
 （みらい）プロジェクトが主催しています。\n【活動
 方針】\n\n鹿児島（かごしま）地域における\n無機的な
 機械学習（Machine Learning）の中にも愛（i）を持たせた\n
 人工知能（Artificial Intelligence）の創出と利活用の推進\n
 \n毎回新しい参加者がいらっしゃることを前提にして
 おりますので途中からの参加でも大歓迎です。\nまた
 、勉強会終了時間を17:00としていますが、森下先生が
 時間の許す限り交流してくださるとのことですので、
 日頃から興味を持っている方はぜひぜひご参加下さい
 ！\nなお、勉強会は現在のところ隔月での開催です。
LOCATION:シナプスホール 鹿児島県鹿児島市中央町6-1　シ
 ナプスビル3階
URL:https://techplay.jp/event/686574?utm_medium=referral&utm_source=ics&utm
 _campaign=ics
END:VEVENT
END:VCALENDAR
