BEGIN:VCALENDAR
VERSION:2.0
PRODID:-//https://techplay.jp//JP
CALSCALE:GREGORIAN
METHOD:PUBLISH
X-WR-CALDESC:ガチラボ #07
X-WR-CALNAME:ガチラボ #07
X-WR-TIMEZONE:Asia/Tokyo
BEGIN:VTIMEZONE
TZID:Asia/Tokyo
BEGIN:STANDARD
DTSTART:19700101T000000
TZOFFSETFROM:+0900
TZOFFSETTO:+0900
TZNAME:JST
END:STANDARD
END:VTIMEZONE
BEGIN:VEVENT
UID:686977@techplay.jp
SUMMARY:ガチラボ #07
DTSTART;TZID=Asia/Tokyo:20180801T180000
DTEND;TZID=Asia/Tokyo:20180801T210000
DTSTAMP:20260421T234409Z
CREATED:20180724T210500Z
DESCRIPTION:イベント詳細はこちら\nhttps://techplay.jp/event/68697
 7?utm_medium=referral&utm_source=ics&utm_campaign=ics\n\nガチラボ\nKu
 maMCN唯一のガチ勢（一人だから勢じゃないけど）のガ
 チ本による、次のガチ勢を養成するガチ勉強会。 \nガ
 チラボでは、MCNっぽいことをやって30cm先の未来を目指
 します。\nキーワードは、3D処理、SLAM/SfM、自律ロボッ
 ト、xR(AR/VR/MR)、画像処理、コンピュータビジョン、イ
 ンタラクションなど。\n\n\n内容\n内容はFBページからご
 確認ください\nhttps://www.facebook.com/groups/gachilab/\n\n事前
 に準備しておく環境\n■ VRChat開発 \n- Unity 5.6.3p1 \n- VRCha
 t SDK \n- Steam \n- Blender 2.79b \n■ HoloLens\, WinMRアプリ開発 \
 n- Unity 2017.2.2p2 \nhttps://unity3d.com/jp/unity/qa/patch-releases/2017
 .2.2p2 \nWindows Store .NET Scripting Backend にチェック \n- HoloToo
 lkit-Unity-2017.4.0.0.unitypackage \n- HoloToolkit-Unity-Examples-2017.4.
 0.0.unitypackage \nhttps://github.com/Microsoft/MixedRealityToolkit-Unity
 /releases \n- Visual Studio 2017 (15.7.3) \nユニバーサルWindowsプ
 ラットフォーム開発\, Unityによるゲーム開発にチェッ
 ク \n- Windows 10 SDK (10.0.17134.0) \n- Windows 10 April 2018 Update \n
 (必須ではないです)\n- MRDesignLabs_Unity\nmasterをGitでイン
 ストール\n★インストールチェックリストはこちら \nht
 tps://docs.microsoft.com/ja-jp/windows/mixed-reality/install-the-tools#in
 stallation_checklist_for_hololens \nその他\n■ 3Dスキャン体験
 （事前に予約が必要です）\n- ダウンロード(1モデル 100
 0円)\n- リグ入れ(1モデル 30000円)\n■ 詳細や交流にはFB
 グループがあります。\nhttps://www.facebook.com/groups/gachilab/
 \n\n\n詳細\n\n\n\n\n\n\n\n\n\n日程\n18:00 - 21:00\n\n\n会場費\n500
 円\n\n\n\n監督：藤本 賢志（ガチ本）\n高専で制御を学
 び、大学でセンシングを学び、次は脳みそ。ロボット
 のSLAM技術に関する研究やMRのアプリ開発をしています
 。KumaMCN co-founder\nhttps://www.facebook.com/satoshi.gachi.fujimoto\n\
 n基本ルール\n\nお子様連れの場合、保護者様の責任に
 おいて、お子様の安全と他参加者様との良好な環境づ
 くりをお願いいたします。\n公序良俗に反する行為は
 禁止です。\n
LOCATION:えきまえスペース 熊本県熊本市西区春日2-3-1(牧
 野ビル1F)
URL:https://techplay.jp/event/686977?utm_medium=referral&utm_source=ics&utm
 _campaign=ics
END:VEVENT
END:VCALENDAR
